Back to Multiple platform build/check report for BioC 3.14
[A]BCDEFGHIJKLMNOPQRSTUVWXYZ

This page was generated on 2021-10-26 14:07:39 -0400 (Tue, 26 Oct 2021).

CHECK results for AUCell on merida1

To the developers/maintainers of the AUCell package:
- Please allow up to 24 hours (and sometimes 48 hours) for your latest push to git@git.bioconductor.org:packages/AUCell.git to
reflect on this report. See How and When does the builder pull? When will my changes propagate? here for more information.
- Make sure to use the following settings in order to reproduce any error or warning you see on this page.

raw results

Package 98/2083HostnameOS / ArchINSTALLBUILDCHECKBUILD BIN
AUCell 1.15.0  (landing page)
Sara Aibar
Snapshot Date: 2021-10-25 14:50:11 -0400 (Mon, 25 Oct 2021)
git_url: https://git.bioconductor.org/packages/AUCell
git_branch: master
git_last_commit: 82eea52
git_last_commit_date: 2021-05-19 12:30:20 -0400 (Wed, 19 May 2021)
nebbiolo2Linux (Ubuntu 20.04.2 LTS) / x86_64  OK    OK    OK  UNNEEDED, same version is already published
riesling1Windows Server 2019 Standard / x64  OK    OK    OK    OK  UNNEEDED, same version is already published
merida1macOS 10.14.6 Mojave / x86_64  OK    OK    OK    OK  UNNEEDED, same version is already published
machv2macOS 10.14.6 Mojave / x86_64  OK    OK    OK    OK  

Summary

Package: AUCell
Version: 1.15.0
Command: /Library/Frameworks/R.framework/Resources/bin/R CMD check --install=check:AUCell.install-out.txt --library=/Library/Frameworks/R.framework/Resources/library --no-vignettes --timings AUCell_1.15.0.tar.gz
StartedAt: 2021-10-26 00:45:36 -0400 (Tue, 26 Oct 2021)
EndedAt: 2021-10-26 00:50:48 -0400 (Tue, 26 Oct 2021)
EllapsedTime: 311.8 seconds
RetCode: 0
Status:   OK  
CheckDir: AUCell.Rcheck
Warnings: 0

Command output

##############################################################################
##############################################################################
###
### Running command:
###
###   /Library/Frameworks/R.framework/Resources/bin/R CMD check --install=check:AUCell.install-out.txt --library=/Library/Frameworks/R.framework/Resources/library --no-vignettes --timings AUCell_1.15.0.tar.gz
###
##############################################################################
##############################################################################


* using log directory ‘/Users/biocbuild/bbs-3.14-bioc/meat/AUCell.Rcheck’
* using R version 4.1.1 Patched (2021-08-22 r80813)
* using platform: x86_64-apple-darwin17.0 (64-bit)
* using session charset: UTF-8
* using option ‘--no-vignettes’
* checking for file ‘AUCell/DESCRIPTION’ ... OK
* checking extension type ... Package
* this is package ‘AUCell’ version ‘1.15.0’
* checking package namespace information ... OK
* checking package dependencies ... OK
* checking if this is a source package ... OK
* checking if there is a namespace ... OK
* checking for hidden files and directories ... OK
* checking for portable file names ... OK
* checking for sufficient/correct file permissions ... OK
* checking whether package ‘AUCell’ can be installed ... OK
* checking installed package size ... NOTE
  installed size is  5.1Mb
  sub-directories of 1Mb or more:
    doc   4.3Mb
* checking package directory ... OK
* checking ‘build’ directory ... OK
* checking DESCRIPTION meta-information ... OK
* checking top-level files ... OK
* checking for left-over files ... OK
* checking index information ... OK
* checking package subdirectories ... OK
* checking R files for non-ASCII characters ... OK
* checking R files for syntax errors ... OK
* checking whether the package can be loaded ... OK
* checking whether the package can be loaded with stated dependencies ... OK
* checking whether the package can be unloaded cleanly ... OK
* checking whether the namespace can be loaded with stated dependencies ... OK
* checking whether the namespace can be unloaded cleanly ... OK
* checking dependencies in R code ... NOTE
Namespace in Imports field not imported from: ‘S4Vectors’
  All declared Imports should be used.
* checking S3 generic/method consistency ... OK
* checking replacement functions ... OK
* checking foreign function calls ... OK
* checking R code for possible problems ... NOTE
AUCell_createViewerApp : <anonymous>: no visible global function
  definition for ‘%>%’
AUCell_createViewerApp : <anonymous>: no visible binding for global
  variable ‘tsne1’
AUCell_createViewerApp : <anonymous>: no visible binding for global
  variable ‘tsne2’
AUCell_createViewerApp : <anonymous>: no visible binding for global
  variable ‘cell’
plotEmb_rgb : <anonymous>: no visible global function definition for
  ‘rgb’
Undefined global functions or variables:
  %>% cell rgb tsne1 tsne2
Consider adding
  importFrom("grDevices", "rgb")
to your NAMESPACE file.
* checking Rd files ... OK
* checking Rd metadata ... OK
* checking Rd cross-references ... OK
* checking for missing documentation entries ... OK
* checking for code/documentation mismatches ... OK
* checking Rd \usage sections ... OK
* checking Rd contents ... OK
* checking for unstated dependencies in examples ... OK
* checking installed files from ‘inst/doc’ ... OK
* checking files in ‘vignettes’ ... OK
* checking examples ... OK
* checking for unstated dependencies in ‘tests’ ... OK
* checking tests ...
  Running ‘testthat.R’
 OK
* checking for unstated dependencies in vignettes ... OK
* checking package vignettes in ‘inst/doc’ ... OK
* checking running R code from vignettes ... SKIPPED
* checking re-building of vignette outputs ... SKIPPED
* checking PDF version of manual ... OK
* DONE

Status: 3 NOTEs
See
  ‘/Users/biocbuild/bbs-3.14-bioc/meat/AUCell.Rcheck/00check.log’
for details.



Installation output

AUCell.Rcheck/00install.out

##############################################################################
##############################################################################
###
### Running command:
###
###   /Library/Frameworks/R.framework/Resources/bin/R CMD INSTALL AUCell
###
##############################################################################
##############################################################################


* installing to library ‘/Library/Frameworks/R.framework/Versions/4.1/Resources/library’
* installing *source* package ‘AUCell’ ...
** using staged installation
** R
** inst
** byte-compile and prepare package for lazy loading
** help
*** installing help indices
** building package indices
** installing vignettes
   ‘AUCell.Rmd’ using ‘UTF-8’ 
** testing if installed package can be loaded from temporary location
** testing if installed package can be loaded from final location
** testing if installed package keeps a record of temporary installation path
* DONE (AUCell)

Tests output

AUCell.Rcheck/tests/testthat.Rout


R version 4.1.1 Patched (2021-08-22 r80813) -- "Kick Things"
Copyright (C) 2021 The R Foundation for Statistical Computing
Platform: x86_64-apple-darwin17.0 (64-bit)

R is free software and comes with ABSOLUTELY NO WARRANTY.
You are welcome to redistribute it under certain conditions.
Type 'license()' or 'licence()' for distribution details.

R is a collaborative project with many contributors.
Type 'contributors()' for more information and
'citation()' on how to cite R or R packages in publications.

Type 'demo()' for some demos, 'help()' for on-line help, or
'help.start()' for an HTML browser interface to help.
Type 'q()' to quit R.

> library(testthat)
> library(AUCell)
> 
> test_check("AUCell")
 min   1%   5%  10%  50% 100% 
   3    5    6    7   10   16 
 min   1%   5%  10%  50% 100% 
   3    5    6    7   10   16 
[ FAIL 0 | WARN 0 | SKIP 0 | PASS 42 ]
> 
> proc.time()
   user  system elapsed 
 27.550   1.562  29.096 

Example timings

AUCell.Rcheck/AUCell-Ex.timings

nameusersystemelapsed
AUCell_buildRankings1.0680.0601.129
AUCell_calcAUC2.7540.0722.830
AUCell_createViewerApp4.0960.5694.673
AUCell_exploreThresholds3.6060.1813.791
AUCell_plotHist1.0090.0051.017
AUCell_plotTSNE1.3190.0091.330
GeneSet-methods0.2710.0110.282
aucellResults-class2.1200.0102.134
orderAUC0.0000.0000.001
plotGeneCount0.0050.0010.006
plotTsne_cellProps1.3550.0681.427
updateAucellResults0.0970.0090.107