Back to Multiple platform build/check report for BioC 3.14
[A]BCDEFGHIJKLMNOPQRSTUVWXYZ

This page was generated on 2021-11-26 15:05:42 -0500 (Fri, 26 Nov 2021).

BUILD results for AUCell on machv2

To the developers/maintainers of the AUCell package:
- Please allow up to 24 hours (and sometimes 48 hours) for your latest push to git@git.bioconductor.org:packages/AUCell.git to
reflect on this report. See How and When does the builder pull? When will my changes propagate? here for more information.
- Make sure to use the following settings in order to reproduce any error or warning you see on this page.

raw results

Package 98/2083HostnameOS / ArchINSTALLBUILDCHECKBUILD BIN
AUCell 1.16.0  (landing page)
Sara Aibar
Snapshot Date: 2021-11-25 04:15:05 -0500 (Thu, 25 Nov 2021)
git_url: https://git.bioconductor.org/packages/AUCell
git_branch: RELEASE_3_14
git_last_commit: dfde2b6
git_last_commit_date: 2021-10-26 12:38:06 -0500 (Tue, 26 Oct 2021)
nebbiolo2Linux (Ubuntu 20.04.3 LTS) / x86_64  OK    OK    OK  UNNEEDED, same version is already published
tokay2Windows Server 2012 R2 Standard / x64  OK    ERROR  skippedskipped
machv2macOS 10.14.6 Mojave / x86_64  OK    OK    OK    OK  UNNEEDED, same version is already published

Summary

Package: AUCell
Version: 1.16.0
Command: /Library/Frameworks/R.framework/Resources/bin/R CMD build --keep-empty-dirs --no-resave-data AUCell
StartedAt: 2021-11-25 07:49:09 -0500 (Thu, 25 Nov 2021)
EndedAt: 2021-11-25 07:51:35 -0500 (Thu, 25 Nov 2021)
EllapsedTime: 145.4 seconds
RetCode: 0
Status:   OK  
PackageFile: AUCell_1.16.0.tar.gz
PackageFileSize: 1.716 MiB

Command output

##############################################################################
##############################################################################
###
### Running command:
###
###   /Library/Frameworks/R.framework/Resources/bin/R CMD build --keep-empty-dirs --no-resave-data AUCell
###
##############################################################################
##############################################################################


* checking for file ‘AUCell/DESCRIPTION’ ... OK
* preparing ‘AUCell’:
* checking DESCRIPTION meta-information ... OK
* installing the package to build vignettes
* creating vignettes ... OK
Warning: ‘inst/doc’ file
    ‘AUCell.html’
  ignored as vignettes have been rebuilt.
  Run R CMD build with --no-build-vignettes to prevent rebuilding.
* checking for LF line-endings in source and make files and shell scripts
* checking for empty or unneeded directories
Omitted ‘LazyData’ from DESCRIPTION
* building ‘AUCell_1.16.0.tar.gz’