Back to Multiple platform build/check report for BioC 3.14
[A]BCDEFGHIJKLMNOPQRSTUVWXYZ

This page was generated on 2021-10-20 12:05:00 -0400 (Wed, 20 Oct 2021).

BUILD results for ATACseqQC on riesling1

To the developers/maintainers of the ATACseqQC package:
- Please allow up to 24 hours (and sometimes 48 hours) for your latest push to git@git.bioconductor.org:packages/ATACseqQC.git to
reflect on this report. See How and When does the builder pull? When will my changes propagate? here for more information.
- Make sure to use the following settings in order to reproduce any error or warning you see on this page.

raw results

Package 94/2072HostnameOS / ArchINSTALLBUILDCHECKBUILD BIN
ATACseqQC 1.17.1  (landing page)
Jianhong Ou
Snapshot Date: 2021-10-19 14:50:04 -0400 (Tue, 19 Oct 2021)
git_url: https://git.bioconductor.org/packages/ATACseqQC
git_branch: master
git_last_commit: 165e0bf
git_last_commit_date: 2021-10-08 14:01:07 -0400 (Fri, 08 Oct 2021)
nebbiolo2Linux (Ubuntu 20.04.2 LTS) / x86_64  OK    OK    OK  UNNEEDED, same version is already published
riesling1Windows Server 2019 Standard / x64  OK    OK    OK    OK  UNNEEDED, same version is already published
merida1macOS 10.14.6 Mojave / x86_64  OK    OK    OK    OK  UNNEEDED, same version is already published

Summary

Package: ATACseqQC
Version: 1.17.1
Command: chmod a+r ATACseqQC -R && D:\biocbuild\bbs-3.14-bioc\R\bin\R.exe CMD build --keep-empty-dirs --no-resave-data ATACseqQC
StartedAt: 2021-10-19 19:46:25 -0400 (Tue, 19 Oct 2021)
EndedAt: 2021-10-19 19:51:12 -0400 (Tue, 19 Oct 2021)
EllapsedTime: 286.2 seconds
RetCode: 0
Status:   OK  
PackageFile: ATACseqQC_1.17.1.tar.gz
PackageFileSize: 12.54 MiB

Command output

##############################################################################
##############################################################################
###
### Running command:
###
###   chmod a+r ATACseqQC -R && D:\biocbuild\bbs-3.14-bioc\R\bin\R.exe CMD build --keep-empty-dirs --no-resave-data ATACseqQC
###
##############################################################################
##############################################################################


* checking for file 'ATACseqQC/DESCRIPTION' ... OK
* preparing 'ATACseqQC':
* checking DESCRIPTION meta-information ... OK
* installing the package to build vignettes
* creating vignettes ... OK
* checking for LF line-endings in source and make files and shell scripts
* checking for empty or unneeded directories
Omitted 'LazyData' from DESCRIPTION
* building 'ATACseqQC_1.17.1.tar.gz'