Back to Multiple platform build/check report for BioC 3.14
[A]BCDEFGHIJKLMNOPQRSTUVWXYZ

This page was generated on 2021-10-23 14:06:18 -0400 (Sat, 23 Oct 2021).

CHECK results for ASpli on riesling1

To the developers/maintainers of the ASpli package:
- Please allow up to 24 hours (and sometimes 48 hours) for your latest push to git@git.bioconductor.org:packages/ASpli.git to
reflect on this report. See How and When does the builder pull? When will my changes propagate? here for more information.
- Make sure to use the following settings in order to reproduce any error or warning you see on this page.

raw results

Package 90/2083HostnameOS / ArchINSTALLBUILDCHECKBUILD BIN
ASpli 2.3.1  (landing page)
Estefania Mancini
Snapshot Date: 2021-10-22 14:50:11 -0400 (Fri, 22 Oct 2021)
git_url: https://git.bioconductor.org/packages/ASpli
git_branch: master
git_last_commit: afabc60
git_last_commit_date: 2021-05-25 21:35:34 -0400 (Tue, 25 May 2021)
nebbiolo2Linux (Ubuntu 20.04.2 LTS) / x86_64  OK    OK    OK  UNNEEDED, same version is already published
riesling1Windows Server 2019 Standard / x64  OK    OK    OK    OK  UNNEEDED, same version is already published
merida1macOS 10.14.6 Mojave / x86_64  OK    OK    OK    OK  UNNEEDED, same version is already published

Summary

Package: ASpli
Version: 2.3.1
Command: D:\biocbuild\bbs-3.14-bioc\R\bin\R.exe CMD check --force-multiarch --install=check:ASpli.install-out.txt --library=D:\biocbuild\bbs-3.14-bioc\R\library --no-vignettes --timings ASpli_2.3.1.tar.gz
StartedAt: 2021-10-23 04:57:08 -0400 (Sat, 23 Oct 2021)
EndedAt: 2021-10-23 05:16:30 -0400 (Sat, 23 Oct 2021)
EllapsedTime: 1161.9 seconds
RetCode: 0
Status:   OK  
CheckDir: ASpli.Rcheck
Warnings: 0

Command output

##############################################################################
##############################################################################
###
### Running command:
###
###   D:\biocbuild\bbs-3.14-bioc\R\bin\R.exe CMD check --force-multiarch --install=check:ASpli.install-out.txt --library=D:\biocbuild\bbs-3.14-bioc\R\library --no-vignettes --timings ASpli_2.3.1.tar.gz
###
##############################################################################
##############################################################################


* using log directory 'D:/biocbuild/bbs-3.14-bioc/meat/ASpli.Rcheck'
* using R version 4.1.1 (2021-08-10)
* using platform: x86_64-w64-mingw32 (64-bit)
* using session charset: ISO8859-1
* using option '--no-vignettes'
* checking for file 'ASpli/DESCRIPTION' ... OK
* checking extension type ... Package
* this is package 'ASpli' version '2.3.1'
* checking package namespace information ... OK
* checking package dependencies ... OK
* checking if this is a source package ... OK
* checking if there is a namespace ... OK
* checking for hidden files and directories ... OK
* checking for portable file names ... OK
* checking whether package 'ASpli' can be installed ... OK
* checking installed package size ... OK
* checking package directory ... OK
* checking 'build' directory ... OK
* checking DESCRIPTION meta-information ... OK
* checking top-level files ... OK
* checking for left-over files ... OK
* checking index information ... OK
* checking package subdirectories ... OK
* checking R files for non-ASCII characters ... OK
* checking R files for syntax errors ... OK
* loading checks for arch 'i386'
** checking whether the package can be loaded ... OK
** checking whether the package can be loaded with stated dependencies ... OK
** checking whether the package can be unloaded cleanly ... OK
** checking whether the namespace can be loaded with stated dependencies ... OK
** checking whether the namespace can be unloaded cleanly ... OK
* loading checks for arch 'x64'
** checking whether the package can be loaded ... OK
** checking whether the package can be loaded with stated dependencies ... OK
** checking whether the package can be unloaded cleanly ... OK
** checking whether the namespace can be loaded with stated dependencies ... OK
** checking whether the namespace can be unloaded cleanly ... OK
* checking dependencies in R code ... OK
* checking S3 generic/method consistency ... OK
* checking replacement functions ... OK
* checking foreign function calls ... OK
* checking R code for possible problems ... OK
* checking Rd files ... OK
* checking Rd metadata ... OK
* checking Rd cross-references ... OK
* checking for missing documentation entries ... OK
* checking for code/documentation mismatches ... OK
* checking Rd \usage sections ... OK
* checking Rd contents ... OK
* checking for unstated dependencies in examples ... OK
* checking installed files from 'inst/doc' ... OK
* checking files in 'vignettes' ... OK
* checking examples ...
** running examples for arch 'i386' ... OK
Examples with CPU (user + system) or elapsed time > 5s
                         user system elapsed
ASpli-package           79.35   0.08   79.42
exportIntegratedSignals 42.55   0.14   42.69
exportSplicingReports   42.46   0.14   42.61
integrateSignals        41.96   0.02   41.97
splicingReport          41.48   0.03   41.52
jCounts-methods         41.21   0.00   41.22
jDUreport               41.07   0.00   41.06
gbDUreport-method       36.34   0.00   36.34
gbCounts                35.99   0.03   36.01
** running examples for arch 'x64' ... OK
Examples with CPU (user + system) or elapsed time > 5s
                         user system elapsed
ASpli-package           95.25   0.06   95.32
jCounts-methods         50.36   0.04   50.40
exportIntegratedSignals 49.64   0.06   49.71
exportSplicingReports   49.40   0.09   49.50
integrateSignals        49.43   0.05   49.49
splicingReport          49.12   0.00   49.12
jDUreport               48.53   0.02   48.55
gbDUreport-method       44.00   0.00   44.00
gbCounts                42.57   0.05   42.62
* checking for unstated dependencies in vignettes ... OK
* checking package vignettes in 'inst/doc' ... OK
* checking running R code from vignettes ... SKIPPED
* checking re-building of vignette outputs ... SKIPPED
* checking PDF version of manual ... OK
* DONE

Status: OK


Installation output

ASpli.Rcheck/00install.out

##############################################################################
##############################################################################
###
### Running command:
###
###   C:\cygwin\bin\curl.exe -O http://155.52.207.166/BBS/3.14/bioc/src/contrib/ASpli_2.3.1.tar.gz && rm -rf ASpli.buildbin-libdir && mkdir ASpli.buildbin-libdir && D:\biocbuild\bbs-3.14-bioc\R\bin\R.exe CMD INSTALL --merge-multiarch --build --library=ASpli.buildbin-libdir ASpli_2.3.1.tar.gz && D:\biocbuild\bbs-3.14-bioc\R\bin\R.exe CMD INSTALL ASpli_2.3.1.zip && rm ASpli_2.3.1.tar.gz ASpli_2.3.1.zip
###
##############################################################################
##############################################################################


  % Total    % Received % Xferd  Average Speed   Time    Time     Time  Current
                                 Dload  Upload   Total   Spent    Left  Speed

  0     0    0     0    0     0      0      0 --:--:-- --:--:-- --:--:--     0
100 4893k  100 4893k    0     0  7206k      0 --:--:-- --:--:-- --:--:-- 7206k

install for i386

* installing *source* package 'ASpli' ...
** using staged installation
** R
** inst
** byte-compile and prepare package for lazy loading
** help
*** installing help indices
  converting help for package 'ASpli'
    finding HTML links ... done
    ASpli-deprecated                        html  
    ASpli-package                           html  
    ASpliAS-class                           html  
    ASpliCounts-class                       html  
    ASpliCounts                             html  
    ASpliDU-class                           html  
    ASpliFeatures-class                     html  
    ASpliIntegratedSignals-class            html  
    ASpliJDU-class                          html  
    ASpliSplicingReport-class               html  
    DUreport                                html  
    finding level-2 HTML links ... done

    DUreport.norm                           html  
    DUreport.offset                         html  
    DUreportBinSplice-method                html  
    acc_AS                                  html  
    acc_DU                                  html  
    acc_JDU                                 html  
    acc_MergedReport                        html  
    acc_counts                              html  
    acc_features                            html  
    acc_is                                  html  
    binGenome-methods                       html  
    binGenome                               html  
    containsJunctions-function              html  
    example_data                            html  
    exportIntegratedSignals                 html  
    exportSplicingReports                   html  
    filterDU-method                         html  
    filterSignals                           html  
    gbCounts                                html  
    gbDUreport-method                       html  
    getConditions-function                  html  
    integrateSignals                        html  
    jCounts-methods                         html  
    jDUreport                               html  
    junctionDUreport                        html  
    loadBAM                                 html  
    mergeBinDUAS-method                     html  
    plotBins                                html  
    plotGenomicRegions                      html  
    rds                                     html  
    show-methods                            html  
    splicingReport                          html  
    subset-methods                          html  
    write-methods                           html  
    write                                   html  
** building package indices
** installing vignettes
** testing if installed package can be loaded from temporary location
** testing if installed package can be loaded from final location
** testing if installed package keeps a record of temporary installation path

install for x64

* installing *source* package 'ASpli' ...
** testing if installed package can be loaded
* MD5 sums
packaged installation of 'ASpli' as ASpli_2.3.1.zip
* DONE (ASpli)
* installing to library 'D:/biocbuild/bbs-3.14-bioc/R/library'
package 'ASpli' successfully unpacked and MD5 sums checked

Tests output


Example timings

ASpli.Rcheck/examples_i386/ASpli-Ex.timings

nameusersystemelapsed
ASpli-package79.35 0.0879.42
DUreport000
DUreport.norm000
DUreport.offset000
DUreportBinSplice-method000
acc_AS000
acc_DU000
acc_counts000
acc_features0.140.000.14
binGenome2.410.002.40
containsJunctions-function000
example_data000
exportIntegratedSignals42.55 0.1442.69
exportSplicingReports42.46 0.1442.61
filterDU-method000
filterSignals0.000.010.02
gbCounts35.99 0.0336.01
gbDUreport-method36.34 0.0036.34
getConditions-function000
integrateSignals41.96 0.0241.97
jCounts-methods41.21 0.0041.22
jDUreport41.07 0.0041.06
junctionDUreport000
loadBAM000
mergeBinDUAS-method000
plotBins000
plotGenomicRegions000
rds000
splicingReport41.48 0.0341.52
subset-methods000

ASpli.Rcheck/examples_x64/ASpli-Ex.timings

nameusersystemelapsed
ASpli-package95.25 0.0695.32
DUreport000
DUreport.norm000
DUreport.offset000
DUreportBinSplice-method000
acc_AS000
acc_DU000
acc_counts000
acc_features0.160.000.16
binGenome2.750.002.75
containsJunctions-function000
example_data000
exportIntegratedSignals49.64 0.0649.71
exportSplicingReports49.40 0.0949.50
filterDU-method000
filterSignals000
gbCounts42.57 0.0542.62
gbDUreport-method44 044
getConditions-function000
integrateSignals49.43 0.0549.49
jCounts-methods50.36 0.0450.40
jDUreport48.53 0.0248.55
junctionDUreport000
loadBAM000
mergeBinDUAS-method000
plotBins000
plotGenomicRegions000
rds000
splicingReport49.12 0.0049.12
subset-methods000