Back to Multiple platform build/check report for BioC 3.14
[A]BCDEFGHIJKLMNOPQRSTUVWXYZ

This page was generated on 2021-10-22 12:04:18 -0400 (Fri, 22 Oct 2021).

BUILD BIN results for ASpli on riesling1

To the developers/maintainers of the ASpli package:
- Please allow up to 24 hours (and sometimes 48 hours) for your latest push to git@git.bioconductor.org:packages/ASpli.git to
reflect on this report. See How and When does the builder pull? When will my changes propagate? here for more information.
- Make sure to use the following settings in order to reproduce any error or warning you see on this page.

raw results

Package 90/2075HostnameOS / ArchINSTALLBUILDCHECKBUILD BIN
ASpli 2.3.1  (landing page)
Estefania Mancini
Snapshot Date: 2021-10-21 14:50:08 -0400 (Thu, 21 Oct 2021)
git_url: https://git.bioconductor.org/packages/ASpli
git_branch: master
git_last_commit: afabc60
git_last_commit_date: 2021-05-25 21:35:34 -0400 (Tue, 25 May 2021)
nebbiolo2Linux (Ubuntu 20.04.2 LTS) / x86_64  OK    OK    OK  UNNEEDED, same version is already published
riesling1Windows Server 2019 Standard / x64  OK    OK    OK    OK  UNNEEDED, same version is already published
merida1macOS 10.14.6 Mojave / x86_64  OK    OK    OK    OK  UNNEEDED, same version is already published

Summary

Package: ASpli
Version: 2.3.1
Command: rm -rf ASpli.buildbin-libdir && mkdir ASpli.buildbin-libdir && D:\biocbuild\bbs-3.14-bioc\R\bin\R.exe CMD INSTALL --merge-multiarch --build --library=ASpli.buildbin-libdir ASpli_2.3.1.tar.gz
StartedAt: 2021-10-22 04:25:12 -0400 (Fri, 22 Oct 2021)
EndedAt: 2021-10-22 04:29:14 -0400 (Fri, 22 Oct 2021)
EllapsedTime: 241.4 seconds
RetCode: 0
Status:   OK  
PackageFile: ASpli_2.3.1.zip
PackageFileSize: 3.325 MiB

Command output

##############################################################################
##############################################################################
###
### Running command:
###
###   rm -rf ASpli.buildbin-libdir && mkdir ASpli.buildbin-libdir && D:\biocbuild\bbs-3.14-bioc\R\bin\R.exe CMD INSTALL --merge-multiarch --build --library=ASpli.buildbin-libdir ASpli_2.3.1.tar.gz
###
##############################################################################
##############################################################################



install for i386

* installing *source* package 'ASpli' ...
** using staged installation
** R
** inst
** byte-compile and prepare package for lazy loading
** help
*** installing help indices
  converting help for package 'ASpli'
    finding HTML links ... done
    ASpli-deprecated                        html  
    ASpli-package                           html  
    ASpliAS-class                           html  
    ASpliCounts-class                       html  
    ASpliCounts                             html  
    ASpliDU-class                           html  
    ASpliFeatures-class                     html  
    ASpliIntegratedSignals-class            html  
    ASpliJDU-class                          html  
    ASpliSplicingReport-class               html  
    DUreport                                html  
    finding level-2 HTML links ... done

    DUreport.norm                           html  
    DUreport.offset                         html  
    DUreportBinSplice-method                html  
    acc_AS                                  html  
    acc_DU                                  html  
    acc_JDU                                 html  
    acc_MergedReport                        html  
    acc_counts                              html  
    acc_features                            html  
    acc_is                                  html  
    binGenome-methods                       html  
    binGenome                               html  
    containsJunctions-function              html  
    example_data                            html  
    exportIntegratedSignals                 html  
    exportSplicingReports                   html  
    filterDU-method                         html  
    filterSignals                           html  
    gbCounts                                html  
    gbDUreport-method                       html  
    getConditions-function                  html  
    integrateSignals                        html  
    jCounts-methods                         html  
    jDUreport                               html  
    junctionDUreport                        html  
    loadBAM                                 html  
    mergeBinDUAS-method                     html  
    plotBins                                html  
    plotGenomicRegions                      html  
    rds                                     html  
    show-methods                            html  
    splicingReport                          html  
    subset-methods                          html  
    write-methods                           html  
    write                                   html  
** building package indices
** installing vignettes
** testing if installed package can be loaded from temporary location
** testing if installed package can be loaded from final location
** testing if installed package keeps a record of temporary installation path

install for x64

* installing *source* package 'ASpli' ...
** testing if installed package can be loaded
* MD5 sums
packaged installation of 'ASpli' as ASpli_2.3.1.zip
* DONE (ASpli)