Back to Multiple platform build/check report for BioC 3.14
[A]BCDEFGHIJKLMNOPQRSTUVWXYZ

This page was generated on 2021-10-20 12:05:33 -0400 (Wed, 20 Oct 2021).

INSTALL results for ASpediaFI on merida1

To the developers/maintainers of the ASpediaFI package:
- Please allow up to 24 hours (and sometimes 48 hours) for your latest push to git@git.bioconductor.org:packages/ASpediaFI.git to
reflect on this report. See How and When does the builder pull? When will my changes propagate? here for more information.
- Make sure to use the following settings in order to reproduce any error or warning you see on this page.

raw results

Package 89/2072HostnameOS / ArchINSTALLBUILDCHECKBUILD BIN
ASpediaFI 1.7.0  (landing page)
Doyeong Yu
Snapshot Date: 2021-10-19 14:50:04 -0400 (Tue, 19 Oct 2021)
git_url: https://git.bioconductor.org/packages/ASpediaFI
git_branch: master
git_last_commit: a2083d2
git_last_commit_date: 2021-05-19 12:47:16 -0400 (Wed, 19 May 2021)
nebbiolo2Linux (Ubuntu 20.04.2 LTS) / x86_64  OK    OK    OK  UNNEEDED, same version is already published
riesling1Windows Server 2019 Standard / x64  OK    OK    OK    OK  UNNEEDED, same version is already published
merida1macOS 10.14.6 Mojave / x86_64  OK    OK    OK    OK  UNNEEDED, same version is already published

Summary

Package: ASpediaFI
Version: 1.7.0
Command: /Library/Frameworks/R.framework/Resources/bin/R CMD INSTALL ASpediaFI
StartedAt: 2021-10-19 18:06:26 -0400 (Tue, 19 Oct 2021)
EndedAt: 2021-10-19 18:08:00 -0400 (Tue, 19 Oct 2021)
EllapsedTime: 93.9 seconds
RetCode: 0
Status:   OK  

Command output

##############################################################################
##############################################################################
###
### Running command:
###
###   /Library/Frameworks/R.framework/Resources/bin/R CMD INSTALL ASpediaFI
###
##############################################################################
##############################################################################


* installing to library ‘/Library/Frameworks/R.framework/Versions/4.1/Resources/library’
* installing *source* package ‘ASpediaFI’ ...
** using staged installation
** R
** data
** inst
** byte-compile and prepare package for lazy loading
Creating a new generic function for 'as.table' in package 'ASpediaFI'
** help
*** installing help indices
** building package indices
** installing vignettes
** testing if installed package can be loaded from temporary location
** testing if installed package can be loaded from final location
** testing if installed package keeps a record of temporary installation path
* DONE (ASpediaFI)