Back to Multiple platform build/check report for BioC 3.14
[A]BCDEFGHIJKLMNOPQRSTUVWXYZ

This page was generated on 2021-10-19 12:04:47 -0400 (Tue, 19 Oct 2021).

BUILD results for ASSIGN on riesling1

To the developers/maintainers of the ASSIGN package:
- Please allow up to 24 hours (and sometimes 48 hours) for your latest push to git@git.bioconductor.org:packages/ASSIGN.git to
reflect on this report. See How and When does the builder pull? When will my changes propagate? here for more information.
- Make sure to use the following settings in order to reproduce any error or warning you see on this page.

raw results

Package 93/2060HostnameOS / ArchINSTALLBUILDCHECKBUILD BIN
ASSIGN 1.29.1  (landing page)
Ying Shen , W. Evan Johnson
Snapshot Date: 2021-10-18 14:50:10 -0400 (Mon, 18 Oct 2021)
git_url: https://git.bioconductor.org/packages/ASSIGN
git_branch: master
git_last_commit: 2473d15
git_last_commit_date: 2021-06-13 17:09:30 -0400 (Sun, 13 Jun 2021)
nebbiolo2Linux (Ubuntu 20.04.2 LTS) / x86_64  OK    OK    OK  UNNEEDED, same version is already published
riesling1Windows Server 2019 Standard / x64  OK    OK    OK    OK  UNNEEDED, same version is already published
merida1macOS 10.14.6 Mojave / x86_64  OK    OK    OK    OK  UNNEEDED, same version is already published

Summary

Package: ASSIGN
Version: 1.29.1
Command: chmod a+r ASSIGN -R && D:\biocbuild\bbs-3.14-bioc\R\bin\R.exe CMD build --keep-empty-dirs --no-resave-data ASSIGN
StartedAt: 2021-10-18 19:39:18 -0400 (Mon, 18 Oct 2021)
EndedAt: 2021-10-18 19:43:51 -0400 (Mon, 18 Oct 2021)
EllapsedTime: 273.0 seconds
RetCode: 0
Status:   OK  
PackageFile: ASSIGN_1.29.1.tar.gz
PackageFileSize: 1.607 MiB

Command output

##############################################################################
##############################################################################
###
### Running command:
###
###   chmod a+r ASSIGN -R && D:\biocbuild\bbs-3.14-bioc\R\bin\R.exe CMD build --keep-empty-dirs --no-resave-data ASSIGN
###
##############################################################################
##############################################################################


* checking for file 'ASSIGN/DESCRIPTION' ... OK
* preparing 'ASSIGN':
* checking DESCRIPTION meta-information ... OK
* installing the package to build vignettes
* creating vignettes ... OK
* checking for LF line-endings in source and make files and shell scripts
* checking for empty or unneeded directories
* building 'ASSIGN_1.29.1.tar.gz'