Back to Multiple platform build/check report for BioC 3.14
[A]BCDEFGHIJKLMNOPQRSTUVWXYZ

This page was generated on 2021-12-06 13:05:49 -0500 (Mon, 06 Dec 2021).

BUILD results for ASSIGN on machv2

To the developers/maintainers of the ASSIGN package:
- Please allow up to 24 hours (and sometimes 48 hours) for your latest push to git@git.bioconductor.org:packages/ASSIGN.git to
reflect on this report. See How and When does the builder pull? When will my changes propagate? here for more information.
- Make sure to use the following settings in order to reproduce any error or warning you see on this page.

raw results

Package 93/2083HostnameOS / ArchINSTALLBUILDCHECKBUILD BIN
ASSIGN 1.30.0  (landing page)
Ying Shen , W. Evan Johnson
Snapshot Date: 2021-12-05 01:55:05 -0500 (Sun, 05 Dec 2021)
git_url: https://git.bioconductor.org/packages/ASSIGN
git_branch: RELEASE_3_14
git_last_commit: d215c62
git_last_commit_date: 2021-10-26 12:12:42 -0500 (Tue, 26 Oct 2021)
nebbiolo2Linux (Ubuntu 20.04.3 LTS) / x86_64  OK    OK    OK  UNNEEDED, same version is already published
tokay2Windows Server 2012 R2 Standard / x64  OK    OK    OK    OK  UNNEEDED, same version is already published
machv2macOS 10.14.6 Mojave / x86_64  OK    OK    OK    OK  UNNEEDED, same version is already published

Summary

Package: ASSIGN
Version: 1.30.0
Command: /Library/Frameworks/R.framework/Resources/bin/R CMD build --keep-empty-dirs --no-resave-data ASSIGN
StartedAt: 2021-12-05 05:48:40 -0500 (Sun, 05 Dec 2021)
EndedAt: 2021-12-05 05:49:14 -0500 (Sun, 05 Dec 2021)
EllapsedTime: 33.8 seconds
RetCode: 0
Status:   OK  
PackageFile: ASSIGN_1.30.0.tar.gz
PackageFileSize: 1.607 MiB

Command output

##############################################################################
##############################################################################
###
### Running command:
###
###   /Library/Frameworks/R.framework/Resources/bin/R CMD build --keep-empty-dirs --no-resave-data ASSIGN
###
##############################################################################
##############################################################################


* checking for file ‘ASSIGN/DESCRIPTION’ ... OK
* preparing ‘ASSIGN’:
* checking DESCRIPTION meta-information ... OK
* installing the package to build vignettes
* creating vignettes ... OK
* checking for LF line-endings in source and make files and shell scripts
* checking for empty or unneeded directories
* building ‘ASSIGN_1.30.0.tar.gz’