Back to Multiple platform build/check report for BioC 3.14
[A]BCDEFGHIJKLMNOPQRSTUVWXYZ

This page was generated on 2022-01-19 13:06:13 -0500 (Wed, 19 Jan 2022).

HostnameOSArch (*)R versionInstalled pkgs
nebbiolo2Linux (Ubuntu 20.04.4 LTS)x86_644.1.2 (2021-11-01) -- "Bird Hippie" 4328
tokay2Windows Server 2012 R2 Standardx644.1.2 (2021-11-01) -- "Bird Hippie" 4077
machv2macOS 10.14.6 Mojavex86_644.1.2 (2021-11-01) -- "Bird Hippie" 4138
Click on any hostname to see more info about the system (e.g. compilers)      (*) as reported by 'uname -p', except on Windows and Mac OS X

INSTALL results for ASSET on tokay2


To the developers/maintainers of the ASSET package:
- Please allow up to 24 hours (and sometimes 48 hours) for your latest push to git@git.bioconductor.org:packages/ASSET.git to
reflect on this report. See How and When does the builder pull? When will my changes propagate? here for more information.
- Make sure to use the following settings in order to reproduce any error or warning you see on this page.

raw results

Package 92/2083HostnameOS / ArchINSTALLBUILDCHECKBUILD BIN
ASSET 2.12.0  (landing page)
Samsiddhi Bhattacharjee
Snapshot Date: 2022-01-18 01:55:07 -0500 (Tue, 18 Jan 2022)
git_url: https://git.bioconductor.org/packages/ASSET
git_branch: RELEASE_3_14
git_last_commit: 065a08f
git_last_commit_date: 2021-10-26 12:09:30 -0500 (Tue, 26 Oct 2021)
nebbiolo2Linux (Ubuntu 20.04.4 LTS) / x86_64  OK    OK    OK  UNNEEDED, same version is already published
tokay2Windows Server 2012 R2 Standard / x64  OK    OK    OK    OK  UNNEEDED, same version is already published
machv2macOS 10.14.6 Mojave / x86_64  OK    OK    OK    OK  UNNEEDED, same version is already published

Summary

Package: ASSET
Version: 2.12.0
Command: C:\cygwin\bin\curl.exe -O http://155.52.207.166/BBS/3.14/bioc/src/contrib/ASSET_2.12.0.tar.gz && rm -rf ASSET.buildbin-libdir && mkdir ASSET.buildbin-libdir && C:\Users\biocbuild\bbs-3.14-bioc\R\bin\R.exe CMD INSTALL --merge-multiarch --build --library=ASSET.buildbin-libdir ASSET_2.12.0.tar.gz && C:\Users\biocbuild\bbs-3.14-bioc\R\bin\R.exe CMD INSTALL ASSET_2.12.0.zip && rm ASSET_2.12.0.tar.gz ASSET_2.12.0.zip
StartedAt: 2022-01-18 07:38:24 -0500 (Tue, 18 Jan 2022)
EndedAt: 2022-01-18 07:40:27 -0500 (Tue, 18 Jan 2022)
EllapsedTime: 122.7 seconds
RetCode: 0
Status:   OK  

Command output

##############################################################################
##############################################################################
###
### Running command:
###
###   C:\cygwin\bin\curl.exe -O http://155.52.207.166/BBS/3.14/bioc/src/contrib/ASSET_2.12.0.tar.gz && rm -rf ASSET.buildbin-libdir && mkdir ASSET.buildbin-libdir && C:\Users\biocbuild\bbs-3.14-bioc\R\bin\R.exe CMD INSTALL --merge-multiarch --build --library=ASSET.buildbin-libdir ASSET_2.12.0.tar.gz && C:\Users\biocbuild\bbs-3.14-bioc\R\bin\R.exe CMD INSTALL ASSET_2.12.0.zip && rm ASSET_2.12.0.tar.gz ASSET_2.12.0.zip
###
##############################################################################
##############################################################################


  % Total    % Received % Xferd  Average Speed   Time    Time     Time  Current
                                 Dload  Upload   Total   Spent    Left  Speed

  0     0    0     0    0     0      0      0 --:--:-- --:--:-- --:--:--     0
100  128k  100  128k    0     0   953k      0 --:--:-- --:--:-- --:--:--  961k

install for i386

* installing *source* package 'ASSET' ...
** using staged installation
** R
** data
** inst
** byte-compile and prepare package for lazy loading
** help
*** installing help indices
  converting help for package 'ASSET'
    finding HTML links ... done
    ASSET                                   html  
    ex_trait                                html  
    ex_types                                html  
    h.forestPlot                            html  
    h.summary                               html  
    h.traits                                html  
    h.types                                 html  
    p.dlm                                   html  
    z.max                                   html  
** building package indices
** installing vignettes
** testing if installed package can be loaded from temporary location
** testing if installed package can be loaded from final location
** testing if installed package keeps a record of temporary installation path

install for x64

* installing *source* package 'ASSET' ...
** testing if installed package can be loaded
* MD5 sums
packaged installation of 'ASSET' as ASSET_2.12.0.zip
* DONE (ASSET)
* installing to library 'C:/Users/biocbuild/bbs-3.14-bioc/R/library'
package 'ASSET' successfully unpacked and MD5 sums checked