Back to Multiple platform build/check report for BioC 3.14
[A]BCDEFGHIJKLMNOPQRSTUVWXYZ

This page was generated on 2021-10-20 12:05:00 -0400 (Wed, 20 Oct 2021).

BUILD BIN results for ASSET on riesling1

To the developers/maintainers of the ASSET package:
- Please allow up to 24 hours (and sometimes 48 hours) for your latest push to git@git.bioconductor.org:packages/ASSET.git to
reflect on this report. See How and When does the builder pull? When will my changes propagate? here for more information.
- Make sure to use the following settings in order to reproduce any error or warning you see on this page.

raw results

Package 92/2072HostnameOS / ArchINSTALLBUILDCHECKBUILD BIN
ASSET 2.11.1  (landing page)
Samsiddhi Bhattacharjee
Snapshot Date: 2021-10-19 14:50:04 -0400 (Tue, 19 Oct 2021)
git_url: https://git.bioconductor.org/packages/ASSET
git_branch: master
git_last_commit: 0754ba7
git_last_commit_date: 2021-09-09 22:18:37 -0400 (Thu, 09 Sep 2021)
nebbiolo2Linux (Ubuntu 20.04.2 LTS) / x86_64  OK    OK    OK  UNNEEDED, same version is already published
riesling1Windows Server 2019 Standard / x64  OK    OK    OK    OK  UNNEEDED, same version is already published
merida1macOS 10.14.6 Mojave / x86_64  OK    OK    OK    OK  UNNEEDED, same version is already published

Summary

Package: ASSET
Version: 2.11.1
Command: rm -rf ASSET.buildbin-libdir && mkdir ASSET.buildbin-libdir && D:\biocbuild\bbs-3.14-bioc\R\bin\R.exe CMD INSTALL --merge-multiarch --build --library=ASSET.buildbin-libdir ASSET_2.11.1.tar.gz
StartedAt: 2021-10-20 04:58:42 -0400 (Wed, 20 Oct 2021)
EndedAt: 2021-10-20 05:02:41 -0400 (Wed, 20 Oct 2021)
EllapsedTime: 239.4 seconds
RetCode: 0
Status:   OK  
PackageFile: ASSET_2.11.1.zip
PackageFileSize: 387 KiB

Command output

##############################################################################
##############################################################################
###
### Running command:
###
###   rm -rf ASSET.buildbin-libdir && mkdir ASSET.buildbin-libdir && D:\biocbuild\bbs-3.14-bioc\R\bin\R.exe CMD INSTALL --merge-multiarch --build --library=ASSET.buildbin-libdir ASSET_2.11.1.tar.gz
###
##############################################################################
##############################################################################



install for i386

* installing *source* package 'ASSET' ...
** using staged installation
** R
** data
** inst
** byte-compile and prepare package for lazy loading
** help
*** installing help indices
  converting help for package 'ASSET'
    finding HTML links ... done
    ASSET                                   html  
    ex_trait                                html  
    ex_types                                html  
    h.forestPlot                            html  
    h.summary                               html  
    h.traits                                html  
    h.types                                 html  
    p.dlm                                   html  
    z.max                                   html  
** building package indices
** installing vignettes
** testing if installed package can be loaded from temporary location
** testing if installed package can be loaded from final location
** testing if installed package keeps a record of temporary installation path

install for x64

* installing *source* package 'ASSET' ...
** testing if installed package can be loaded
* MD5 sums
packaged installation of 'ASSET' as ASSET_2.11.1.zip
* DONE (ASSET)