Back to Multiple platform build/check report for BioC 3.14
[A]BCDEFGHIJKLMNOPQRSTUVWXYZ

This page was generated on 2021-10-26 14:07:39 -0400 (Tue, 26 Oct 2021).

BUILD results for ASSET on merida1

To the developers/maintainers of the ASSET package:
- Please allow up to 24 hours (and sometimes 48 hours) for your latest push to git@git.bioconductor.org:packages/ASSET.git to
reflect on this report. See How and When does the builder pull? When will my changes propagate? here for more information.
- Make sure to use the following settings in order to reproduce any error or warning you see on this page.

raw results

Package 92/2083HostnameOS / ArchINSTALLBUILDCHECKBUILD BIN
ASSET 2.11.1  (landing page)
Samsiddhi Bhattacharjee
Snapshot Date: 2021-10-25 14:50:11 -0400 (Mon, 25 Oct 2021)
git_url: https://git.bioconductor.org/packages/ASSET
git_branch: master
git_last_commit: 0754ba7
git_last_commit_date: 2021-09-09 22:18:37 -0400 (Thu, 09 Sep 2021)
nebbiolo2Linux (Ubuntu 20.04.2 LTS) / x86_64  OK    OK    OK  UNNEEDED, same version is already published
riesling1Windows Server 2019 Standard / x64  OK    OK    OK    OK  UNNEEDED, same version is already published
merida1macOS 10.14.6 Mojave / x86_64  OK    OK    OK    OK  UNNEEDED, same version is already published
machv2macOS 10.14.6 Mojave / x86_64  OK    OK    OK    OK  

Summary

Package: ASSET
Version: 2.11.1
Command: /Library/Frameworks/R.framework/Resources/bin/R CMD build --keep-empty-dirs --no-resave-data ASSET
StartedAt: 2021-10-25 18:31:11 -0400 (Mon, 25 Oct 2021)
EndedAt: 2021-10-25 18:31:54 -0400 (Mon, 25 Oct 2021)
EllapsedTime: 42.9 seconds
RetCode: 0
Status:   OK  
PackageFile: ASSET_2.11.1.tar.gz
PackageFileSize: 224.1 KiB

Command output

##############################################################################
##############################################################################
###
### Running command:
###
###   /Library/Frameworks/R.framework/Resources/bin/R CMD build --keep-empty-dirs --no-resave-data ASSET
###
##############################################################################
##############################################################################


* checking for file ‘ASSET/DESCRIPTION’ ... OK
* preparing ‘ASSET’:
* checking DESCRIPTION meta-information ... OK
* installing the package to build vignettes
* creating vignettes ... OK
* checking for LF line-endings in source and make files and shell scripts
* checking for empty or unneeded directories
* looking to see if a ‘data/datalist’ file should be added
* building ‘ASSET_2.11.1.tar.gz’