Back to Multiple platform build/check report for BioC 3.14
[A]BCDEFGHIJKLMNOPQRSTUVWXYZ

This page was generated on 2021-10-27 13:53:34 -0400 (Wed, 27 Oct 2021).

BUILD BIN results for ASSET on merida1

To the developers/maintainers of the ASSET package:
- Please allow up to 24 hours (and sometimes 48 hours) for your latest push to git@git.bioconductor.org:packages/ASSET.git to
reflect on this report. See How and When does the builder pull? When will my changes propagate? here for more information.
- Make sure to use the following settings in order to reproduce any error or warning you see on this page.

raw results

Package 92/2083HostnameOS / ArchINSTALLBUILDCHECKBUILD BIN
ASSET 2.12.0  (landing page)
Samsiddhi Bhattacharjee
Snapshot Date: 2021-10-26 14:50:08 -0400 (Tue, 26 Oct 2021)
git_url: https://git.bioconductor.org/packages/ASSET
git_branch: RELEASE_3_14
git_last_commit: 065a08f
git_last_commit_date: 2021-10-26 12:09:30 -0400 (Tue, 26 Oct 2021)
nebbiolo2Linux (Ubuntu 20.04.2 LTS) / x86_64  OK    OK    OK  YES
riesling1Windows Server 2019 Standard / x64  OK    OK    OK    OK  YES
merida1macOS 10.14.6 Mojave / x86_64  OK    OK    OK    OK  YES
machv2macOS 10.14.6 Mojave / x86_64  OK    OK    OK    OK  

Summary

Package: ASSET
Version: 2.12.0
Command: rm -rf ASSET.buildbin-libdir && mkdir ASSET.buildbin-libdir && /Users/biocbuild/BBS/utils/build-universal.sh ASSET_2.12.0.tar.gz /Library/Frameworks/R.framework/Resources/bin/R ASSET.buildbin-libdir
StartedAt: 2021-10-27 10:54:50 -0400 (Wed, 27 Oct 2021)
EndedAt: 2021-10-27 10:55:45 -0400 (Wed, 27 Oct 2021)
EllapsedTime: 55.7 seconds
RetCode: 0
Status:   OK  
PackageFile: ASSET_2.12.0.tgz
PackageFileSize: 361 KiB

Command output

##############################################################################
##############################################################################
###
### Running command:
###
###   rm -rf ASSET.buildbin-libdir && mkdir ASSET.buildbin-libdir && /Users/biocbuild/BBS/utils/build-universal.sh ASSET_2.12.0.tar.gz /Library/Frameworks/R.framework/Resources/bin/R ASSET.buildbin-libdir
###
##############################################################################
##############################################################################


>>>>>>> 
>>>>>>> INSTALLATION WITH 'R CMD INSTALL --preclean --no-multiarch --library=ASSET.buildbin-libdir ASSET_2.12.0.tar.gz'
>>>>>>> 

* installing *source* package ‘ASSET’ ...
** using staged installation
** R
** data
** inst
** byte-compile and prepare package for lazy loading
** help
*** installing help indices
** building package indices
** installing vignettes
** testing if installed package can be loaded from temporary location
** testing if installed package can be loaded from final location
** testing if installed package keeps a record of temporary installation path
* DONE (ASSET)