Back to Multiple platform build/check report for BioC 3.14
[A]BCDEFGHIJKLMNOPQRSTUVWXYZ

This page was generated on 2021-10-27 13:52:53 -0400 (Wed, 27 Oct 2021).

INSTALL results for ASICS on riesling1

To the developers/maintainers of the ASICS package:
- Please allow up to 24 hours (and sometimes 48 hours) for your latest push to git@git.bioconductor.org:packages/ASICS.git to
reflect on this report. See How and When does the builder pull? When will my changes propagate? here for more information.
- Make sure to use the following settings in order to reproduce any error or warning you see on this page.

raw results

Package 88/2083HostnameOS / ArchINSTALLBUILDCHECKBUILD BIN
ASICS 2.10.0  (landing page)
Gaƫlle Lefort
Snapshot Date: 2021-10-26 14:50:08 -0400 (Tue, 26 Oct 2021)
git_url: https://git.bioconductor.org/packages/ASICS
git_branch: RELEASE_3_14
git_last_commit: f29bce8
git_last_commit_date: 2021-10-26 12:43:14 -0400 (Tue, 26 Oct 2021)
nebbiolo2Linux (Ubuntu 20.04.2 LTS) / x86_64  OK    OK    WARNINGS  YES
riesling1Windows Server 2019 Standard / x64  OK    OK    WARNINGS    OK  YES
merida1macOS 10.14.6 Mojave / x86_64  OK    OK    WARNINGS    OK  YES
machv2macOS 10.14.6 Mojave / x86_64  OK    OK    WARNINGS    OK  

Summary

Package: ASICS
Version: 2.10.0
Command: C:\cygwin\bin\curl.exe -O http://155.52.207.166/BBS/3.14/bioc/src/contrib/ASICS_2.10.0.tar.gz && rm -rf ASICS.buildbin-libdir && mkdir ASICS.buildbin-libdir && D:\biocbuild\bbs-3.14-bioc\R\bin\R.exe CMD INSTALL --merge-multiarch --build --library=ASICS.buildbin-libdir ASICS_2.10.0.tar.gz && D:\biocbuild\bbs-3.14-bioc\R\bin\R.exe CMD INSTALL ASICS_2.10.0.zip && rm ASICS_2.10.0.tar.gz ASICS_2.10.0.zip
StartedAt: 2021-10-26 18:46:54 -0400 (Tue, 26 Oct 2021)
EndedAt: 2021-10-26 18:49:56 -0400 (Tue, 26 Oct 2021)
EllapsedTime: 181.7 seconds
RetCode: 0
Status:   OK  

Command output

##############################################################################
##############################################################################
###
### Running command:
###
###   C:\cygwin\bin\curl.exe -O http://155.52.207.166/BBS/3.14/bioc/src/contrib/ASICS_2.10.0.tar.gz && rm -rf ASICS.buildbin-libdir && mkdir ASICS.buildbin-libdir && D:\biocbuild\bbs-3.14-bioc\R\bin\R.exe CMD INSTALL --merge-multiarch --build --library=ASICS.buildbin-libdir ASICS_2.10.0.tar.gz && D:\biocbuild\bbs-3.14-bioc\R\bin\R.exe CMD INSTALL ASICS_2.10.0.zip && rm ASICS_2.10.0.tar.gz ASICS_2.10.0.zip
###
##############################################################################
##############################################################################


  % Total    % Received % Xferd  Average Speed   Time    Time     Time  Current
                                 Dload  Upload   Total   Spent    Left  Speed

  0     0    0     0    0     0      0      0 --:--:-- --:--:-- --:--:--     0
  0 3600k    0  1137    0     0  14037      0  0:04:22 --:--:--  0:04:22 14037
100 3600k  100 3600k    0     0  3935k      0 --:--:-- --:--:-- --:--:-- 3931k

install for i386

* installing *source* package 'ASICS' ...
** using staged installation
** R
** data
*** moving datasets to lazyload DB
** inst
** byte-compile and prepare package for lazy loading
** help
*** installing help indices
  converting help for package 'ASICS'
    finding HTML links ... done
    ASICS                                   html  
    ASICSResults-class                      html  
    ASICSUsersGuide                         html  
    AnalysisResults-class                   html  
    finding level-2 HTML links ... done

    PureLibrary-class                       html  
    Spectra-class                           html  
    accessors-methods                       html  
    alignSpectra                            html  
    binning                                 html  
    combineAndSubset-methods                html  
    createPureLibrary                       html  
    createSpectra                           html  
    formatForAnalysis                       html  
    importSpectra                           html  
    importSpectraBruker                     html  
    kruskalWallis                           html  
    normaliseSpectra                        html  
    oplsda                                  html  
    pca                                     html  
    plotAlignment                           html  
    pure_library                            html  
    simulate_spectra                        html  
    summary-methods                         html  
    visualisation-methods-analyses          html  
    visualisation-methods-spectra           html  
** building package indices
** installing vignettes
   'ASICS.Rmd' using 'UTF-8' 
   'ASICSUsersGuide.Rmd' using 'UTF-8' 
** testing if installed package can be loaded from temporary location
** testing if installed package can be loaded from final location
** testing if installed package keeps a record of temporary installation path

install for x64

* installing *source* package 'ASICS' ...
** testing if installed package can be loaded
* MD5 sums
packaged installation of 'ASICS' as ASICS_2.10.0.zip
* DONE (ASICS)
* installing to library 'D:/biocbuild/bbs-3.14-bioc/R/library'
package 'ASICS' successfully unpacked and MD5 sums checked