Back to Multiple platform build/check report for BioC 3.14
[A]BCDEFGHIJKLMNOPQRSTUVWXYZ

This page was generated on 2021-10-26 14:06:52 -0400 (Tue, 26 Oct 2021).

INSTALL results for ASGSCA on riesling1

To the developers/maintainers of the ASGSCA package:
- Please allow up to 24 hours (and sometimes 48 hours) for your latest push to git@git.bioconductor.org:packages/ASGSCA.git to
reflect on this report. See How and When does the builder pull? When will my changes propagate? here for more information.
- Make sure to use the following settings in order to reproduce any error or warning you see on this page.

raw results

Package 87/2083HostnameOS / ArchINSTALLBUILDCHECKBUILD BIN
ASGSCA 1.27.0  (landing page)
Hela Romdhani
Snapshot Date: 2021-10-25 14:50:11 -0400 (Mon, 25 Oct 2021)
git_url: https://git.bioconductor.org/packages/ASGSCA
git_branch: master
git_last_commit: 1353950
git_last_commit_date: 2021-05-19 12:08:29 -0400 (Wed, 19 May 2021)
nebbiolo2Linux (Ubuntu 20.04.2 LTS) / x86_64  OK    OK    OK  UNNEEDED, same version is already published
riesling1Windows Server 2019 Standard / x64  OK    OK    OK    OK  UNNEEDED, same version is already published
merida1macOS 10.14.6 Mojave / x86_64  OK    OK    OK    OK  UNNEEDED, same version is already published
machv2macOS 10.14.6 Mojave / x86_64  OK    OK    OK    OK  

Summary

Package: ASGSCA
Version: 1.27.0
Command: C:\cygwin\bin\curl.exe -O http://155.52.207.166/BBS/3.14/bioc/src/contrib/ASGSCA_1.27.0.tar.gz && rm -rf ASGSCA.buildbin-libdir && mkdir ASGSCA.buildbin-libdir && D:\biocbuild\bbs-3.14-bioc\R\bin\R.exe CMD INSTALL --merge-multiarch --build --library=ASGSCA.buildbin-libdir ASGSCA_1.27.0.tar.gz && D:\biocbuild\bbs-3.14-bioc\R\bin\R.exe CMD INSTALL ASGSCA_1.27.0.zip && rm ASGSCA_1.27.0.tar.gz ASGSCA_1.27.0.zip
StartedAt: 2021-10-25 16:31:18 -0400 (Mon, 25 Oct 2021)
EndedAt: 2021-10-25 16:34:29 -0400 (Mon, 25 Oct 2021)
EllapsedTime: 191.1 seconds
RetCode: 0
Status:   OK  

Command output

##############################################################################
##############################################################################
###
### Running command:
###
###   C:\cygwin\bin\curl.exe -O http://155.52.207.166/BBS/3.14/bioc/src/contrib/ASGSCA_1.27.0.tar.gz && rm -rf ASGSCA.buildbin-libdir && mkdir ASGSCA.buildbin-libdir && D:\biocbuild\bbs-3.14-bioc\R\bin\R.exe CMD INSTALL --merge-multiarch --build --library=ASGSCA.buildbin-libdir ASGSCA_1.27.0.tar.gz && D:\biocbuild\bbs-3.14-bioc\R\bin\R.exe CMD INSTALL ASGSCA_1.27.0.zip && rm ASGSCA_1.27.0.tar.gz ASGSCA_1.27.0.zip
###
##############################################################################
##############################################################################


  % Total    % Received % Xferd  Average Speed   Time    Time     Time  Current
                                 Dload  Upload   Total   Spent    Left  Speed

  0     0    0     0    0     0      0      0 --:--:-- --:--:-- --:--:--     0
  6  612k    6 41637    0     0   269k      0  0:00:02 --:--:--  0:00:02  267k
100  612k  100  612k    0     0  2259k      0 --:--:-- --:--:-- --:--:-- 2251k

install for i386

* installing *source* package 'ASGSCA' ...
** using staged installation
** R
** data
** inst
** byte-compile and prepare package for lazy loading
** help
*** installing help indices
  converting help for package 'ASGSCA'
    finding HTML links ... done
    ASGSCA-package                          html  
    B0                                      html  
    GSCA                                    html  
    GSCAestim                               html  
    GenPhen                                 html  
    QCAHS                                   html  
    ResQCAHS                                html  
    W0                                      html  
** building package indices
** installing vignettes
** testing if installed package can be loaded from temporary location
** testing if installed package can be loaded from final location
** testing if installed package keeps a record of temporary installation path

install for x64

* installing *source* package 'ASGSCA' ...
** testing if installed package can be loaded
* MD5 sums
packaged installation of 'ASGSCA' as ASGSCA_1.27.0.zip
* DONE (ASGSCA)
* installing to library 'D:/biocbuild/bbs-3.14-bioc/R/library'
package 'ASGSCA' successfully unpacked and MD5 sums checked