Back to Multiple platform build/check report for BioC 3.14
[A]BCDEFGHIJKLMNOPQRSTUVWXYZ

This page was generated on 2021-10-18 12:03:58 -0400 (Mon, 18 Oct 2021).

CHECK results for ASGSCA on riesling1

To the developers/maintainers of the ASGSCA package:
- Please allow up to 24 hours (and sometimes 48 hours) for your latest push to git@git.bioconductor.org:packages/ASGSCA.git to
reflect on this report. See How and When does the builder pull? When will my changes propagate? here for more information.
- Make sure to use the following settings in order to reproduce any error or warning you see on this page.

raw results

Package 87/2060HostnameOS / ArchINSTALLBUILDCHECKBUILD BIN
ASGSCA 1.27.0  (landing page)
Hela Romdhani
Snapshot Date: 2021-10-17 14:50:03 -0400 (Sun, 17 Oct 2021)
git_url: https://git.bioconductor.org/packages/ASGSCA
git_branch: master
git_last_commit: 1353950
git_last_commit_date: 2021-05-19 12:08:29 -0400 (Wed, 19 May 2021)
nebbiolo2Linux (Ubuntu 20.04.2 LTS) / x86_64  OK    OK    OK  UNNEEDED, same version is already published
riesling1Windows Server 2019 Standard / x64  OK    OK    OK    OK  UNNEEDED, same version is already published
merida1macOS 10.14.6 Mojave / x86_64  OK    OK    OK    OK  UNNEEDED, same version is already published

Summary

Package: ASGSCA
Version: 1.27.0
Command: D:\biocbuild\bbs-3.14-bioc\R\bin\R.exe CMD check --force-multiarch --install=check:ASGSCA.install-out.txt --library=D:\biocbuild\bbs-3.14-bioc\R\library --no-vignettes --timings ASGSCA_1.27.0.tar.gz
StartedAt: 2021-10-17 23:52:40 -0400 (Sun, 17 Oct 2021)
EndedAt: 2021-10-17 23:56:43 -0400 (Sun, 17 Oct 2021)
EllapsedTime: 243.7 seconds
RetCode: 0
Status:   OK  
CheckDir: ASGSCA.Rcheck
Warnings: 0

Command output

##############################################################################
##############################################################################
###
### Running command:
###
###   D:\biocbuild\bbs-3.14-bioc\R\bin\R.exe CMD check --force-multiarch --install=check:ASGSCA.install-out.txt --library=D:\biocbuild\bbs-3.14-bioc\R\library --no-vignettes --timings ASGSCA_1.27.0.tar.gz
###
##############################################################################
##############################################################################


* using log directory 'D:/biocbuild/bbs-3.14-bioc/meat/ASGSCA.Rcheck'
* using R version 4.1.1 (2021-08-10)
* using platform: x86_64-w64-mingw32 (64-bit)
* using session charset: ISO8859-1
* using option '--no-vignettes'
* checking for file 'ASGSCA/DESCRIPTION' ... OK
* checking extension type ... Package
* this is package 'ASGSCA' version '1.27.0'
* checking package namespace information ... OK
* checking package dependencies ... OK
* checking if this is a source package ... OK
* checking if there is a namespace ... OK
* checking for hidden files and directories ... OK
* checking for portable file names ... OK
* checking whether package 'ASGSCA' can be installed ... OK
* checking installed package size ... OK
* checking package directory ... OK
* checking 'build' directory ... OK
* checking DESCRIPTION meta-information ... OK
* checking top-level files ... OK
* checking for left-over files ... OK
* checking index information ... OK
* checking package subdirectories ... OK
* checking R files for non-ASCII characters ... OK
* checking R files for syntax errors ... OK
* loading checks for arch 'i386'
** checking whether the package can be loaded ... OK
** checking whether the package can be loaded with stated dependencies ... OK
** checking whether the package can be unloaded cleanly ... OK
** checking whether the namespace can be loaded with stated dependencies ... OK
** checking whether the namespace can be unloaded cleanly ... OK
* loading checks for arch 'x64'
** checking whether the package can be loaded ... OK
** checking whether the package can be loaded with stated dependencies ... OK
** checking whether the package can be unloaded cleanly ... OK
** checking whether the namespace can be loaded with stated dependencies ... OK
** checking whether the namespace can be unloaded cleanly ... OK
* checking dependencies in R code ... OK
* checking S3 generic/method consistency ... OK
* checking replacement functions ... OK
* checking foreign function calls ... OK
* checking R code for possible problems ... NOTE
GSCAestim: no visible global function definition for 'runif'
Undefined global functions or variables:
  runif
Consider adding
  importFrom("stats", "runif")
to your NAMESPACE file.
* checking Rd files ... OK
* checking Rd metadata ... OK
* checking Rd cross-references ... OK
* checking for missing documentation entries ... OK
* checking for code/documentation mismatches ... OK
* checking Rd \usage sections ... OK
* checking Rd contents ... OK
* checking for unstated dependencies in examples ... OK
* checking contents of 'data' directory ... OK
* checking data for non-ASCII characters ... OK
* checking data for ASCII and uncompressed saves ... OK
* checking files in 'vignettes' ... OK
* checking examples ...
** running examples for arch 'i386' ... OK
Examples with CPU (user + system) or elapsed time > 5s
                user system elapsed
GSCA           49.03   0.05   49.11
ASGSCA-package 46.20   0.00   46.21
** running examples for arch 'x64' ... OK
Examples with CPU (user + system) or elapsed time > 5s
                user system elapsed
ASGSCA-package 49.20   0.02   49.21
GSCA           48.92   0.00   48.96
* checking for unstated dependencies in vignettes ... OK
* checking package vignettes in 'inst/doc' ... OK
* checking running R code from vignettes ... SKIPPED
* checking re-building of vignette outputs ... SKIPPED
* checking PDF version of manual ... OK
* DONE

Status: 1 NOTE
See
  'D:/biocbuild/bbs-3.14-bioc/meat/ASGSCA.Rcheck/00check.log'
for details.



Installation output

ASGSCA.Rcheck/00install.out

##############################################################################
##############################################################################
###
### Running command:
###
###   C:\cygwin\bin\curl.exe -O http://155.52.207.166/BBS/3.14/bioc/src/contrib/ASGSCA_1.27.0.tar.gz && rm -rf ASGSCA.buildbin-libdir && mkdir ASGSCA.buildbin-libdir && D:\biocbuild\bbs-3.14-bioc\R\bin\R.exe CMD INSTALL --merge-multiarch --build --library=ASGSCA.buildbin-libdir ASGSCA_1.27.0.tar.gz && D:\biocbuild\bbs-3.14-bioc\R\bin\R.exe CMD INSTALL ASGSCA_1.27.0.zip && rm ASGSCA_1.27.0.tar.gz ASGSCA_1.27.0.zip
###
##############################################################################
##############################################################################


  % Total    % Received % Xferd  Average Speed   Time    Time     Time  Current
                                 Dload  Upload   Total   Spent    Left  Speed

  0     0    0     0    0     0      0      0 --:--:-- --:--:-- --:--:--     0
100  612k  100  612k    0     0  2310k      0 --:--:-- --:--:-- --:--:-- 2310k

install for i386

* installing *source* package 'ASGSCA' ...
** using staged installation
** R
** data
** inst
** byte-compile and prepare package for lazy loading
** help
*** installing help indices
  converting help for package 'ASGSCA'
    finding HTML links ... done
    ASGSCA-package                          html  
    B0                                      html  
    GSCA                                    html  
    GSCAestim                               html  
    GenPhen                                 html  
    QCAHS                                   html  
    ResQCAHS                                html  
    W0                                      html  
** building package indices
** installing vignettes
** testing if installed package can be loaded from temporary location
** testing if installed package can be loaded from final location
** testing if installed package keeps a record of temporary installation path

install for x64

* installing *source* package 'ASGSCA' ...
** testing if installed package can be loaded
* MD5 sums
packaged installation of 'ASGSCA' as ASGSCA_1.27.0.zip
* DONE (ASGSCA)
* installing to library 'D:/biocbuild/bbs-3.14-bioc/R/library'
package 'ASGSCA' successfully unpacked and MD5 sums checked

Tests output


Example timings

ASGSCA.Rcheck/examples_i386/ASGSCA-Ex.timings

nameusersystemelapsed
ASGSCA-package46.20 0.0046.21
GSCA49.03 0.0549.11
GSCAestim0.020.000.01

ASGSCA.Rcheck/examples_x64/ASGSCA-Ex.timings

nameusersystemelapsed
ASGSCA-package49.20 0.0249.21
GSCA48.92 0.0048.96
GSCAestim000