Back to Multiple platform build/check report for BioC 3.14
[A]BCDEFGHIJKLMNOPQRSTUVWXYZ

This page was generated on 2021-11-26 15:05:42 -0500 (Fri, 26 Nov 2021).

BUILD results for ASGSCA on machv2

To the developers/maintainers of the ASGSCA package:
- Please allow up to 24 hours (and sometimes 48 hours) for your latest push to git@git.bioconductor.org:packages/ASGSCA.git to
reflect on this report. See How and When does the builder pull? When will my changes propagate? here for more information.
- Make sure to use the following settings in order to reproduce any error or warning you see on this page.

raw results

Package 87/2083HostnameOS / ArchINSTALLBUILDCHECKBUILD BIN
ASGSCA 1.28.0  (landing page)
Hela Romdhani
Snapshot Date: 2021-11-25 04:15:05 -0500 (Thu, 25 Nov 2021)
git_url: https://git.bioconductor.org/packages/ASGSCA
git_branch: RELEASE_3_14
git_last_commit: a84d4c2
git_last_commit_date: 2021-10-26 12:16:38 -0500 (Tue, 26 Oct 2021)
nebbiolo2Linux (Ubuntu 20.04.3 LTS) / x86_64  OK    OK    OK  UNNEEDED, same version is already published
tokay2Windows Server 2012 R2 Standard / x64  OK    OK    OK    OK  UNNEEDED, same version is already published
machv2macOS 10.14.6 Mojave / x86_64  OK    OK    OK    OK  UNNEEDED, same version is already published

Summary

Package: ASGSCA
Version: 1.28.0
Command: /Library/Frameworks/R.framework/Resources/bin/R CMD build --keep-empty-dirs --no-resave-data ASGSCA
StartedAt: 2021-11-25 07:48:05 -0500 (Thu, 25 Nov 2021)
EndedAt: 2021-11-25 07:52:08 -0500 (Thu, 25 Nov 2021)
EllapsedTime: 242.9 seconds
RetCode: 0
Status:   OK  
PackageFile: ASGSCA_1.28.0.tar.gz
PackageFileSize: 1.208 MiB

Command output

##############################################################################
##############################################################################
###
### Running command:
###
###   /Library/Frameworks/R.framework/Resources/bin/R CMD build --keep-empty-dirs --no-resave-data ASGSCA
###
##############################################################################
##############################################################################


* checking for file ‘ASGSCA/DESCRIPTION’ ... OK
* preparing ‘ASGSCA’:
* checking DESCRIPTION meta-information ... OK
* installing the package to build vignettes
* creating vignettes ... OK
* checking for LF line-endings in source and make files and shell scripts
* checking for empty or unneeded directories
* looking to see if a ‘data/datalist’ file should be added
* building ‘ASGSCA_1.28.0.tar.gz’