Back to Multiple platform build/check report for BioC 3.14
[A]BCDEFGHIJKLMNOPQRSTUVWXYZ

This page was generated on 2021-10-18 12:03:58 -0400 (Mon, 18 Oct 2021).

INSTALL results for ASEB on riesling1

To the developers/maintainers of the ASEB package:
- Please allow up to 24 hours (and sometimes 48 hours) for your latest push to git@git.bioconductor.org:packages/ASEB.git to
reflect on this report. See How and When does the builder pull? When will my changes propagate? here for more information.
- Make sure to use the following settings in order to reproduce any error or warning you see on this page.

raw results

Package 86/2060HostnameOS / ArchINSTALLBUILDCHECKBUILD BIN
ASEB 1.37.0  (landing page)
Likun Wang
Snapshot Date: 2021-10-17 14:50:03 -0400 (Sun, 17 Oct 2021)
git_url: https://git.bioconductor.org/packages/ASEB
git_branch: master
git_last_commit: c56fa99
git_last_commit_date: 2021-05-19 11:50:59 -0400 (Wed, 19 May 2021)
nebbiolo2Linux (Ubuntu 20.04.2 LTS) / x86_64  OK    OK    OK  UNNEEDED, same version is already published
riesling1Windows Server 2019 Standard / x64  OK    OK    OK    OK  UNNEEDED, same version is already published
merida1macOS 10.14.6 Mojave / x86_64  OK    OK    WARNINGS    OK  UNNEEDED, same version is already published

Summary

Package: ASEB
Version: 1.37.0
Command: C:\cygwin\bin\curl.exe -O http://155.52.207.166/BBS/3.14/bioc/src/contrib/ASEB_1.37.0.tar.gz && rm -rf ASEB.buildbin-libdir && mkdir ASEB.buildbin-libdir && D:\biocbuild\bbs-3.14-bioc\R\bin\R.exe CMD INSTALL --merge-multiarch --build --library=ASEB.buildbin-libdir ASEB_1.37.0.tar.gz && D:\biocbuild\bbs-3.14-bioc\R\bin\R.exe CMD INSTALL ASEB_1.37.0.zip && rm ASEB_1.37.0.tar.gz ASEB_1.37.0.zip
StartedAt: 2021-10-17 16:28:37 -0400 (Sun, 17 Oct 2021)
EndedAt: 2021-10-17 16:31:37 -0400 (Sun, 17 Oct 2021)
EllapsedTime: 180.8 seconds
RetCode: 0
Status:   OK  

Command output

##############################################################################
##############################################################################
###
### Running command:
###
###   C:\cygwin\bin\curl.exe -O http://155.52.207.166/BBS/3.14/bioc/src/contrib/ASEB_1.37.0.tar.gz && rm -rf ASEB.buildbin-libdir && mkdir ASEB.buildbin-libdir && D:\biocbuild\bbs-3.14-bioc\R\bin\R.exe CMD INSTALL --merge-multiarch --build --library=ASEB.buildbin-libdir ASEB_1.37.0.tar.gz && D:\biocbuild\bbs-3.14-bioc\R\bin\R.exe CMD INSTALL ASEB_1.37.0.zip && rm ASEB_1.37.0.tar.gz ASEB_1.37.0.zip
###
##############################################################################
##############################################################################


  % Total    % Received % Xferd  Average Speed   Time    Time     Time  Current
                                 Dload  Upload   Total   Spent    Left  Speed

  0     0    0     0    0     0      0      0 --:--:-- --:--:-- --:--:--     0
 25  365k   25 94437    0     0   485k      0 --:--:-- --:--:-- --:--:--  482k
100  365k  100  365k    0     0  1574k      0 --:--:-- --:--:-- --:--:-- 1568k

install for i386

* installing *source* package 'ASEB' ...
** using staged installation
** libs
"C:/rtools40/mingw32/bin/"g++ -std=gnu++11  -I"D:/biocbuild/bbs-3.14-bioc/R/include" -DNDEBUG     -I"C:/extsoft/include"     -O2 -Wall  -mfpmath=sse -msse2 -mstackrealign  -c asebC.cpp -o asebC.o
C:/rtools40/mingw32/bin/g++ -std=gnu++11 -shared -s -static-libgcc -o ASEB.dll tmp.def asebC.o -LC:/extsoft/lib/i386 -LC:/extsoft/lib -LD:/biocbuild/bbs-3.14-bioc/R/bin/i386 -lR
installing to D:/biocbuild/bbs-3.14-bioc/meat/ASEB.buildbin-libdir/00LOCK-ASEB/00new/ASEB/libs/i386
** R
** inst
** byte-compile and prepare package for lazy loading
** help
*** installing help indices
  converting help for package 'ASEB'
    finding HTML links ... done
    SequenceInfo                            html  
    asebProteins                            html  
    asebSites                               html  
    drawEScurve                             html  
    drawStat                                html  
    readSequence                            html  
** building package indices
** installing vignettes
** testing if installed package can be loaded from temporary location
** testing if installed package can be loaded from final location
** testing if installed package keeps a record of temporary installation path

install for x64

* installing *source* package 'ASEB' ...
** libs
"C:/rtools40/mingw64/bin/"g++ -std=gnu++11  -I"D:/biocbuild/bbs-3.14-bioc/R/include" -DNDEBUG     -I"C:/extsoft/include"     -O2 -Wall  -mfpmath=sse -msse2 -mstackrealign  -c asebC.cpp -o asebC.o
C:/rtools40/mingw64/bin/g++ -std=gnu++11 -shared -s -static-libgcc -o ASEB.dll tmp.def asebC.o -LC:/extsoft/lib/x64 -LC:/extsoft/lib -LD:/biocbuild/bbs-3.14-bioc/R/bin/x64 -lR
installing to D:/biocbuild/bbs-3.14-bioc/meat/ASEB.buildbin-libdir/ASEB/libs/x64
** testing if installed package can be loaded
* MD5 sums
packaged installation of 'ASEB' as ASEB_1.37.0.zip
* DONE (ASEB)
* installing to library 'D:/biocbuild/bbs-3.14-bioc/R/library'
package 'ASEB' successfully unpacked and MD5 sums checked