Back to Multiple platform build/check report for BioC 3.14
[A]BCDEFGHIJKLMNOPQRSTUVWXYZ

This page was generated on 2021-10-18 12:03:58 -0400 (Mon, 18 Oct 2021).

INSTALL results for ASAFE on riesling1

To the developers/maintainers of the ASAFE package:
- Please allow up to 24 hours (and sometimes 48 hours) for your latest push to git@git.bioconductor.org:packages/ASAFE.git to
reflect on this report. See How and When does the builder pull? When will my changes propagate? here for more information.
- Make sure to use the following settings in order to reproduce any error or warning you see on this page.

raw results

Package 85/2060HostnameOS / ArchINSTALLBUILDCHECKBUILD BIN
ASAFE 1.19.0  (landing page)
Qian Zhang
Snapshot Date: 2021-10-17 14:50:03 -0400 (Sun, 17 Oct 2021)
git_url: https://git.bioconductor.org/packages/ASAFE
git_branch: master
git_last_commit: 3156155
git_last_commit_date: 2021-05-19 12:21:52 -0400 (Wed, 19 May 2021)
nebbiolo2Linux (Ubuntu 20.04.2 LTS) / x86_64  OK    OK    OK  UNNEEDED, same version is already published
riesling1Windows Server 2019 Standard / x64  OK    OK    OK    OK  UNNEEDED, same version is already published
merida1macOS 10.14.6 Mojave / x86_64  OK    OK    OK    OK  UNNEEDED, same version is already published

Summary

Package: ASAFE
Version: 1.19.0
Command: C:\cygwin\bin\curl.exe -O http://155.52.207.166/BBS/3.14/bioc/src/contrib/ASAFE_1.19.0.tar.gz && rm -rf ASAFE.buildbin-libdir && mkdir ASAFE.buildbin-libdir && D:\biocbuild\bbs-3.14-bioc\R\bin\R.exe CMD INSTALL --merge-multiarch --build --library=ASAFE.buildbin-libdir ASAFE_1.19.0.tar.gz && D:\biocbuild\bbs-3.14-bioc\R\bin\R.exe CMD INSTALL ASAFE_1.19.0.zip && rm ASAFE_1.19.0.tar.gz ASAFE_1.19.0.zip
StartedAt: 2021-10-17 16:26:26 -0400 (Sun, 17 Oct 2021)
EndedAt: 2021-10-17 16:28:31 -0400 (Sun, 17 Oct 2021)
EllapsedTime: 125.5 seconds
RetCode: 0
Status:   OK  

Command output

##############################################################################
##############################################################################
###
### Running command:
###
###   C:\cygwin\bin\curl.exe -O http://155.52.207.166/BBS/3.14/bioc/src/contrib/ASAFE_1.19.0.tar.gz && rm -rf ASAFE.buildbin-libdir && mkdir ASAFE.buildbin-libdir && D:\biocbuild\bbs-3.14-bioc\R\bin\R.exe CMD INSTALL --merge-multiarch --build --library=ASAFE.buildbin-libdir ASAFE_1.19.0.tar.gz && D:\biocbuild\bbs-3.14-bioc\R\bin\R.exe CMD INSTALL ASAFE_1.19.0.zip && rm ASAFE_1.19.0.tar.gz ASAFE_1.19.0.zip
###
##############################################################################
##############################################################################


  % Total    % Received % Xferd  Average Speed   Time    Time     Time  Current
                                 Dload  Upload   Total   Spent    Left  Speed

  0     0    0     0    0     0      0      0 --:--:-- --:--:-- --:--:--     0
  2  191k    2  5189    0     0  63280      0  0:00:03 --:--:--  0:00:03 62518
100  191k  100  191k    0     0   956k      0 --:--:-- --:--:-- --:--:--  956k

install for i386

* installing *source* package 'ASAFE' ...
** using staged installation
** R
** data
*** moving datasets to lazyload DB
** inst
** byte-compile and prepare package for lazy loading
** help
*** installing help indices
  converting help for package 'ASAFE'
    finding HTML links ... done
    adm_ancestries_test                     html  
    adm_genotypes_test                      html  
    algorithm_1snp                          html  
    algorithm_1snp_wrapper                  html  
** building package indices
** installing vignettes
** testing if installed package can be loaded from temporary location
** testing if installed package can be loaded from final location
** testing if installed package keeps a record of temporary installation path

install for x64

* installing *source* package 'ASAFE' ...
** testing if installed package can be loaded
* MD5 sums
packaged installation of 'ASAFE' as ASAFE_1.19.0.zip
* DONE (ASAFE)
* installing to library 'D:/biocbuild/bbs-3.14-bioc/R/library'
package 'ASAFE' successfully unpacked and MD5 sums checked