Back to Multiple platform build/check report for BioC 3.14
[A]BCDEFGHIJKLMNOPQRSTUVWXYZ

This page was generated on 2021-11-29 15:04:49 -0500 (Mon, 29 Nov 2021).

BUILD results for ASAFE on nebbiolo2

To the developers/maintainers of the ASAFE package:
- Please allow up to 24 hours (and sometimes 48 hours) for your latest push to git@git.bioconductor.org:packages/ASAFE.git to
reflect on this report. See How and When does the builder pull? When will my changes propagate? here for more information.
- Make sure to use the following settings in order to reproduce any error or warning you see on this page.

raw results

Package 85/2083HostnameOS / ArchINSTALLBUILDCHECKBUILD BIN
ASAFE 1.20.0  (landing page)
Qian Zhang
Snapshot Date: 2021-11-28 04:15:06 -0500 (Sun, 28 Nov 2021)
git_url: https://git.bioconductor.org/packages/ASAFE
git_branch: RELEASE_3_14
git_last_commit: a487569
git_last_commit_date: 2021-10-26 12:29:07 -0500 (Tue, 26 Oct 2021)
nebbiolo2Linux (Ubuntu 20.04.3 LTS) / x86_64  OK    OK    OK  UNNEEDED, same version is already published
tokay2Windows Server 2012 R2 Standard / x64  OK    OK    OK    OK  UNNEEDED, same version is already published
machv2macOS 10.14.6 Mojave / x86_64  OK    OK    OK    OK  UNNEEDED, same version is already published

Summary

Package: ASAFE
Version: 1.20.0
Command: /home/biocbuild/bbs-3.14-bioc/R/bin/R CMD build --keep-empty-dirs --no-resave-data ASAFE
StartedAt: 2021-11-28 05:46:39 -0500 (Sun, 28 Nov 2021)
EndedAt: 2021-11-28 05:46:43 -0500 (Sun, 28 Nov 2021)
EllapsedTime: 4.4 seconds
RetCode: 0
Status:   OK  
PackageFile: ASAFE_1.20.0.tar.gz
PackageFileSize: 417.4 KiB

Command output

##############################################################################
##############################################################################
###
### Running command:
###
###   /home/biocbuild/bbs-3.14-bioc/R/bin/R CMD build --keep-empty-dirs --no-resave-data ASAFE
###
##############################################################################
##############################################################################


* checking for file ‘ASAFE/DESCRIPTION’ ... OK
* preparing ‘ASAFE’:
* checking DESCRIPTION meta-information ... OK
* installing the package to build vignettes
* creating vignettes ... OK
* checking for LF line-endings in source and make files and shell scripts
* checking for empty or unneeded directories
* building ‘ASAFE_1.20.0.tar.gz’