Back to Multiple platform build/check report for BioC 3.14
[A]BCDEFGHIJKLMNOPQRSTUVWXYZ

This page was generated on 2021-10-27 13:53:34 -0400 (Wed, 27 Oct 2021).

BUILD results for ARRmNormalization on merida1

To the developers/maintainers of the ARRmNormalization package:
- Please allow up to 24 hours (and sometimes 48 hours) for your latest push to git@git.bioconductor.org:packages/ARRmNormalization.git to
reflect on this report. See How and When does the builder pull? When will my changes propagate? here for more information.
- Make sure to use the following settings in order to reproduce any error or warning you see on this page.

raw results

Package 83/2083HostnameOS / ArchINSTALLBUILDCHECKBUILD BIN
ARRmNormalization 1.34.0  (landing page)
Jean-Philippe Fortin
Snapshot Date: 2021-10-26 14:50:08 -0400 (Tue, 26 Oct 2021)
git_url: https://git.bioconductor.org/packages/ARRmNormalization
git_branch: RELEASE_3_14
git_last_commit: e84ffab
git_last_commit_date: 2021-10-26 12:07:00 -0400 (Tue, 26 Oct 2021)
nebbiolo2Linux (Ubuntu 20.04.2 LTS) / x86_64  OK    OK    OK  YES
riesling1Windows Server 2019 Standard / x64  OK    OK    OK    OK  YES
merida1macOS 10.14.6 Mojave / x86_64  OK    OK    OK    OK  YES
machv2macOS 10.14.6 Mojave / x86_64  OK    OK    OK    OK  

Summary

Package: ARRmNormalization
Version: 1.34.0
Command: /Library/Frameworks/R.framework/Resources/bin/R CMD build --keep-empty-dirs --no-resave-data ARRmNormalization
StartedAt: 2021-10-26 18:35:46 -0400 (Tue, 26 Oct 2021)
EndedAt: 2021-10-26 18:36:27 -0400 (Tue, 26 Oct 2021)
EllapsedTime: 40.9 seconds
RetCode: 0
Status:   OK  
PackageFile: ARRmNormalization_1.34.0.tar.gz
PackageFileSize: 1.015 MiB

Command output

##############################################################################
##############################################################################
###
### Running command:
###
###   /Library/Frameworks/R.framework/Resources/bin/R CMD build --keep-empty-dirs --no-resave-data ARRmNormalization
###
##############################################################################
##############################################################################


* checking for file ‘ARRmNormalization/DESCRIPTION’ ... OK
* preparing ‘ARRmNormalization’:
* checking DESCRIPTION meta-information ... OK
* installing the package to build vignettes
* creating vignettes ... OK
* checking for LF line-endings in source and make files and shell scripts
* checking for empty or unneeded directories
* looking to see if a ‘data/datalist’ file should be added
* building ‘ARRmNormalization_1.34.0.tar.gz’