Back to Multiple platform build/check report for BioC 3.14
[A]BCDEFGHIJKLMNOPQRSTUVWXYZ

This page was generated on 2021-10-23 14:06:18 -0400 (Sat, 23 Oct 2021).

INSTALL results for ANF on riesling1

To the developers/maintainers of the ANF package:
- Please allow up to 24 hours (and sometimes 48 hours) for your latest push to git@git.bioconductor.org:packages/ANF.git to
reflect on this report. See How and When does the builder pull? When will my changes propagate? here for more information.
- Make sure to use the following settings in order to reproduce any error or warning you see on this page.

raw results

Package 55/2083HostnameOS / ArchINSTALLBUILDCHECKBUILD BIN
ANF 1.15.0  (landing page)
Tianle Ma
Snapshot Date: 2021-10-22 14:50:11 -0400 (Fri, 22 Oct 2021)
git_url: https://git.bioconductor.org/packages/ANF
git_branch: master
git_last_commit: e51bd8f
git_last_commit_date: 2021-05-19 12:30:57 -0400 (Wed, 19 May 2021)
nebbiolo2Linux (Ubuntu 20.04.2 LTS) / x86_64  OK    OK    OK  UNNEEDED, same version is already published
riesling1Windows Server 2019 Standard / x64  OK    OK    OK    OK  UNNEEDED, same version is already published
merida1macOS 10.14.6 Mojave / x86_64  OK    OK    OK    OK  UNNEEDED, same version is already published

Summary

Package: ANF
Version: 1.15.0
Command: C:\cygwin\bin\curl.exe -O http://155.52.207.166/BBS/3.14/bioc/src/contrib/ANF_1.15.0.tar.gz && rm -rf ANF.buildbin-libdir && mkdir ANF.buildbin-libdir && D:\biocbuild\bbs-3.14-bioc\R\bin\R.exe CMD INSTALL --merge-multiarch --build --library=ANF.buildbin-libdir ANF_1.15.0.tar.gz && D:\biocbuild\bbs-3.14-bioc\R\bin\R.exe CMD INSTALL ANF_1.15.0.zip && rm ANF_1.15.0.tar.gz ANF_1.15.0.zip
StartedAt: 2021-10-22 16:56:50 -0400 (Fri, 22 Oct 2021)
EndedAt: 2021-10-22 17:00:15 -0400 (Fri, 22 Oct 2021)
EllapsedTime: 205.9 seconds
RetCode: 0
Status:   OK  

Command output

##############################################################################
##############################################################################
###
### Running command:
###
###   C:\cygwin\bin\curl.exe -O http://155.52.207.166/BBS/3.14/bioc/src/contrib/ANF_1.15.0.tar.gz && rm -rf ANF.buildbin-libdir && mkdir ANF.buildbin-libdir && D:\biocbuild\bbs-3.14-bioc\R\bin\R.exe CMD INSTALL --merge-multiarch --build --library=ANF.buildbin-libdir ANF_1.15.0.tar.gz && D:\biocbuild\bbs-3.14-bioc\R\bin\R.exe CMD INSTALL ANF_1.15.0.zip && rm ANF_1.15.0.tar.gz ANF_1.15.0.zip
###
##############################################################################
##############################################################################


  % Total    % Received % Xferd  Average Speed   Time    Time     Time  Current
                                 Dload  Upload   Total   Spent    Left  Speed

  0     0    0     0    0     0      0      0 --:--:-- --:--:-- --:--:--     0
  8  469k    8 40527    0     0   258k      0  0:00:01 --:--:--  0:00:01  256k
100  469k  100  469k    0     0  1764k      0 --:--:-- --:--:-- --:--:-- 1758k

install for i386

* installing *source* package 'ANF' ...
** using staged installation
** R
** inst
** byte-compile and prepare package for lazy loading
** help
*** installing help indices
  converting help for package 'ANF'
    finding HTML links ... done
    ANF                                     html  
    affinity_matrix                         html  
    eval_clu                                html  
    kNN_graph                               html  
    pod                                     html  
    spectral_clustering                     html  
** building package indices
** installing vignettes
** testing if installed package can be loaded from temporary location
** testing if installed package can be loaded from final location
** testing if installed package keeps a record of temporary installation path

install for x64

* installing *source* package 'ANF' ...
** testing if installed package can be loaded
* MD5 sums
packaged installation of 'ANF' as ANF_1.15.0.zip
* DONE (ANF)
* installing to library 'D:/biocbuild/bbs-3.14-bioc/R/library'
package 'ANF' successfully unpacked and MD5 sums checked