Back to Multiple platform build/check report for BioC 3.14
[A]BCDEFGHIJKLMNOPQRSTUVWXYZ

This page was generated on 2021-10-20 12:05:32 -0400 (Wed, 20 Oct 2021).

BUILD results for ANF on merida1

To the developers/maintainers of the ANF package:
- Please allow up to 24 hours (and sometimes 48 hours) for your latest push to git@git.bioconductor.org:packages/ANF.git to
reflect on this report. See How and When does the builder pull? When will my changes propagate? here for more information.
- Make sure to use the following settings in order to reproduce any error or warning you see on this page.

raw results

Package 55/2072HostnameOS / ArchINSTALLBUILDCHECKBUILD BIN
ANF 1.15.0  (landing page)
Tianle Ma
Snapshot Date: 2021-10-19 14:50:04 -0400 (Tue, 19 Oct 2021)
git_url: https://git.bioconductor.org/packages/ANF
git_branch: master
git_last_commit: e51bd8f
git_last_commit_date: 2021-05-19 12:30:57 -0400 (Wed, 19 May 2021)
nebbiolo2Linux (Ubuntu 20.04.2 LTS) / x86_64  OK    OK    OK  UNNEEDED, same version is already published
riesling1Windows Server 2019 Standard / x64  OK    OK    OK    OK  UNNEEDED, same version is already published
merida1macOS 10.14.6 Mojave / x86_64  OK    OK    OK    OK  UNNEEDED, same version is already published

Summary

Package: ANF
Version: 1.15.0
Command: /Library/Frameworks/R.framework/Resources/bin/R CMD build --keep-empty-dirs --no-resave-data ANF
StartedAt: 2021-10-19 18:27:36 -0400 (Tue, 19 Oct 2021)
EndedAt: 2021-10-19 18:28:59 -0400 (Tue, 19 Oct 2021)
EllapsedTime: 83.4 seconds
RetCode: 0
Status:   OK  
PackageFile: ANF_1.15.0.tar.gz
PackageFileSize: 207.6 MiB

Command output

##############################################################################
##############################################################################
###
### Running command:
###
###   /Library/Frameworks/R.framework/Resources/bin/R CMD build --keep-empty-dirs --no-resave-data ANF
###
##############################################################################
##############################################################################


* checking for file ‘ANF/DESCRIPTION’ ... OK
* preparing ‘ANF’:
* checking DESCRIPTION meta-information ... OK
* installing the package to build vignettes
* creating vignettes ... OK
* checking for LF line-endings in source and make files and shell scripts
* checking for empty or unneeded directories
  NB: this package now depends on R (>= 3.5.0)
  WARNING: Added dependency on R >= 3.5.0 because serialized objects in
  serialize/load version 3 cannot be read in older versions of R.
  File(s) containing such objects:
    ‘ANF/vignettes/ANF_cache/html/unnamed-chunk-10_7ea9b3c31baaf7bb110dbd09da863f61.RData’
    ‘ANF/vignettes/ANF_cache/html/unnamed-chunk-10_7ea9b3c31baaf7bb110dbd09da863f61.rdx’
    ‘ANF/vignettes/ANF_cache/html/unnamed-chunk-11_3eff9502fe46b5fbb18f850574735f43.RData’
    ‘ANF/vignettes/ANF_cache/html/unnamed-chunk-11_3eff9502fe46b5fbb18f850574735f43.rdx’
    ‘ANF/vignettes/ANF_cache/html/unnamed-chunk-12_701b48286ef63863a088cf202666d801.RData’
    ‘ANF/vignettes/ANF_cache/html/unnamed-chunk-12_701b48286ef63863a088cf202666d801.rdx’
    ‘ANF/vignettes/ANF_cache/html/unnamed-chunk-13_65cbeac087e1bd78bce62820a08a6d87.RData’
    ‘ANF/vignettes/ANF_cache/html/unnamed-chunk-13_65cbeac087e1bd78bce62820a08a6d87.rdx’
    ‘ANF/vignettes/ANF_cache/html/unnamed-chunk-1_98e3c85c76b1b8f211bdc8231b3ed32b.RData’
    ‘ANF/vignettes/ANF_cache/html/unnamed-chunk-1_98e3c85c76b1b8f211bdc8231b3ed32b.rdx’
    ‘ANF/vignettes/ANF_cache/html/unnamed-chunk-2_7eed649ce1d103febf274f726163de24.RData’
    ‘ANF/vignettes/ANF_cache/html/unnamed-chunk-2_7eed649ce1d103febf274f726163de24.rdx’
    ‘ANF/vignettes/ANF_cache/html/unnamed-chunk-3_400037d85f204d80ce3b09ee1054fd18.RData’
    ‘ANF/vignettes/ANF_cache/html/unnamed-chunk-3_400037d85f204d80ce3b09ee1054fd18.rdx’
    ‘ANF/vignettes/ANF_cache/html/unnamed-chunk-4_dbc8f93caceee6e7b26090d648d1f56d.RData’
    ‘ANF/vignettes/ANF_cache/html/unnamed-chunk-4_dbc8f93caceee6e7b26090d648d1f56d.rdx’
    ‘ANF/vignettes/ANF_cache/html/unnamed-chunk-5_04716e16f069d9edeec835769b3418e9.RData’
    ‘ANF/vignettes/ANF_cache/html/unnamed-chunk-5_04716e16f069d9edeec835769b3418e9.rdx’
    ‘ANF/vignettes/ANF_cache/html/unnamed-chunk-6_d8558c6fd45ddbcebc9ac082937bbdba.RData’
    ‘ANF/vignettes/ANF_cache/html/unnamed-chunk-6_d8558c6fd45ddbcebc9ac082937bbdba.rdx’
    ‘ANF/vignettes/ANF_cache/html/unnamed-chunk-7_50511b45ace934e02d104489754805d9.RData’
    ‘ANF/vignettes/ANF_cache/html/unnamed-chunk-7_50511b45ace934e02d104489754805d9.rdx’
    ‘ANF/vignettes/ANF_cache/html/unnamed-chunk-8_23f04fbc7afb01e26bfb4c8b015ae36b.RData’
    ‘ANF/vignettes/ANF_cache/html/unnamed-chunk-8_23f04fbc7afb01e26bfb4c8b015ae36b.rdx’
    ‘ANF/vignettes/ANF_cache/html/unnamed-chunk-9_e6ac163507eed9f549a04c9b6dbb79df.RData’
    ‘ANF/vignettes/ANF_cache/html/unnamed-chunk-9_e6ac163507eed9f549a04c9b6dbb79df.rdx’
* building ‘ANF_1.15.0.tar.gz’