Back to Multiple platform build/check report for BioC 3.14
[A]BCDEFGHIJKLMNOPQRSTUVWXYZ

This page was generated on 2021-12-03 13:05:39 -0500 (Fri, 03 Dec 2021).

BUILD results for ANF on machv2

To the developers/maintainers of the ANF package:
- Please allow up to 24 hours (and sometimes 48 hours) for your latest push to git@git.bioconductor.org:packages/ANF.git to
reflect on this report. See How and When does the builder pull? When will my changes propagate? here for more information.
- Make sure to use the following settings in order to reproduce any error or warning you see on this page.

raw results

Package 55/2083HostnameOS / ArchINSTALLBUILDCHECKBUILD BIN
ANF 1.16.0  (landing page)
Tianle Ma
Snapshot Date: 2021-12-02 01:55:06 -0500 (Thu, 02 Dec 2021)
git_url: https://git.bioconductor.org/packages/ANF
git_branch: RELEASE_3_14
git_last_commit: 746a193
git_last_commit_date: 2021-10-26 12:38:49 -0500 (Tue, 26 Oct 2021)
nebbiolo2Linux (Ubuntu 20.04.3 LTS) / x86_64  OK    OK    OK  UNNEEDED, same version is already published
tokay2Windows Server 2012 R2 Standard / x64  OK    OK    OK    OK  UNNEEDED, same version is already published
machv2macOS 10.14.6 Mojave / x86_64  OK    OK    OK    OK  UNNEEDED, same version is already published

Summary

Package: ANF
Version: 1.16.0
Command: /Library/Frameworks/R.framework/Resources/bin/R CMD build --keep-empty-dirs --no-resave-data ANF
StartedAt: 2021-12-02 05:37:53 -0500 (Thu, 02 Dec 2021)
EndedAt: 2021-12-02 05:42:42 -0500 (Thu, 02 Dec 2021)
EllapsedTime: 289.7 seconds
RetCode: 0
Status:   OK  
PackageFile: ANF_1.16.0.tar.gz
PackageFileSize: 683 KiB

Command output

##############################################################################
##############################################################################
###
### Running command:
###
###   /Library/Frameworks/R.framework/Resources/bin/R CMD build --keep-empty-dirs --no-resave-data ANF
###
##############################################################################
##############################################################################


* checking for file ‘ANF/DESCRIPTION’ ... OK
* preparing ‘ANF’:
* checking DESCRIPTION meta-information ... OK
* installing the package to build vignettes
* creating vignettes ... OK
* checking for LF line-endings in source and make files and shell scripts
* checking for empty or unneeded directories
* building ‘ANF_1.16.0.tar.gz’