Back to Multiple platform build/check report for BioC 3.14
[A]BCDEFGHIJKLMNOPQRSTUVWXYZ

This page was generated on 2021-10-18 12:03:58 -0400 (Mon, 18 Oct 2021).

BUILD results for ANCOMBC on riesling1

To the developers/maintainers of the ANCOMBC package:
- Please allow up to 24 hours (and sometimes 48 hours) for your latest push to git@git.bioconductor.org:packages/ANCOMBC.git to
reflect on this report. See How and When does the builder pull? When will my changes propagate? here for more information.
- Make sure to use the following settings in order to reproduce any error or warning you see on this page.

raw results

Package 53/2060HostnameOS / ArchINSTALLBUILDCHECKBUILD BIN
ANCOMBC 1.3.2  (landing page)
Huang Lin
Snapshot Date: 2021-10-17 14:50:03 -0400 (Sun, 17 Oct 2021)
git_url: https://git.bioconductor.org/packages/ANCOMBC
git_branch: master
git_last_commit: 2b3444a
git_last_commit_date: 2021-08-13 10:32:15 -0400 (Fri, 13 Aug 2021)
nebbiolo2Linux (Ubuntu 20.04.2 LTS) / x86_64  OK    OK    OK  UNNEEDED, same version is already published
riesling1Windows Server 2019 Standard / x64  OK    OK    OK    OK  UNNEEDED, same version is already published
merida1macOS 10.14.6 Mojave / x86_64  OK    OK    OK    OK  UNNEEDED, same version is already published

Summary

Package: ANCOMBC
Version: 1.3.2
Command: chmod a+r ANCOMBC -R && D:\biocbuild\bbs-3.14-bioc\R\bin\R.exe CMD build --keep-empty-dirs --no-resave-data ANCOMBC
StartedAt: 2021-10-17 19:29:31 -0400 (Sun, 17 Oct 2021)
EndedAt: 2021-10-17 19:34:25 -0400 (Sun, 17 Oct 2021)
EllapsedTime: 293.5 seconds
RetCode: 0
Status:   OK  
PackageFile: ANCOMBC_1.3.2.tar.gz
PackageFileSize: 375.6 KiB

Command output

##############################################################################
##############################################################################
###
### Running command:
###
###   chmod a+r ANCOMBC -R && D:\biocbuild\bbs-3.14-bioc\R\bin\R.exe CMD build --keep-empty-dirs --no-resave-data ANCOMBC
###
##############################################################################
##############################################################################


* checking for file 'ANCOMBC/DESCRIPTION' ... OK
* preparing 'ANCOMBC':
* checking DESCRIPTION meta-information ... OK
* installing the package to process help pages
Loading required namespace: ANCOMBC
* saving partial Rd database
* creating vignettes ... OK
* checking for LF line-endings in source and make files and shell scripts
* checking for empty or unneeded directories
* building 'ANCOMBC_1.3.2.tar.gz'