Back to Multiple platform build/check report for BioC 3.14
[A]BCDEFGHIJKLMNOPQRSTUVWXYZ

This page was generated on 2021-10-19 12:04:46 -0400 (Tue, 19 Oct 2021).

BUILD BIN results for AMOUNTAIN on riesling1

To the developers/maintainers of the AMOUNTAIN package:
- Please allow up to 24 hours (and sometimes 48 hours) for your latest push to git@git.bioconductor.org:packages/AMOUNTAIN.git to
reflect on this report. See How and When does the builder pull? When will my changes propagate? here for more information.
- Make sure to use the following settings in order to reproduce any error or warning you see on this page.

raw results

Package 50/2060HostnameOS / ArchINSTALLBUILDCHECKBUILD BIN
AMOUNTAIN 1.19.0  (landing page)
Dong Li
Snapshot Date: 2021-10-18 14:50:10 -0400 (Mon, 18 Oct 2021)
git_url: https://git.bioconductor.org/packages/AMOUNTAIN
git_branch: master
git_last_commit: 6763eaa
git_last_commit_date: 2021-05-19 12:21:36 -0400 (Wed, 19 May 2021)
nebbiolo2Linux (Ubuntu 20.04.2 LTS) / x86_64  OK    OK    OK  UNNEEDED, same version is already published
riesling1Windows Server 2019 Standard / x64  OK    OK    OK    OK  UNNEEDED, same version is already published
merida1macOS 10.14.6 Mojave / x86_64  OK    OK    OK    OK  UNNEEDED, same version is already published

Summary

Package: AMOUNTAIN
Version: 1.19.0
Command: rm -rf AMOUNTAIN.buildbin-libdir && mkdir AMOUNTAIN.buildbin-libdir && D:\biocbuild\bbs-3.14-bioc\R\bin\R.exe CMD INSTALL --merge-multiarch --build --library=AMOUNTAIN.buildbin-libdir AMOUNTAIN_1.19.0.tar.gz
StartedAt: 2021-10-19 04:48:51 -0400 (Tue, 19 Oct 2021)
EndedAt: 2021-10-19 04:52:52 -0400 (Tue, 19 Oct 2021)
EllapsedTime: 240.5 seconds
RetCode: 0
Status:   OK  
PackageFile: AMOUNTAIN_1.19.0.zip
PackageFileSize: 1.206 MiB

Command output

##############################################################################
##############################################################################
###
### Running command:
###
###   rm -rf AMOUNTAIN.buildbin-libdir && mkdir AMOUNTAIN.buildbin-libdir && D:\biocbuild\bbs-3.14-bioc\R\bin\R.exe CMD INSTALL --merge-multiarch --build --library=AMOUNTAIN.buildbin-libdir AMOUNTAIN_1.19.0.tar.gz
###
##############################################################################
##############################################################################



install for i386

* installing *source* package 'AMOUNTAIN' ...
** using staged installation
** libs
"C:/rtools40/mingw32/bin/"gcc  -I"D:/biocbuild/bbs-3.14-bioc/R/include" -DNDEBUG -I/src/include -I/i386/include    -I"C:/extsoft/include"     -O2 -Wall  -std=gnu99 -mfpmath=sse -msse2 -mstackrealign  -c AMOUNTAIN.c -o AMOUNTAIN.o
C:/rtools40/mingw32/bin/gcc -shared -s -static-libgcc -o AMOUNTAIN.dll tmp.def AMOUNTAIN.o -L/i386/lib -lgsl -lgslcblas -lm -LC:/extsoft/lib/i386 -LC:/extsoft/lib -LD:/biocbuild/bbs-3.14-bioc/R/bin/i386 -lR
installing to D:/biocbuild/bbs-3.14-bioc/meat/AMOUNTAIN.buildbin-libdir/00LOCK-AMOUNTAIN/00new/AMOUNTAIN/libs/i386
** R
** inst
** byte-compile and prepare package for lazy loading
** help
*** installing help indices
  converting help for package 'AMOUNTAIN'
    finding HTML links ... done
    CGPFixSS                                html  
    CGPFixSSMultiLayer                      html  
    CGPFixSSTwolayer                        html  
    EuclideanProjectionENNORM               html  
    moduleIdentificationGPFixSS             html  
    moduleIdentificationGPFixSSMultilayer   html  
    moduleIdentificationGPFixSSTwolayer     html  
    multilayernetworkSimulation             html  
    networkSimulation                       html  
    twolayernetworkSimulation               html  
** building package indices
** installing vignettes
** testing if installed package can be loaded from temporary location
** testing if installed package can be loaded from final location
** testing if installed package keeps a record of temporary installation path

install for x64

* installing *source* package 'AMOUNTAIN' ...
** libs
"C:/rtools40/mingw64/bin/"gcc  -I"D:/biocbuild/bbs-3.14-bioc/R/include" -DNDEBUG -I/src/include -I/x64/include    -I"C:/extsoft/include"     -O2 -Wall  -std=gnu99 -mfpmath=sse -msse2 -mstackrealign  -c AMOUNTAIN.c -o AMOUNTAIN.o
C:/rtools40/mingw64/bin/gcc -shared -s -static-libgcc -o AMOUNTAIN.dll tmp.def AMOUNTAIN.o -L/x64/lib -lgsl -lgslcblas -lm -LC:/extsoft/lib/x64 -LC:/extsoft/lib -LD:/biocbuild/bbs-3.14-bioc/R/bin/x64 -lR
installing to D:/biocbuild/bbs-3.14-bioc/meat/AMOUNTAIN.buildbin-libdir/AMOUNTAIN/libs/x64
** testing if installed package can be loaded
* MD5 sums
packaged installation of 'AMOUNTAIN' as AMOUNTAIN_1.19.0.zip
* DONE (AMOUNTAIN)