Back to Multiple platform build/check report for BioC 3.14
[A]BCDEFGHIJKLMNOPQRSTUVWXYZ

This page was generated on 2021-10-25 14:05:31 -0400 (Mon, 25 Oct 2021).

BUILD results for AMARETTO on nebbiolo2

To the developers/maintainers of the AMARETTO package:
- Please allow up to 24 hours (and sometimes 48 hours) for your latest push to git@git.bioconductor.org:packages/AMARETTO.git to
reflect on this report. See How and When does the builder pull? When will my changes propagate? here for more information.
- Make sure to use the following settings in order to reproduce any error or warning you see on this page.

raw results

Package 49/2083HostnameOS / ArchINSTALLBUILDCHECKBUILD BIN
AMARETTO 1.9.0  (landing page)
Olivier Gevaert
Snapshot Date: 2021-10-24 14:50:04 -0400 (Sun, 24 Oct 2021)
git_url: https://git.bioconductor.org/packages/AMARETTO
git_branch: master
git_last_commit: 934b8e3
git_last_commit_date: 2021-05-19 12:42:00 -0400 (Wed, 19 May 2021)
nebbiolo2Linux (Ubuntu 20.04.2 LTS) / x86_64  OK    OK    OK  UNNEEDED, same version is already published
riesling1Windows Server 2019 Standard / x64  OK    OK    OK    OK  UNNEEDED, same version is already published
merida1macOS 10.14.6 Mojave / x86_64  OK    OK    OK    OK  UNNEEDED, same version is already published
machv2macOS 10.14.6 Mojave / x86_64  OK    OK    OK    OK  

Summary

Package: AMARETTO
Version: 1.9.0
Command: /home/biocbuild/bbs-3.14-bioc/R/bin/R CMD build --keep-empty-dirs --no-resave-data AMARETTO
StartedAt: 2021-10-24 16:42:31 -0400 (Sun, 24 Oct 2021)
EndedAt: 2021-10-24 16:43:18 -0400 (Sun, 24 Oct 2021)
EllapsedTime: 47.0 seconds
RetCode: 0
Status:   OK  
PackageFile: AMARETTO_1.9.0.tar.gz
PackageFileSize: 3.215 MiB

Command output

##############################################################################
##############################################################################
###
### Running command:
###
###   /home/biocbuild/bbs-3.14-bioc/R/bin/R CMD build --keep-empty-dirs --no-resave-data AMARETTO
###
##############################################################################
##############################################################################


* checking for file ‘AMARETTO/DESCRIPTION’ ... OK
* preparing ‘AMARETTO’:
* checking DESCRIPTION meta-information ... OK
* installing the package to build vignettes
* creating vignettes ... OK
* checking for LF line-endings in source and make files and shell scripts
* checking for empty or unneeded directories
* building ‘AMARETTO_1.9.0.tar.gz’