Back to Multiple platform build/check report for BioC 3.14
[A]BCDEFGHIJKLMNOPQRSTUVWXYZ

This page was generated on 2021-11-29 15:05:46 -0500 (Mon, 29 Nov 2021).

CHECK results for AMARETTO on machv2

To the developers/maintainers of the AMARETTO package:
- Please allow up to 24 hours (and sometimes 48 hours) for your latest push to git@git.bioconductor.org:packages/AMARETTO.git to
reflect on this report. See How and When does the builder pull? When will my changes propagate? here for more information.
- Make sure to use the following settings in order to reproduce any error or warning you see on this page.

raw results

Package 49/2083HostnameOS / ArchINSTALLBUILDCHECKBUILD BIN
AMARETTO 1.10.0  (landing page)
Olivier Gevaert
Snapshot Date: 2021-11-28 04:15:06 -0500 (Sun, 28 Nov 2021)
git_url: https://git.bioconductor.org/packages/AMARETTO
git_branch: RELEASE_3_14
git_last_commit: f2da2d8
git_last_commit_date: 2021-10-26 12:50:18 -0500 (Tue, 26 Oct 2021)
nebbiolo2Linux (Ubuntu 20.04.3 LTS) / x86_64  OK    OK    OK  UNNEEDED, same version is already published
tokay2Windows Server 2012 R2 Standard / x64  OK    OK    OK    OK  UNNEEDED, same version is already published
machv2macOS 10.14.6 Mojave / x86_64  OK    OK    OK    OK  UNNEEDED, same version is already published

Summary

Package: AMARETTO
Version: 1.10.0
Command: /Library/Frameworks/R.framework/Resources/bin/R CMD check --install=check:AMARETTO.install-out.txt --library=/Library/Frameworks/R.framework/Resources/library --no-vignettes --timings AMARETTO_1.10.0.tar.gz
StartedAt: 2021-11-28 13:28:07 -0500 (Sun, 28 Nov 2021)
EndedAt: 2021-11-28 13:34:09 -0500 (Sun, 28 Nov 2021)
EllapsedTime: 361.8 seconds
RetCode: 0
Status:   OK  
CheckDir: AMARETTO.Rcheck
Warnings: 0

Command output

##############################################################################
##############################################################################
###
### Running command:
###
###   /Library/Frameworks/R.framework/Resources/bin/R CMD check --install=check:AMARETTO.install-out.txt --library=/Library/Frameworks/R.framework/Resources/library --no-vignettes --timings AMARETTO_1.10.0.tar.gz
###
##############################################################################
##############################################################################


* using log directory ‘/Users/biocbuild/bbs-3.14-bioc/meat/AMARETTO.Rcheck’
* using R version 4.1.2 (2021-11-01)
* using platform: x86_64-apple-darwin17.0 (64-bit)
* using session charset: UTF-8
* using option ‘--no-vignettes’
* checking for file ‘AMARETTO/DESCRIPTION’ ... OK
* checking extension type ... Package
* this is package ‘AMARETTO’ version ‘1.10.0’
* package encoding: UTF-8
* checking package namespace information ... OK
* checking package dependencies ... OK
* checking if this is a source package ... OK
* checking if there is a namespace ... OK
* checking for hidden files and directories ... OK
* checking for portable file names ... OK
* checking for sufficient/correct file permissions ... OK
* checking whether package ‘AMARETTO’ can be installed ... OK
* checking installed package size ... NOTE
  installed size is  6.1Mb
  sub-directories of 1Mb or more:
    data      1.5Mb
    extdata   3.8Mb
* checking package directory ... OK
* checking ‘build’ directory ... OK
* checking DESCRIPTION meta-information ... NOTE
License components with restrictions not permitted:
  Apache License (== 2.0) + file LICENSE
Package listed in more than one of Depends, Imports, Suggests, Enhances:
  ‘knitr’
A package should be listed in only one of these fields.
'LinkingTo' field is unused: package has no 'src' directory
* checking top-level files ... OK
* checking for left-over files ... OK
* checking index information ... OK
* checking package subdirectories ... OK
* checking R files for non-ASCII characters ... OK
* checking R files for syntax errors ... OK
* checking whether the package can be loaded ... OK
* checking whether the package can be loaded with stated dependencies ... OK
* checking whether the package can be unloaded cleanly ... OK
* checking whether the namespace can be loaded with stated dependencies ... OK
* checking whether the namespace can be unloaded cleanly ... OK
* checking dependencies in R code ... OK
* checking S3 generic/method consistency ... OK
* checking replacement functions ... OK
* checking foreign function calls ... OK
* checking R code for possible problems ... NOTE
AMARETTO_HTMLreport: no visible binding for global variable ‘ModuleNr’
AMARETTO_HTMLreport: no visible binding for global variable ‘Weights’
AMARETTO_HTMLreport: no visible binding for global variable
  ‘RegulatorIDs’
AMARETTO_HTMLreport: no visible binding for global variable ‘TargetIDs’
AMARETTO_HTMLreport: no visible binding for global variable ‘moduleNr’
AMARETTO_HTMLreport: no visible binding for global variable ‘Testset’
AMARETTO_HTMLreport: no visible binding for global variable ‘padj’
AMARETTO_HTMLreport: no visible binding for global variable
  ‘n_Overlapping’
AMARETTO_HTMLreport: no visible binding for global variable
  ‘NumberGenes’
AMARETTO_HTMLreport: no visible binding for global variable
  ‘overlap_perc’
AMARETTO_HTMLreport: no visible binding for global variable ‘Geneset’
AMARETTO_HTMLreport: no visible binding for global variable
  ‘Description’
AMARETTO_HTMLreport: no visible binding for global variable
  ‘Geneset_length’
AMARETTO_HTMLreport: no visible binding for global variable
  ‘Overlapping_genes’
AMARETTO_HTMLreport: no visible binding for global variable ‘p_value’
AMARETTO_HTMLreport: no visible binding for global variable ‘p.value’
AMARETTO_HTMLreport: no visible binding for global variable ‘q.value’
AMARETTO_HTMLreport: no visible binding for global variable ‘Genes’
AMARETTO_HTMLreport: no visible binding for global variable ‘value’
AMARETTO_HTMLreport: no visible binding for global variable ‘Type’
AMARETTO_HTMLreport: no visible binding for global variable ‘Color’
AMARETTO_HTMLreport: no visible binding for global variable ‘Modules’
AMARETTO_HTMLreport: no visible binding for global variable
  ‘dt_gensesetsall’
GeneSetDescription: no visible binding for global variable
  ‘MsigdbMapping’
GeneSetDescription : <anonymous>: no visible binding for global
  variable ‘MsigdbMapping’
GmtFromModules: no visible binding for global variable ‘value’
GmtFromModules: no visible binding for global variable ‘variable’
GmtFromModules: no visible binding for global variable ‘GeneNames’
HyperGTestGeneEnrichment: no visible binding for global variable ‘i’
HyperGTestGeneEnrichment: no visible binding for global variable ‘j’
read_gct: no visible binding for global variable ‘Description’
Undefined global functions or variables:
  Color Description GeneNames Genes Geneset Geneset_length ModuleNr
  Modules MsigdbMapping NumberGenes Overlapping_genes RegulatorIDs
  TargetIDs Testset Type Weights dt_gensesetsall i j moduleNr
  n_Overlapping overlap_perc p.value p_value padj q.value value
  variable
* checking Rd files ... OK
* checking Rd metadata ... OK
* checking Rd cross-references ... OK
* checking for missing documentation entries ... OK
* checking for code/documentation mismatches ... OK
* checking Rd \usage sections ... OK
* checking Rd contents ... OK
* checking for unstated dependencies in examples ... OK
* checking contents of ‘data’ directory ... OK
* checking data for non-ASCII characters ... NOTE
  Note: found 152 marked UTF-8 strings
* checking LazyData ... OK
* checking data for ASCII and uncompressed saves ... OK
* checking files in ‘vignettes’ ... OK
* checking examples ... OK
Examples with CPU (user + system) or elapsed time > 5s
                    user system elapsed
AMARETTO_Download 19.698  1.266  24.778
* checking for unstated dependencies in ‘tests’ ... OK
* checking tests ...
  Running ‘testthat.R’
 OK
* checking for unstated dependencies in vignettes ... OK
* checking package vignettes in ‘inst/doc’ ... OK
* checking running R code from vignettes ... SKIPPED
* checking re-building of vignette outputs ... SKIPPED
* checking PDF version of manual ... OK
* DONE

Status: 4 NOTEs
See
  ‘/Users/biocbuild/bbs-3.14-bioc/meat/AMARETTO.Rcheck/00check.log’
for details.



Installation output

AMARETTO.Rcheck/00install.out

##############################################################################
##############################################################################
###
### Running command:
###
###   /Library/Frameworks/R.framework/Resources/bin/R CMD INSTALL AMARETTO
###
##############################################################################
##############################################################################


* installing to library ‘/Library/Frameworks/R.framework/Versions/4.1/Resources/library’
* installing *source* package ‘AMARETTO’ ...
** using staged installation
** R
** data
*** moving datasets to lazyload DB
** inst
** byte-compile and prepare package for lazy loading
** help
*** installing help indices
** building package indices
** installing vignettes
** testing if installed package can be loaded from temporary location
** testing if installed package can be loaded from final location
** testing if installed package keeps a record of temporary installation path
* DONE (AMARETTO)

Tests output

AMARETTO.Rcheck/tests/testthat.Rout


R version 4.1.2 (2021-11-01) -- "Bird Hippie"
Copyright (C) 2021 The R Foundation for Statistical Computing
Platform: x86_64-apple-darwin17.0 (64-bit)

R is free software and comes with ABSOLUTELY NO WARRANTY.
You are welcome to redistribute it under certain conditions.
Type 'license()' or 'licence()' for distribution details.

R is a collaborative project with many contributors.
Type 'contributors()' for more information and
'citation()' on how to cite R or R packages in publications.

Type 'demo()' for some demos, 'help()' for on-line help, or
'help.start()' for an HTML browser interface to help.
Type 'q()' to quit R.

> library(testthat)
> library(AMARETTO)
Loading required package: impute
Loading required package: doParallel
Loading required package: foreach
Loading required package: iterators
Loading required package: parallel
Loading required package: dplyr

Attaching package: 'dplyr'

The following object is masked from 'package:testthat':

    matches

The following objects are masked from 'package:stats':

    filter, lag

The following objects are masked from 'package:base':

    intersect, setdiff, setequal, union

Loading required package: ComplexHeatmap
Loading required package: grid
========================================
ComplexHeatmap version 2.10.0
Bioconductor page: http://bioconductor.org/packages/ComplexHeatmap/
Github page: https://github.com/jokergoo/ComplexHeatmap
Documentation: http://jokergoo.github.io/ComplexHeatmap-reference

If you use it in published research, please cite:
Gu, Z. Complex heatmaps reveal patterns and correlations in multidimensional 
  genomic data. Bioinformatics 2016.

The new InteractiveComplexHeatmap package can directly export static 
complex heatmaps into an interactive Shiny app with zero effort. Have a try!

This message can be suppressed by:
  suppressPackageStartupMessages(library(ComplexHeatmap))
========================================

> 
> test_check("AMARETTO")
	Found 10 CNV driver genes.
	Found 89 MethylMix driver genes.
	Found a total of 96 unique drivers with your selected method.
Running AMARETTO on 402 genes and 45 samples.
	Stopping if less then 4.02 genes reassigned.
	Autoregulation is turned ON.
Elapsed time is 3.673000 seconds
Average nr of regulators per module: 9.200000 
Elapsed time is 0.206000 seconds
Nr of reassignments is: 48 
Elapsed time is 2.428000 seconds
Average nr of regulators per module: 9.100000 
Elapsed time is 0.195000 seconds
Nr of reassignments is: 9 
Elapsed time is 2.322000 seconds
Average nr of regulators per module: 9.600000 
Elapsed time is 0.212000 seconds
Nr of reassignments is: 8 
Elapsed time is 2.358000 seconds
Average nr of regulators per module: 9.700000 
Elapsed time is 0.195000 seconds
Nr of reassignments is: 8 
Elapsed time is 2.216000 seconds
Average nr of regulators per module: 9.300000 
Elapsed time is 0.195000 seconds
Nr of reassignments is: 4 
Elapsed time is 14.007000 seconds
[ FAIL 0 | WARN 0 | SKIP 0 | PASS 39 ]
> 
> proc.time()
   user  system elapsed 
 28.997   0.832  29.836 

Example timings

AMARETTO.Rcheck/AMARETTO-Ex.timings

nameusersystemelapsed
AMARETTO_CreateModuleData2.1050.0552.167
AMARETTO_CreateRegulatorPrograms2.4250.0292.457
AMARETTO_Download19.698 1.26624.778
AMARETTO_EvaluateTestSet2.5610.0322.609
AMARETTO_ExportResults1.7060.1031.785
AMARETTO_HTMLreport000
AMARETTO_Initialize0.7760.0050.783
AMARETTO_Preprocess000
AMARETTO_Run1.7380.0121.753
AMARETTO_VisualizeModule4.5310.0234.557
plot_run_history2.0670.0162.085
read_gct000