Back to Multiple platform build/check report for BioC 3.14
[A]BCDEFGHIJKLMNOPQRSTUVWXYZ

This page was generated on 2021-10-19 12:04:46 -0400 (Tue, 19 Oct 2021).

INSTALL results for ALPS on riesling1

To the developers/maintainers of the ALPS package:
- Please allow up to 24 hours (and sometimes 48 hours) for your latest push to git@git.bioconductor.org:packages/ALPS.git to
reflect on this report. See How and When does the builder pull? When will my changes propagate? here for more information.
- Make sure to use the following settings in order to reproduce any error or warning you see on this page.

raw results

Package 45/2060HostnameOS / ArchINSTALLBUILDCHECKBUILD BIN
ALPS 1.7.1  (landing page)
Venu Thatikonda
Snapshot Date: 2021-10-18 14:50:10 -0400 (Mon, 18 Oct 2021)
git_url: https://git.bioconductor.org/packages/ALPS
git_branch: master
git_last_commit: 6f38b5d
git_last_commit_date: 2021-06-21 10:37:10 -0400 (Mon, 21 Jun 2021)
nebbiolo2Linux (Ubuntu 20.04.2 LTS) / x86_64  OK    ERROR  skipped
riesling1Windows Server 2019 Standard / x64  OK    ERROR  skippedskipped
merida1macOS 10.14.6 Mojave / x86_64  OK    ERROR  skippedskipped

Summary

Package: ALPS
Version: 1.7.1
Command: D:\biocbuild\bbs-3.14-bioc\R\bin\R.exe --arch x64 CMD INSTALL --no-multiarch ALPS
StartedAt: 2021-10-18 19:17:44 -0400 (Mon, 18 Oct 2021)
EndedAt: 2021-10-18 19:20:37 -0400 (Mon, 18 Oct 2021)
EllapsedTime: 172.8 seconds
RetCode: 0
Status:   OK  

Command output

##############################################################################
##############################################################################
###
### Running command:
###
###   D:\biocbuild\bbs-3.14-bioc\R\bin\R.exe --arch x64 CMD INSTALL --no-multiarch ALPS
###
##############################################################################
##############################################################################


* installing to library 'D:/biocbuild/bbs-3.14-bioc/R/library'
* installing *source* package 'ALPS' ...
** using staged installation
** R
** inst
** byte-compile and prepare package for lazy loading
** help
*** installing help indices
  converting help for package 'ALPS'
    finding HTML links ... done
    ALPS-package                            html  
    get_genomic_annotations                 html  
    get_variable_regions                    html  
    merge_GR                                html  
    multiBigwig_summary                     html  
    pipe                                    html  
    plot_browser_tracks                     html  
    plot_correlation                        html  
    plot_enrichments                        html  
    plot_genomic_annotations                html  
    plot_motif_logo                         html  
    process_homer                           html  
    process_jaspar                          html  
    process_meme                            html  
    process_pfm                             html  
    process_transfac                        html  
** building package indices
** installing vignettes
** testing if installed package can be loaded from temporary location
Warning: Package 'ALPS' is deprecated and will be removed from Bioconductor
  version 3.15
** testing if installed package can be loaded from final location
Warning: Package 'ALPS' is deprecated and will be removed from Bioconductor
  version 3.15
** testing if installed package keeps a record of temporary installation path
* DONE (ALPS)
Making 'packages.html' ... done