Back to Multiple platform build/check report for BioC 3.14
[A]BCDEFGHIJKLMNOPQRSTUVWXYZ

This page was generated on 2021-10-18 12:03:57 -0400 (Mon, 18 Oct 2021).

CHECK results for ALDEx2 on riesling1

To the developers/maintainers of the ALDEx2 package:
- Please allow up to 24 hours (and sometimes 48 hours) for your latest push to git@git.bioconductor.org:packages/ALDEx2.git to
reflect on this report. See How and When does the builder pull? When will my changes propagate? here for more information.
- Make sure to use the following settings in order to reproduce any error or warning you see on this page.

raw results

Package 40/2060HostnameOS / ArchINSTALLBUILDCHECKBUILD BIN
ALDEx2 1.25.2  (landing page)
Greg Gloor
Snapshot Date: 2021-10-17 14:50:03 -0400 (Sun, 17 Oct 2021)
git_url: https://git.bioconductor.org/packages/ALDEx2
git_branch: master
git_last_commit: 6e26280
git_last_commit_date: 2021-10-01 16:22:11 -0400 (Fri, 01 Oct 2021)
nebbiolo2Linux (Ubuntu 20.04.2 LTS) / x86_64  OK    OK    OK  UNNEEDED, same version is already published
riesling1Windows Server 2019 Standard / x64  OK    OK    OK    OK  UNNEEDED, same version is already published
merida1macOS 10.14.6 Mojave / x86_64  OK    OK    OK    OK  UNNEEDED, same version is already published

Summary

Package: ALDEx2
Version: 1.25.2
Command: D:\biocbuild\bbs-3.14-bioc\R\bin\R.exe CMD check --force-multiarch --install=check:ALDEx2.install-out.txt --library=D:\biocbuild\bbs-3.14-bioc\R\library --no-vignettes --timings ALDEx2_1.25.2.tar.gz
StartedAt: 2021-10-17 23:48:04 -0400 (Sun, 17 Oct 2021)
EndedAt: 2021-10-17 23:54:29 -0400 (Sun, 17 Oct 2021)
EllapsedTime: 384.9 seconds
RetCode: 0
Status:   OK  
CheckDir: ALDEx2.Rcheck
Warnings: 0

Command output

##############################################################################
##############################################################################
###
### Running command:
###
###   D:\biocbuild\bbs-3.14-bioc\R\bin\R.exe CMD check --force-multiarch --install=check:ALDEx2.install-out.txt --library=D:\biocbuild\bbs-3.14-bioc\R\library --no-vignettes --timings ALDEx2_1.25.2.tar.gz
###
##############################################################################
##############################################################################


* using log directory 'D:/biocbuild/bbs-3.14-bioc/meat/ALDEx2.Rcheck'
* using R version 4.1.1 (2021-08-10)
* using platform: x86_64-w64-mingw32 (64-bit)
* using session charset: ISO8859-1
* using option '--no-vignettes'
* checking for file 'ALDEx2/DESCRIPTION' ... OK
* checking extension type ... Package
* this is package 'ALDEx2' version '1.25.2'
* checking package namespace information ... OK
* checking package dependencies ... OK
* checking if this is a source package ... OK
* checking if there is a namespace ... OK
* checking for hidden files and directories ... OK
* checking for portable file names ... OK
* checking whether package 'ALDEx2' can be installed ... OK
* checking installed package size ... OK
* checking package directory ... OK
* checking 'build' directory ... OK
* checking DESCRIPTION meta-information ... OK
* checking top-level files ... OK
* checking for left-over files ... OK
* checking index information ... OK
* checking package subdirectories ... OK
* checking R files for non-ASCII characters ... OK
* checking R files for syntax errors ... OK
* loading checks for arch 'i386'
** checking whether the package can be loaded ... OK
** checking whether the package can be loaded with stated dependencies ... OK
** checking whether the package can be unloaded cleanly ... OK
** checking whether the namespace can be loaded with stated dependencies ... OK
** checking whether the namespace can be unloaded cleanly ... OK
* loading checks for arch 'x64'
** checking whether the package can be loaded ... OK
** checking whether the package can be loaded with stated dependencies ... OK
** checking whether the package can be unloaded cleanly ... OK
** checking whether the namespace can be loaded with stated dependencies ... OK
** checking whether the namespace can be unloaded cleanly ... OK
* checking dependencies in R code ... OK
* checking S3 generic/method consistency ... OK
* checking replacement functions ... OK
* checking foreign function calls ... OK
* checking R code for possible problems ... OK
* checking Rd files ... OK
* checking Rd metadata ... OK
* checking Rd cross-references ... OK
* checking for missing documentation entries ... OK
* checking for code/documentation mismatches ... OK
* checking Rd \usage sections ... OK
* checking Rd contents ... OK
* checking for unstated dependencies in examples ... OK
* checking contents of 'data' directory ... OK
* checking data for non-ASCII characters ... OK
* checking data for ASCII and uncompressed saves ... OK
* checking files in 'vignettes' ... OK
* checking examples ...
** running examples for arch 'i386' ... OK
Examples with CPU (user + system) or elapsed time > 5s
            user system elapsed
aldex.corr 46.67   0.99   47.71
** running examples for arch 'x64' ... OK
Examples with CPU (user + system) or elapsed time > 5s
            user system elapsed
aldex.corr 48.02   1.06   49.08
* checking for unstated dependencies in 'tests' ... OK
* checking tests ...
** running tests for arch 'i386' ...
  Running 'testthat.R'
 OK
** running tests for arch 'x64' ...
  Running 'testthat.R'
 OK
* checking for unstated dependencies in vignettes ... OK
* checking package vignettes in 'inst/doc' ... OK
* checking running R code from vignettes ... SKIPPED
* checking re-building of vignette outputs ... SKIPPED
* checking PDF version of manual ... OK
* DONE

Status: OK


Installation output

ALDEx2.Rcheck/00install.out

##############################################################################
##############################################################################
###
### Running command:
###
###   C:\cygwin\bin\curl.exe -O http://155.52.207.166/BBS/3.14/bioc/src/contrib/ALDEx2_1.25.2.tar.gz && rm -rf ALDEx2.buildbin-libdir && mkdir ALDEx2.buildbin-libdir && D:\biocbuild\bbs-3.14-bioc\R\bin\R.exe CMD INSTALL --merge-multiarch --build --library=ALDEx2.buildbin-libdir ALDEx2_1.25.2.tar.gz && D:\biocbuild\bbs-3.14-bioc\R\bin\R.exe CMD INSTALL ALDEx2_1.25.2.zip && rm ALDEx2_1.25.2.tar.gz ALDEx2_1.25.2.zip
###
##############################################################################
##############################################################################


  % Total    % Received % Xferd  Average Speed   Time    Time     Time  Current
                                 Dload  Upload   Total   Spent    Left  Speed

  0     0    0     0    0     0      0      0 --:--:-- --:--:-- --:--:--     0
 36 1109k   36  408k    0     0  1548k      0 --:--:-- --:--:-- --:--:-- 1542k
100 1109k  100 1109k    0     0  3206k      0 --:--:-- --:--:-- --:--:-- 3206k

install for i386

* installing *source* package 'ALDEx2' ...
** using staged installation
** R
** data
** inst
** byte-compile and prepare package for lazy loading
** help
*** installing help indices
  converting help for package 'ALDEx2'
    finding HTML links ... done
    ALDEx2m-package                         html  
    aldex                                   html  
    aldex.clr-class                         html  
    aldex.clr.function-methods              html  
    aldex.corr                              html  
    aldex.effect                            html  
    aldex.glm                               html  
    aldex.glm.effect                        html  
    aldex.kw                                html  
    aldex.plotFeature                       html  
    aldex.set.mode                          html  
    aldex.ttest                             html  
    expectedDistance                        html  
    getDenom-method                         html  
    getDirichletInstances-method            html  
    getDirichletReplicate-method            html  
    getDirichletSample-method               html  
    getFeatureNames-method                  html  
    getFeatures-method                      html  
    getMonteCarloInstances-method           html  
    getMonteCarloReplicate-method           html  
    getMonteCarloSample-method              html  
    getReads-method                         html  
    getSampleIDs-method                     html  
    numConditions-method                    html  
    numFeatures-method                      html  
    numMCInstances-method                   html  
    plot.aldex                              html  
    selex                                   html  
    synth2                                  html  
** building package indices
** installing vignettes
** testing if installed package can be loaded from temporary location
** testing if installed package can be loaded from final location
** testing if installed package keeps a record of temporary installation path

install for x64

* installing *source* package 'ALDEx2' ...
** testing if installed package can be loaded
* MD5 sums
packaged installation of 'ALDEx2' as ALDEx2_1.25.2.zip
* DONE (ALDEx2)
* installing to library 'D:/biocbuild/bbs-3.14-bioc/R/library'
package 'ALDEx2' successfully unpacked and MD5 sums checked

Tests output

ALDEx2.Rcheck/tests_i386/testthat.Rout


R version 4.1.1 (2021-08-10) -- "Kick Things"
Copyright (C) 2021 The R Foundation for Statistical Computing
Platform: i386-w64-mingw32/i386 (32-bit)

R is free software and comes with ABSOLUTELY NO WARRANTY.
You are welcome to redistribute it under certain conditions.
Type 'license()' or 'licence()' for distribution details.

R is a collaborative project with many contributors.
Type 'contributors()' for more information and
'citation()' on how to cite R or R packages in publications.

Type 'demo()' for some demos, 'help()' for on-line help, or
'help.start()' for an HTML browser interface to help.
Type 'q()' to quit R.

> library(testthat)
> library(ALDEx2)
Loading required package: zCompositions
Loading required package: MASS
Loading required package: NADA
Loading required package: survival

Attaching package: 'NADA'

The following object is masked from 'package:stats':

    cor

Loading required package: truncnorm
> 
> test_check("ALDEx2")
[ FAIL 0 | WARN 4 | SKIP 0 | PASS 22 ]
> 
> proc.time()
   user  system elapsed 
  21.62    1.21   22.84 

ALDEx2.Rcheck/tests_x64/testthat.Rout


R version 4.1.1 (2021-08-10) -- "Kick Things"
Copyright (C) 2021 The R Foundation for Statistical Computing
Platform: x86_64-w64-mingw32/x64 (64-bit)

R is free software and comes with ABSOLUTELY NO WARRANTY.
You are welcome to redistribute it under certain conditions.
Type 'license()' or 'licence()' for distribution details.

R is a collaborative project with many contributors.
Type 'contributors()' for more information and
'citation()' on how to cite R or R packages in publications.

Type 'demo()' for some demos, 'help()' for on-line help, or
'help.start()' for an HTML browser interface to help.
Type 'q()' to quit R.

> library(testthat)
> library(ALDEx2)
Loading required package: zCompositions
Loading required package: MASS
Loading required package: NADA
Loading required package: survival

Attaching package: 'NADA'

The following object is masked from 'package:stats':

    cor

Loading required package: truncnorm
> 
> test_check("ALDEx2")
[ FAIL 0 | WARN 4 | SKIP 0 | PASS 22 ]
> 
> proc.time()
   user  system elapsed 
  22.93    1.25   24.17 

Example timings

ALDEx2.Rcheck/examples_i386/ALDEx2-Ex.timings

nameusersystemelapsed
ALDEx2m-package000
aldex1.260.862.12
aldex.clr-class0.050.000.05
aldex.clr.function-methods0.030.010.04
aldex.corr46.67 0.9947.71
aldex.effect0.190.000.18
aldex.glm0.820.000.83
aldex.glm.effect0.330.000.33
aldex.kw1.250.011.26
aldex.plotFeature0.100.000.09
aldex.set.mode0.040.000.05
aldex.ttest0.110.000.11
expectedDistance0.690.000.68
getDenom-method0.050.020.07
getDirichletInstances-method0.050.000.04
getDirichletReplicate-method0.040.000.05
getDirichletSample-method0.050.000.05
getFeatureNames-method0.050.000.04
getFeatures-method0.040.000.05
getMonteCarloInstances-method0.050.000.05
getMonteCarloReplicate-method0.050.000.05
getMonteCarloSample-method0.040.000.04
getReads-method0.050.000.05
getSampleIDs-method0.050.000.05
numConditions-method0.040.000.04
numFeatures-method0.050.000.05
numMCInstances-method0.050.010.06
plot.aldex000

ALDEx2.Rcheck/examples_x64/ALDEx2-Ex.timings

nameusersystemelapsed
ALDEx2m-package000
aldex1.480.752.23
aldex.clr-class0.050.000.05
aldex.clr.function-methods0.030.020.04
aldex.corr48.02 1.0649.08
aldex.effect0.120.000.13
aldex.glm0.630.000.62
aldex.glm.effect0.250.020.27
aldex.kw1.140.001.14
aldex.plotFeature0.070.000.14
aldex.set.mode0.040.000.03
aldex.ttest0.070.000.08
expectedDistance0.300.040.34
getDenom-method0.060.000.06
getDirichletInstances-method0.050.000.05
getDirichletReplicate-method0.050.000.05
getDirichletSample-method0.030.000.03
getFeatureNames-method0.040.000.05
getFeatures-method0.050.000.04
getMonteCarloInstances-method0.050.000.05
getMonteCarloReplicate-method0.050.000.05
getMonteCarloSample-method0.030.000.03
getReads-method0.040.000.05
getSampleIDs-method0.050.000.04
numConditions-method0.030.000.03
numFeatures-method0.050.000.05
numMCInstances-method0.030.000.03
plot.aldex000