Back to Multiple platform build/check report for BioC 3.14
[A]BCDEFGHIJKLMNOPQRSTUVWXYZ

This page was generated on 2021-10-19 12:05:18 -0400 (Tue, 19 Oct 2021).

CHECK results for ALDEx2 on merida1

To the developers/maintainers of the ALDEx2 package:
- Please allow up to 24 hours (and sometimes 48 hours) for your latest push to git@git.bioconductor.org:packages/ALDEx2.git to
reflect on this report. See How and When does the builder pull? When will my changes propagate? here for more information.
- Make sure to use the following settings in order to reproduce any error or warning you see on this page.

raw results

Package 40/2060HostnameOS / ArchINSTALLBUILDCHECKBUILD BIN
ALDEx2 1.25.2  (landing page)
Greg Gloor
Snapshot Date: 2021-10-18 14:50:10 -0400 (Mon, 18 Oct 2021)
git_url: https://git.bioconductor.org/packages/ALDEx2
git_branch: master
git_last_commit: 6e26280
git_last_commit_date: 2021-10-01 16:22:11 -0400 (Fri, 01 Oct 2021)
nebbiolo2Linux (Ubuntu 20.04.2 LTS) / x86_64  OK    OK    OK  UNNEEDED, same version is already published
riesling1Windows Server 2019 Standard / x64  OK    OK    OK    OK  UNNEEDED, same version is already published
merida1macOS 10.14.6 Mojave / x86_64  OK    OK    OK    OK  UNNEEDED, same version is already published

Summary

Package: ALDEx2
Version: 1.25.2
Command: /Library/Frameworks/R.framework/Resources/bin/R CMD check --install=check:ALDEx2.install-out.txt --library=/Library/Frameworks/R.framework/Resources/library --no-vignettes --timings ALDEx2_1.25.2.tar.gz
StartedAt: 2021-10-19 00:28:33 -0400 (Tue, 19 Oct 2021)
EndedAt: 2021-10-19 00:34:43 -0400 (Tue, 19 Oct 2021)
EllapsedTime: 370.2 seconds
RetCode: 0
Status:   OK  
CheckDir: ALDEx2.Rcheck
Warnings: 0

Command output

##############################################################################
##############################################################################
###
### Running command:
###
###   /Library/Frameworks/R.framework/Resources/bin/R CMD check --install=check:ALDEx2.install-out.txt --library=/Library/Frameworks/R.framework/Resources/library --no-vignettes --timings ALDEx2_1.25.2.tar.gz
###
##############################################################################
##############################################################################


* using log directory ‘/Users/biocbuild/bbs-3.14-bioc/meat/ALDEx2.Rcheck’
* using R version 4.1.1 Patched (2021-08-22 r80813)
* using platform: x86_64-apple-darwin17.0 (64-bit)
* using session charset: UTF-8
* using option ‘--no-vignettes’
* checking for file ‘ALDEx2/DESCRIPTION’ ... OK
* checking extension type ... Package
* this is package ‘ALDEx2’ version ‘1.25.2’
* checking package namespace information ... OK
* checking package dependencies ... OK
* checking if this is a source package ... OK
* checking if there is a namespace ... OK
* checking for hidden files and directories ... OK
* checking for portable file names ... OK
* checking for sufficient/correct file permissions ... OK
* checking whether package ‘ALDEx2’ can be installed ... OK
* checking installed package size ... OK
* checking package directory ... OK
* checking ‘build’ directory ... OK
* checking DESCRIPTION meta-information ... OK
* checking top-level files ... OK
* checking for left-over files ... OK
* checking index information ... OK
* checking package subdirectories ... OK
* checking R files for non-ASCII characters ... OK
* checking R files for syntax errors ... OK
* checking whether the package can be loaded ... OK
* checking whether the package can be loaded with stated dependencies ... OK
* checking whether the package can be unloaded cleanly ... OK
* checking whether the namespace can be loaded with stated dependencies ... OK
* checking whether the namespace can be unloaded cleanly ... OK
* checking dependencies in R code ... OK
* checking S3 generic/method consistency ... OK
* checking replacement functions ... OK
* checking foreign function calls ... OK
* checking R code for possible problems ... OK
* checking Rd files ... OK
* checking Rd metadata ... OK
* checking Rd cross-references ... OK
* checking for missing documentation entries ... OK
* checking for code/documentation mismatches ... OK
* checking Rd \usage sections ... OK
* checking Rd contents ... OK
* checking for unstated dependencies in examples ... OK
* checking contents of ‘data’ directory ... OK
* checking data for non-ASCII characters ... OK
* checking data for ASCII and uncompressed saves ... OK
* checking files in ‘vignettes’ ... OK
* checking examples ... OK
Examples with CPU (user + system) or elapsed time > 5s
              user system elapsed
aldex.corr 111.401  2.329 113.864
* checking for unstated dependencies in ‘tests’ ... OK
* checking tests ...
  Running ‘testthat.R’
 OK
* checking for unstated dependencies in vignettes ... OK
* checking package vignettes in ‘inst/doc’ ... OK
* checking running R code from vignettes ... SKIPPED
* checking re-building of vignette outputs ... SKIPPED
* checking PDF version of manual ... OK
* DONE

Status: OK


Installation output

ALDEx2.Rcheck/00install.out

##############################################################################
##############################################################################
###
### Running command:
###
###   /Library/Frameworks/R.framework/Resources/bin/R CMD INSTALL ALDEx2
###
##############################################################################
##############################################################################


* installing to library ‘/Library/Frameworks/R.framework/Versions/4.1/Resources/library’
* installing *source* package ‘ALDEx2’ ...
** using staged installation
** R
** data
** inst
** byte-compile and prepare package for lazy loading
** help
*** installing help indices
** building package indices
** installing vignettes
** testing if installed package can be loaded from temporary location
** testing if installed package can be loaded from final location
** testing if installed package keeps a record of temporary installation path
* DONE (ALDEx2)

Tests output

ALDEx2.Rcheck/tests/testthat.Rout


R version 4.1.1 Patched (2021-08-22 r80813) -- "Kick Things"
Copyright (C) 2021 The R Foundation for Statistical Computing
Platform: x86_64-apple-darwin17.0 (64-bit)

R is free software and comes with ABSOLUTELY NO WARRANTY.
You are welcome to redistribute it under certain conditions.
Type 'license()' or 'licence()' for distribution details.

R is a collaborative project with many contributors.
Type 'contributors()' for more information and
'citation()' on how to cite R or R packages in publications.

Type 'demo()' for some demos, 'help()' for on-line help, or
'help.start()' for an HTML browser interface to help.
Type 'q()' to quit R.

> library(testthat)
> library(ALDEx2)
Loading required package: zCompositions
Loading required package: MASS
Loading required package: NADA
Loading required package: survival

Attaching package: 'NADA'

The following object is masked from 'package:stats':

    cor

Loading required package: truncnorm
> 
> test_check("ALDEx2")
[ FAIL 0 | WARN 4 | SKIP 0 | PASS 22 ]
> 
> proc.time()
   user  system elapsed 
 54.347   1.521  55.895 

Example timings

ALDEx2.Rcheck/ALDEx2-Ex.timings

nameusersystemelapsed
ALDEx2m-package000
aldex2.4030.4942.901
aldex.clr-class0.1050.0060.112
aldex.clr.function-methods0.0760.0040.080
aldex.corr111.401 2.329113.864
aldex.effect0.3850.0070.393
aldex.glm1.5160.0071.524
aldex.glm.effect0.7640.0250.790
aldex.kw2.9150.0122.930
aldex.plotFeature0.1320.0030.136
aldex.set.mode0.0810.0020.083
aldex.ttest0.2230.0030.226
expectedDistance0.9400.0370.978
getDenom-method0.1330.0020.136
getDirichletInstances-method0.0540.0020.056
getDirichletReplicate-method0.0540.0010.055
getDirichletSample-method0.0590.0010.060
getFeatureNames-method0.0740.0020.077
getFeatures-method0.0800.0020.082
getMonteCarloInstances-method0.0740.0020.076
getMonteCarloReplicate-method0.0730.0030.075
getMonteCarloSample-method0.0700.0020.072
getReads-method0.0660.0030.068
getSampleIDs-method0.0690.0020.071
numConditions-method0.0810.0020.084
numFeatures-method0.0610.0020.064
numMCInstances-method0.0630.0020.065
plot.aldex000