Back to Multiple platform build/check report for BioC 3.14
[A]BCDEFGHIJKLMNOPQRSTUVWXYZ

This page was generated on 2021-10-23 14:05:53 -0400 (Sat, 23 Oct 2021).

CHECK results for AIMS on nebbiolo2

To the developers/maintainers of the AIMS package:
- Please allow up to 24 hours (and sometimes 48 hours) for your latest push to git@git.bioconductor.org:packages/AIMS.git to
reflect on this report. See How and When does the builder pull? When will my changes propagate? here for more information.
- Make sure to use the following settings in order to reproduce any error or warning you see on this page.

raw results

Package 38/2083HostnameOS / ArchINSTALLBUILDCHECKBUILD BIN
AIMS 1.25.0  (landing page)
Eric R Paquet
Snapshot Date: 2021-10-22 14:50:11 -0400 (Fri, 22 Oct 2021)
git_url: https://git.bioconductor.org/packages/AIMS
git_branch: master
git_last_commit: d1e829c
git_last_commit_date: 2021-05-19 12:09:52 -0400 (Wed, 19 May 2021)
nebbiolo2Linux (Ubuntu 20.04.2 LTS) / x86_64  OK    OK    OK  UNNEEDED, same version is already published
riesling1Windows Server 2019 Standard / x64  OK    OK    OK    OK  UNNEEDED, same version is already published
merida1macOS 10.14.6 Mojave / x86_64  OK    OK    OK    OK  UNNEEDED, same version is already published

Summary

Package: AIMS
Version: 1.25.0
Command: /home/biocbuild/bbs-3.14-bioc/R/bin/R CMD check --install=check:AIMS.install-out.txt --library=/home/biocbuild/bbs-3.14-bioc/R/library --no-vignettes --timings AIMS_1.25.0.tar.gz
StartedAt: 2021-10-22 19:03:40 -0400 (Fri, 22 Oct 2021)
EndedAt: 2021-10-22 19:04:04 -0400 (Fri, 22 Oct 2021)
EllapsedTime: 24.8 seconds
RetCode: 0
Status:   OK  
CheckDir: AIMS.Rcheck
Warnings: 0

Command output

##############################################################################
##############################################################################
###
### Running command:
###
###   /home/biocbuild/bbs-3.14-bioc/R/bin/R CMD check --install=check:AIMS.install-out.txt --library=/home/biocbuild/bbs-3.14-bioc/R/library --no-vignettes --timings AIMS_1.25.0.tar.gz
###
##############################################################################
##############################################################################


* using log directory ‘/home/biocbuild/bbs-3.14-bioc/meat/AIMS.Rcheck’
* using R version 4.1.1 (2021-08-10)
* using platform: x86_64-pc-linux-gnu (64-bit)
* using session charset: UTF-8
* using option ‘--no-vignettes’
* checking for file ‘AIMS/DESCRIPTION’ ... OK
* checking extension type ... Package
* this is package ‘AIMS’ version ‘1.25.0’
* checking package namespace information ... OK
* checking package dependencies ... OK
* checking if this is a source package ... OK
* checking if there is a namespace ... OK
* checking for hidden files and directories ... OK
* checking for portable file names ... OK
* checking for sufficient/correct file permissions ... OK
* checking whether package ‘AIMS’ can be installed ... OK
* checking installed package size ... OK
* checking package directory ... OK
* checking ‘build’ directory ... OK
* checking DESCRIPTION meta-information ... OK
* checking top-level files ... OK
* checking for left-over files ... OK
* checking index information ... OK
* checking package subdirectories ... OK
* checking R files for non-ASCII characters ... OK
* checking R files for syntax errors ... OK
* checking whether the package can be loaded ... OK
* checking whether the package can be loaded with stated dependencies ... OK
* checking whether the package can be unloaded cleanly ... OK
* checking whether the namespace can be loaded with stated dependencies ... OK
* checking whether the namespace can be unloaded cleanly ... OK
* checking dependencies in R code ... OK
* checking S3 generic/method consistency ... OK
* checking replacement functions ... OK
* checking foreign function calls ... OK
* checking R code for possible problems ... NOTE
.one.vs.all.tsp: no visible global function definition for ‘predict’
applyAIMS: no visible global function definition for ‘is’
applyAIMS: no visible global function definition for ‘data’
applyAIMS: no visible binding for global variable ‘AIMSmodel’
Undefined global functions or variables:
  AIMSmodel data is predict
Consider adding
  importFrom("methods", "is")
  importFrom("stats", "predict")
  importFrom("utils", "data")
to your NAMESPACE file (and ensure that your DESCRIPTION Imports field
contains 'methods').
* checking Rd files ... OK
* checking Rd metadata ... OK
* checking Rd cross-references ... OK
* checking for missing documentation entries ... OK
* checking for code/documentation mismatches ... OK
* checking Rd \usage sections ... OK
* checking Rd contents ... OK
* checking for unstated dependencies in examples ... OK
* checking contents of ‘data’ directory ... OK
* checking data for non-ASCII characters ... OK
* checking LazyData ... OK
* checking data for ASCII and uncompressed saves ... OK
* checking files in ‘vignettes’ ... OK
* checking examples ... OK
* checking for unstated dependencies in ‘tests’ ... OK
* checking tests ...
  Running ‘runTests.R’
 OK
* checking for unstated dependencies in vignettes ... OK
* checking package vignettes in ‘inst/doc’ ... OK
* checking running R code from vignettes ... SKIPPED
* checking re-building of vignette outputs ... SKIPPED
* checking PDF version of manual ... OK
* DONE

Status: 1 NOTE
See
  ‘/home/biocbuild/bbs-3.14-bioc/meat/AIMS.Rcheck/00check.log’
for details.



Installation output

AIMS.Rcheck/00install.out

##############################################################################
##############################################################################
###
### Running command:
###
###   /home/biocbuild/bbs-3.14-bioc/R/bin/R CMD INSTALL AIMS
###
##############################################################################
##############################################################################


* installing to library ‘/home/biocbuild/bbs-3.14-bioc/R/library’
* installing *source* package ‘AIMS’ ...
** using staged installation
** R
** data
*** moving datasets to lazyload DB
** inst
** byte-compile and prepare package for lazy loading
** help
*** installing help indices
** building package indices
** installing vignettes
** testing if installed package can be loaded from temporary location
** testing if installed package can be loaded from final location
** testing if installed package keeps a record of temporary installation path
* DONE (AIMS)

Tests output

AIMS.Rcheck/tests/runTests.Rout


R version 4.1.1 (2021-08-10) -- "Kick Things"
Copyright (C) 2021 The R Foundation for Statistical Computing
Platform: x86_64-pc-linux-gnu (64-bit)

R is free software and comes with ABSOLUTELY NO WARRANTY.
You are welcome to redistribute it under certain conditions.
Type 'license()' or 'licence()' for distribution details.

R is a collaborative project with many contributors.
Type 'contributors()' for more information and
'citation()' on how to cite R or R packages in publications.

Type 'demo()' for some demos, 'help()' for on-line help, or
'help.start()' for an HTML browser interface to help.
Type 'q()' to quit R.

> BiocGenerics:::testPackage("AIMS")

Attaching package: 'BiocGenerics'

The following objects are masked from 'package:stats':

    IQR, mad, sd, var, xtabs

The following objects are masked from 'package:base':

    Filter, Find, Map, Position, Reduce, anyDuplicated, append,
    as.data.frame, basename, cbind, colnames, dirname, do.call,
    duplicated, eval, evalq, get, grep, grepl, intersect, is.unsorted,
    lapply, mapply, match, mget, order, paste, pmax, pmax.int, pmin,
    pmin.int, rank, rbind, rownames, sapply, setdiff, sort, table,
    tapply, union, unique, unsplit, which.max, which.min

Welcome to Bioconductor

    Vignettes contain introductory material; view with
    'browseVignettes()'. To cite Bioconductor, see
    'citation("Biobase")', and for packages 'citation("pkgname")'.

Current k = 20


RUNIT TEST PROTOCOL -- Fri Oct 22 19:04:02 2021 
*********************************************** 
Number of test functions: 1 
Number of errors: 0 
Number of failures: 0 

 
1 Test Suite : 
AIMS RUnit Tests - 1 test function, 0 errors, 0 failures
Number of test functions: 1 
Number of errors: 0 
Number of failures: 0 
> 
> proc.time()
   user  system elapsed 
  1.173   0.080   1.240 

Example timings

AIMS.Rcheck/AIMS-Ex.timings

nameusersystemelapsed
AIMSmodel0.0740.0040.078
applyAIMS0.7380.0120.750
mcgillExample0.0040.0000.005