Back to Multiple platform build/check report for BioC 3.14
[A]BCDEFGHIJKLMNOPQRSTUVWXYZ

This page was generated on 2021-10-18 12:03:57 -0400 (Mon, 18 Oct 2021).

BUILD results for AGDEX on riesling1

To the developers/maintainers of the AGDEX package:
- Please allow up to 24 hours (and sometimes 48 hours) for your latest push to git@git.bioconductor.org:packages/AGDEX.git to
reflect on this report. See How and When does the builder pull? When will my changes propagate? here for more information.
- Make sure to use the following settings in order to reproduce any error or warning you see on this page.

raw results

Package 34/2060HostnameOS / ArchINSTALLBUILDCHECKBUILD BIN
AGDEX 1.41.0  (landing page)
Cuilan lani Gao
Snapshot Date: 2021-10-17 14:50:03 -0400 (Sun, 17 Oct 2021)
git_url: https://git.bioconductor.org/packages/AGDEX
git_branch: master
git_last_commit: 1c7c2eb
git_last_commit_date: 2021-05-19 11:50:01 -0400 (Wed, 19 May 2021)
nebbiolo2Linux (Ubuntu 20.04.2 LTS) / x86_64  OK    OK    OK  UNNEEDED, same version is already published
riesling1Windows Server 2019 Standard / x64  OK    OK    OK    OK  UNNEEDED, same version is already published
merida1macOS 10.14.6 Mojave / x86_64  OK    OK    OK    OK  UNNEEDED, same version is already published

Summary

Package: AGDEX
Version: 1.41.0
Command: chmod a+r AGDEX -R && D:\biocbuild\bbs-3.14-bioc\R\bin\R.exe CMD build --keep-empty-dirs --no-resave-data AGDEX
StartedAt: 2021-10-17 19:27:02 -0400 (Sun, 17 Oct 2021)
EndedAt: 2021-10-17 19:30:53 -0400 (Sun, 17 Oct 2021)
EllapsedTime: 231.5 seconds
RetCode: 0
Status:   OK  
PackageFile: AGDEX_1.41.0.tar.gz
PackageFileSize: 533.7 KiB

Command output

##############################################################################
##############################################################################
###
### Running command:
###
###   chmod a+r AGDEX -R && D:\biocbuild\bbs-3.14-bioc\R\bin\R.exe CMD build --keep-empty-dirs --no-resave-data AGDEX
###
##############################################################################
##############################################################################


* checking for file 'AGDEX/DESCRIPTION' ... OK
* preparing 'AGDEX':
* checking DESCRIPTION meta-information ... OK
* installing the package to build vignettes
* creating vignettes ... OK
* checking for LF line-endings in source and make files and shell scripts
* checking for empty or unneeded directories
* looking to see if a 'data/datalist' file should be added
* building 'AGDEX_1.41.0.tar.gz'