Back to Multiple platform build/check report for BioC 3.14
[A]BCDEFGHIJKLMNOPQRSTUVWXYZ

This page was generated on 2021-10-25 14:06:04 -0400 (Mon, 25 Oct 2021).

BUILD BIN results for ADaCGH2 on riesling1

To the developers/maintainers of the ADaCGH2 package:
- Please allow up to 24 hours (and sometimes 48 hours) for your latest push to git@git.bioconductor.org:packages/ADaCGH2.git to
reflect on this report. See How and When does the builder pull? When will my changes propagate? here for more information.
- Make sure to use the following settings in order to reproduce any error or warning you see on this page.

raw results

Package 15/2083HostnameOS / ArchINSTALLBUILDCHECKBUILD BIN
ADaCGH2 2.33.0  (landing page)
Ramon Diaz-Uriarte
Snapshot Date: 2021-10-24 14:50:04 -0400 (Sun, 24 Oct 2021)
git_url: https://git.bioconductor.org/packages/ADaCGH2
git_branch: master
git_last_commit: 57ec4e0
git_last_commit_date: 2021-05-19 11:46:43 -0400 (Wed, 19 May 2021)
nebbiolo2Linux (Ubuntu 20.04.2 LTS) / x86_64  OK    OK    OK  UNNEEDED, same version is already published
riesling1Windows Server 2019 Standard / x64  OK    OK    OK    OK  UNNEEDED, same version is already published
merida1macOS 10.14.6 Mojave / x86_64  OK    OK    OK    OK  UNNEEDED, same version is already published
machv2macOS 10.14.6 Mojave / x86_64  OK    OK    OK    OK  

Summary

Package: ADaCGH2
Version: 2.33.0
Command: rm -rf ADaCGH2.buildbin-libdir && mkdir ADaCGH2.buildbin-libdir && D:\biocbuild\bbs-3.14-bioc\R\bin\R.exe CMD INSTALL --merge-multiarch --build --library=ADaCGH2.buildbin-libdir ADaCGH2_2.33.0.tar.gz
StartedAt: 2021-10-25 04:22:20 -0400 (Mon, 25 Oct 2021)
EndedAt: 2021-10-25 04:26:26 -0400 (Mon, 25 Oct 2021)
EllapsedTime: 246.4 seconds
RetCode: 0
Status:   OK  
PackageFile: ADaCGH2_2.33.0.zip
PackageFileSize: 1.158 MiB

Command output

##############################################################################
##############################################################################
###
### Running command:
###
###   rm -rf ADaCGH2.buildbin-libdir && mkdir ADaCGH2.buildbin-libdir && D:\biocbuild\bbs-3.14-bioc\R\bin\R.exe CMD INSTALL --merge-multiarch --build --library=ADaCGH2.buildbin-libdir ADaCGH2_2.33.0.tar.gz
###
##############################################################################
##############################################################################



install for i386

* installing *source* package 'ADaCGH2' ...
** using staged installation
** libs
"C:/rtools40/mingw32/bin/"gcc  -I"D:/biocbuild/bbs-3.14-bioc/R/include" -DNDEBUG     -I"C:/extsoft/include"     -O2 -Wall  -std=gnu99 -mfpmath=sse -msse2 -mstackrealign  -c init.c -o init.o
"C:/rtools40/mingw32/bin/"gcc  -I"D:/biocbuild/bbs-3.14-bioc/R/include" -DNDEBUG     -I"C:/extsoft/include"     -O2 -Wall  -std=gnu99 -mfpmath=sse -msse2 -mstackrealign  -c r_haarseg.c -o r_haarseg.o
r_haarseg.c: In function 'ad_HaarConv':
r_haarseg.c:65:12: warning: unused variable 'totalNorm' [-Wunused-variable]
     double totalNorm;
            ^~~~~~~~~
r_haarseg.c: In function 'ad_FindLocalPeaks':
r_haarseg.c:152:8: warning: "/*" within comment [-Wcomment]
       }/* for j */
         
r_haarseg.c:176:8: warning: "/*" within comment [-Wcomment]
       }/* for j */
         
r_haarseg.c:128:9: warning: unused variable 'j' [-Wunused-variable]
   int k,j;
         ^
r_haarseg.c: In function 'ad_HaarConv':
r_haarseg.c:97:27: warning: 'highNonNormed' may be used uninitialized in this function [-Wmaybe-uninitialized]
             highNonNormed += signal[highEnd]*weight[highEnd] - signal[k-1]*weight[k-1];
             ~~~~~~~~~~~~~~^~~~~~~~~~~~~~~~~~~~~~~~~~~~~~~~~~~~~~~~~~~~~~~~~~~~~~~~~~~~
r_haarseg.c:96:26: warning: 'lowNonNormed' may be used uninitialized in this function [-Wmaybe-uninitialized]
             lowNonNormed += signal[lowEnd]*weight[lowEnd] - signal[k-1]*weight[k-1];
             ~~~~~~~~~~~~~^~~~~~~~~~~~~~~~~~~~~~~~~~~~~~~~~~~~~~~~~~~~~~~~~~~~~~~~~~
r_haarseg.c:99:27: warning: 'highWeightSum' may be used uninitialized in this function [-Wmaybe-uninitialized]
             highWeightSum += weight[highEnd] - weight[k-1];
             ~~~~~~~~~~~~~~^~~~~~~~~~~~~~~~~~~~~~~~~~~~~~~~
r_haarseg.c:98:26: warning: 'lowWeightSum' may be used uninitialized in this function [-Wmaybe-uninitialized]
             lowWeightSum += weight[k-1] - weight[lowEnd];
             ~~~~~~~~~~~~~^~~~~~~~~~~~~~~~~~~~~~~~~~~~~~~
C:/rtools40/mingw32/bin/gcc -shared -s -static-libgcc -o ADaCGH2.dll tmp.def init.o r_haarseg.o -LC:/extsoft/lib/i386 -LC:/extsoft/lib -LD:/biocbuild/bbs-3.14-bioc/R/bin/i386 -lR
installing to D:/biocbuild/bbs-3.14-bioc/meat/ADaCGH2.buildbin-libdir/00LOCK-ADaCGH2/00new/ADaCGH2/libs/i386
** R
** data
** inst
** byte-compile and prepare package for lazy loading
** help
*** installing help indices
  converting help for package 'ADaCGH2'
    finding HTML links ... done
    cutFile                                 html  
    inputEx                                 html  
    inputToADaCGH                           html  
    finding level-2 HTML links ... done

    outputToCGHregions                      html  
    pChromPlot                              html  
    pSegment                                html  
** building package indices
** installing vignettes
** testing if installed package can be loaded from temporary location
** testing if installed package can be loaded from final location
** testing if installed package keeps a record of temporary installation path

install for x64

* installing *source* package 'ADaCGH2' ...
** libs
"C:/rtools40/mingw64/bin/"gcc  -I"D:/biocbuild/bbs-3.14-bioc/R/include" -DNDEBUG     -I"C:/extsoft/include"     -O2 -Wall  -std=gnu99 -mfpmath=sse -msse2 -mstackrealign  -c init.c -o init.o
"C:/rtools40/mingw64/bin/"gcc  -I"D:/biocbuild/bbs-3.14-bioc/R/include" -DNDEBUG     -I"C:/extsoft/include"     -O2 -Wall  -std=gnu99 -mfpmath=sse -msse2 -mstackrealign  -c r_haarseg.c -o r_haarseg.o
r_haarseg.c: In function 'ad_HaarConv':
r_haarseg.c:65:12: warning: unused variable 'totalNorm' [-Wunused-variable]
     double totalNorm;
            ^~~~~~~~~
r_haarseg.c: In function 'ad_FindLocalPeaks':
r_haarseg.c:152:8: warning: "/*" within comment [-Wcomment]
       }/* for j */
         
r_haarseg.c:176:8: warning: "/*" within comment [-Wcomment]
       }/* for j */
         
r_haarseg.c:128:9: warning: unused variable 'j' [-Wunused-variable]
   int k,j;
         ^
r_haarseg.c: In function 'ad_HaarConv':
r_haarseg.c:97:27: warning: 'highNonNormed' may be used uninitialized in this function [-Wmaybe-uninitialized]
             highNonNormed += signal[highEnd]*weight[highEnd] - signal[k-1]*weight[k-1];
             ~~~~~~~~~~~~~~^~~~~~~~~~~~~~~~~~~~~~~~~~~~~~~~~~~~~~~~~~~~~~~~~~~~~~~~~~~~
r_haarseg.c:96:26: warning: 'lowNonNormed' may be used uninitialized in this function [-Wmaybe-uninitialized]
             lowNonNormed += signal[lowEnd]*weight[lowEnd] - signal[k-1]*weight[k-1];
             ~~~~~~~~~~~~~^~~~~~~~~~~~~~~~~~~~~~~~~~~~~~~~~~~~~~~~~~~~~~~~~~~~~~~~~~
r_haarseg.c:99:27: warning: 'highWeightSum' may be used uninitialized in this function [-Wmaybe-uninitialized]
             highWeightSum += weight[highEnd] - weight[k-1];
             ~~~~~~~~~~~~~~^~~~~~~~~~~~~~~~~~~~~~~~~~~~~~~~
r_haarseg.c:98:26: warning: 'lowWeightSum' may be used uninitialized in this function [-Wmaybe-uninitialized]
             lowWeightSum += weight[k-1] - weight[lowEnd];
             ~~~~~~~~~~~~~^~~~~~~~~~~~~~~~~~~~~~~~~~~~~~~
C:/rtools40/mingw64/bin/gcc -shared -s -static-libgcc -o ADaCGH2.dll tmp.def init.o r_haarseg.o -LC:/extsoft/lib/x64 -LC:/extsoft/lib -LD:/biocbuild/bbs-3.14-bioc/R/bin/x64 -lR
installing to D:/biocbuild/bbs-3.14-bioc/meat/ADaCGH2.buildbin-libdir/ADaCGH2/libs/x64
** testing if installed package can be loaded
* MD5 sums
packaged installation of 'ADaCGH2' as ADaCGH2_2.33.0.zip
* DONE (ADaCGH2)