Back to Multiple platform build/check report for BioC 3.14
[A]BCDEFGHIJKLMNOPQRSTUVWXYZ

This page was generated on 2021-10-18 12:03:35 -0400 (Mon, 18 Oct 2021).

BUILD results for ADImpute on nebbiolo2

To the developers/maintainers of the ADImpute package:
- Please allow up to 24 hours (and sometimes 48 hours) for your latest push to git@git.bioconductor.org:packages/ADImpute.git to
reflect on this report. See How and When does the builder pull? When will my changes propagate? here for more information.
- Make sure to use the following settings in order to reproduce any error or warning you see on this page.

raw results

Package 19/2060HostnameOS / ArchINSTALLBUILDCHECKBUILD BIN
ADImpute 1.3.0  (landing page)
Ana Carolina Leote
Snapshot Date: 2021-10-17 14:50:03 -0400 (Sun, 17 Oct 2021)
git_url: https://git.bioconductor.org/packages/ADImpute
git_branch: master
git_last_commit: 47331f1
git_last_commit_date: 2021-05-19 12:57:20 -0400 (Wed, 19 May 2021)
nebbiolo2Linux (Ubuntu 20.04.2 LTS) / x86_64  OK    OK    WARNINGS  UNNEEDED, same version is already published
riesling1Windows Server 2019 Standard / x64  OK    OK    WARNINGS    OK  UNNEEDED, same version is already published
merida1macOS 10.14.6 Mojave / x86_64  OK    OK    WARNINGS    OK  UNNEEDED, same version is already published

Summary

Package: ADImpute
Version: 1.3.0
Command: /home/biocbuild/bbs-3.14-bioc/R/bin/R CMD build --keep-empty-dirs --no-resave-data ADImpute
StartedAt: 2021-10-17 16:41:51 -0400 (Sun, 17 Oct 2021)
EndedAt: 2021-10-17 16:42:14 -0400 (Sun, 17 Oct 2021)
EllapsedTime: 22.1 seconds
RetCode: 0
Status:   OK  
PackageFile: ADImpute_1.3.0.tar.gz
PackageFileSize: 2.117 MiB

Command output

##############################################################################
##############################################################################
###
### Running command:
###
###   /home/biocbuild/bbs-3.14-bioc/R/bin/R CMD build --keep-empty-dirs --no-resave-data ADImpute
###
##############################################################################
##############################################################################


* checking for file ‘ADImpute/DESCRIPTION’ ... OK
* preparing ‘ADImpute’:
* checking DESCRIPTION meta-information ... OK
* installing the package to build vignettes
* creating vignettes ... OK
* checking for LF line-endings in source and make files and shell scripts
* checking for empty or unneeded directories
* building ‘ADImpute_1.3.0.tar.gz’