Back to Multiple platform build/check report for BioC 3.14
[A]BCDEFGHIJKLMNOPQRSTUVWXYZ

This page was generated on 2021-10-19 12:05:18 -0400 (Tue, 19 Oct 2021).

INSTALL results for ADAMgui on merida1

To the developers/maintainers of the ADAMgui package:
- Please allow up to 24 hours (and sometimes 48 hours) for your latest push to git@git.bioconductor.org:packages/ADAMgui.git to
reflect on this report. See How and When does the builder pull? When will my changes propagate? here for more information.
- Make sure to use the following settings in order to reproduce any error or warning you see on this page.

raw results

Package 17/2060HostnameOS / ArchINSTALLBUILDCHECKBUILD BIN
ADAMgui 1.9.3  (landing page)
Jose Luiz Rybarczyk Filho
Snapshot Date: 2021-10-18 14:50:10 -0400 (Mon, 18 Oct 2021)
git_url: https://git.bioconductor.org/packages/ADAMgui
git_branch: master
git_last_commit: 782df96
git_last_commit_date: 2021-09-01 15:59:09 -0400 (Wed, 01 Sep 2021)
nebbiolo2Linux (Ubuntu 20.04.2 LTS) / x86_64  OK    OK    OK  UNNEEDED, same version is already published
riesling1Windows Server 2019 Standard / x64  OK    OK    OK    OK  UNNEEDED, same version is already published
merida1macOS 10.14.6 Mojave / x86_64  OK    OK    OK    OK  UNNEEDED, same version is already published

Summary

Package: ADAMgui
Version: 1.9.3
Command: /Library/Frameworks/R.framework/Resources/bin/R CMD INSTALL ADAMgui
StartedAt: 2021-10-18 18:08:58 -0400 (Mon, 18 Oct 2021)
EndedAt: 2021-10-18 18:09:30 -0400 (Mon, 18 Oct 2021)
EllapsedTime: 31.5 seconds
RetCode: 0
Status:   OK  

Command output

##############################################################################
##############################################################################
###
### Running command:
###
###   /Library/Frameworks/R.framework/Resources/bin/R CMD INSTALL ADAMgui
###
##############################################################################
##############################################################################


* installing to library ‘/Library/Frameworks/R.framework/Versions/4.1/Resources/library’
* installing *source* package ‘ADAMgui’ ...
** using staged installation
** R
** data
** inst
** byte-compile and prepare package for lazy loading
** help
*** installing help indices
** building package indices
** installing vignettes
** testing if installed package can be loaded from temporary location
** testing if installed package can be loaded from final location
** testing if installed package keeps a record of temporary installation path
* DONE (ADAMgui)