Back to Multiple platform build/check report for BioC 3.14
[A]BCDEFGHIJKLMNOPQRSTUVWXYZ

This page was generated on 2021-10-26 14:07:38 -0400 (Tue, 26 Oct 2021).

BUILD results for ADAMgui on merida1

To the developers/maintainers of the ADAMgui package:
- Please allow up to 24 hours (and sometimes 48 hours) for your latest push to git@git.bioconductor.org:packages/ADAMgui.git to
reflect on this report. See How and When does the builder pull? When will my changes propagate? here for more information.
- Make sure to use the following settings in order to reproduce any error or warning you see on this page.

raw results

Package 17/2083HostnameOS / ArchINSTALLBUILDCHECKBUILD BIN
ADAMgui 1.9.3  (landing page)
Jose Luiz Rybarczyk Filho
Snapshot Date: 2021-10-25 14:50:11 -0400 (Mon, 25 Oct 2021)
git_url: https://git.bioconductor.org/packages/ADAMgui
git_branch: master
git_last_commit: 782df96
git_last_commit_date: 2021-09-01 15:59:09 -0400 (Wed, 01 Sep 2021)
nebbiolo2Linux (Ubuntu 20.04.2 LTS) / x86_64  OK    OK    OK  UNNEEDED, same version is already published
riesling1Windows Server 2019 Standard / x64  OK    OK    OK    OK  UNNEEDED, same version is already published
merida1macOS 10.14.6 Mojave / x86_64  OK    OK    OK    OK  UNNEEDED, same version is already published
machv2macOS 10.14.6 Mojave / x86_64  OK    OK    OK    OK  

Summary

Package: ADAMgui
Version: 1.9.3
Command: /Library/Frameworks/R.framework/Resources/bin/R CMD build --keep-empty-dirs --no-resave-data ADAMgui
StartedAt: 2021-10-25 18:22:48 -0400 (Mon, 25 Oct 2021)
EndedAt: 2021-10-25 18:23:34 -0400 (Mon, 25 Oct 2021)
EllapsedTime: 46.8 seconds
RetCode: 0
Status:   OK  
PackageFile: ADAMgui_1.9.3.tar.gz
PackageFileSize: 1.75 MiB

Command output

##############################################################################
##############################################################################
###
### Running command:
###
###   /Library/Frameworks/R.framework/Resources/bin/R CMD build --keep-empty-dirs --no-resave-data ADAMgui
###
##############################################################################
##############################################################################


* checking for file ‘ADAMgui/DESCRIPTION’ ... OK
* preparing ‘ADAMgui’:
* checking DESCRIPTION meta-information ... OK
* installing the package to build vignettes
* creating vignettes ... OK
* checking for LF line-endings in source and make files and shell scripts
* checking for empty or unneeded directories
* looking to see if a ‘data/datalist’ file should be added
* building ‘ADAMgui_1.9.3.tar.gz’