Back to Multiple platform build/check report for BioC 3.14
[A]BCDEFGHIJKLMNOPQRSTUVWXYZ

This page was generated on 2021-10-26 14:06:15 -0400 (Tue, 26 Oct 2021).

BUILD results for ADAM on nebbiolo2

To the developers/maintainers of the ADAM package:
- Please allow up to 24 hours (and sometimes 48 hours) for your latest push to git@git.bioconductor.org:packages/ADAM.git to
reflect on this report. See How and When does the builder pull? When will my changes propagate? here for more information.
- Make sure to use the following settings in order to reproduce any error or warning you see on this page.

raw results

Package 16/2083HostnameOS / ArchINSTALLBUILDCHECKBUILD BIN
ADAM 1.9.5  (landing page)
Jose Luiz Rybarczyk Filho
Snapshot Date: 2021-10-25 14:50:11 -0400 (Mon, 25 Oct 2021)
git_url: https://git.bioconductor.org/packages/ADAM
git_branch: master
git_last_commit: c198a5e
git_last_commit_date: 2021-09-03 13:29:55 -0400 (Fri, 03 Sep 2021)
nebbiolo2Linux (Ubuntu 20.04.2 LTS) / x86_64  OK    OK    OK  UNNEEDED, same version is already published
riesling1Windows Server 2019 Standard / x64  OK    OK    OK    OK  UNNEEDED, same version is already published
merida1macOS 10.14.6 Mojave / x86_64  OK    OK    OK    OK  UNNEEDED, same version is already published
machv2macOS 10.14.6 Mojave / x86_64  OK    OK    OK    OK  

Summary

Package: ADAM
Version: 1.9.5
Command: /home/biocbuild/bbs-3.14-bioc/R/bin/R CMD build --keep-empty-dirs --no-resave-data ADAM
StartedAt: 2021-10-25 16:40:53 -0400 (Mon, 25 Oct 2021)
EndedAt: 2021-10-25 16:41:33 -0400 (Mon, 25 Oct 2021)
EllapsedTime: 39.7 seconds
RetCode: 0
Status:   OK  
PackageFile: ADAM_1.9.5.tar.gz
PackageFileSize: 318.1 KiB

Command output

##############################################################################
##############################################################################
###
### Running command:
###
###   /home/biocbuild/bbs-3.14-bioc/R/bin/R CMD build --keep-empty-dirs --no-resave-data ADAM
###
##############################################################################
##############################################################################


* checking for file ‘ADAM/DESCRIPTION’ ... OK
* preparing ‘ADAM’:
* checking DESCRIPTION meta-information ... OK
* cleaning src
* installing the package to build vignettes
* creating vignettes ... OK
* cleaning src
* checking for LF line-endings in source and make files and shell scripts
* checking for empty or unneeded directories
* looking to see if a ‘data/datalist’ file should be added
* building ‘ADAM_1.9.5.tar.gz’