Index of /checkResults/3.14/bioc-LATEST/ACME/raw-results/tokay2

[ICO]NameLast modifiedSizeDescription

[DIR]Parent Directory  -  
[TXT]buildbin-out.txt22-Jan-2022 03:05 4.6K 
[   ]buildbin-summary.dcf22-Jan-2022 03:05 522  
[TXT]buildsrc-out.txt22-Jan-2022 03:05 922  
[   ]buildsrc-summary.dcf22-Jan-2022 03:05 447  
[TXT]checksrc-out.txt22-Jan-2022 03:05 7.3K 
[   ]checksrc-summary.dcf22-Jan-2022 03:05 456  
[TXT]install-out.txt22-Jan-2022 03:05 5.3K 
[   ]install-summary.dcf22-Jan-2022 03:05 614