Index of /checkResults/3.14/bioc-LATEST/ACME/raw-results/machv2

[ICO]NameLast modifiedSizeDescription

[DIR]Parent Directory  -  
[TXT]buildbin-out.txt15-Jan-2022 03:07 4.4K 
[   ]buildbin-summary.dcf15-Jan-2022 03:07 512  
[TXT]buildsrc-out.txt15-Jan-2022 03:07 897  
[   ]buildsrc-summary.dcf15-Jan-2022 03:07 418  
[TXT]checksrc-out.txt15-Jan-2022 03:07 5.6K 
[   ]checksrc-summary.dcf15-Jan-2022 03:07 431  
[TXT]install-out.txt15-Jan-2022 03:07 3.6K 
[   ]install-summary.dcf15-Jan-2022 03:07 262