Back to Multiple platform build/check report for BioC 3.14
[A]BCDEFGHIJKLMNOPQRSTUVWXYZ

This page was generated on 2021-12-01 17:18:10 -0500 (Wed, 01 Dec 2021).

BUILD BIN results for ACME on machv2

To the developers/maintainers of the ACME package:
- Please allow up to 24 hours (and sometimes 48 hours) for your latest push to git@git.bioconductor.org:packages/ACME.git to
reflect on this report. See How and When does the builder pull? When will my changes propagate? here for more information.
- Make sure to use the following settings in order to reproduce any error or warning you see on this page.

raw results

Package 14/2083HostnameOS / ArchINSTALLBUILDCHECKBUILD BIN
ACME 2.50.0  (landing page)
Sean Davis
Snapshot Date: 2021-11-30 04:15:05 -0500 (Tue, 30 Nov 2021)
git_url: https://git.bioconductor.org/packages/ACME
git_branch: RELEASE_3_14
git_last_commit: d55a19a
git_last_commit_date: 2021-10-26 11:51:02 -0500 (Tue, 26 Oct 2021)
nebbiolo2Linux (Ubuntu 20.04.3 LTS) / x86_64  OK    OK    WARNINGS  UNNEEDED, same version is already published
tokay2Windows Server 2012 R2 Standard / x64  OK    OK    WARNINGS    OK  UNNEEDED, same version is already published
machv2macOS 10.14.6 Mojave / x86_64  OK    OK    OK    OK  UNNEEDED, same version is already published

Summary

Package: ACME
Version: 2.50.0
Command: rm -rf ACME.buildbin-libdir && mkdir ACME.buildbin-libdir && /Users/biocbuild/BBS/utils/build-universal.sh ACME_2.50.0.tar.gz /Library/Frameworks/R.framework/Resources/bin/R ACME.buildbin-libdir
StartedAt: 2021-11-30 23:11:48 -0500 (Tue, 30 Nov 2021)
EndedAt: 2021-11-30 23:12:14 -0500 (Tue, 30 Nov 2021)
EllapsedTime: 25.7 seconds
RetCode: 0
Status:   OK  
PackageFile: ACME_2.50.0.tgz
PackageFileSize: 10.08 MiB

Command output

##############################################################################
##############################################################################
###
### Running command:
###
###   rm -rf ACME.buildbin-libdir && mkdir ACME.buildbin-libdir && /Users/biocbuild/BBS/utils/build-universal.sh ACME_2.50.0.tar.gz /Library/Frameworks/R.framework/Resources/bin/R ACME.buildbin-libdir
###
##############################################################################
##############################################################################


>>>>>>> 
>>>>>>> INSTALLATION WITH 'R CMD INSTALL --preclean --no-multiarch --library=ACME.buildbin-libdir ACME_2.50.0.tar.gz'
>>>>>>> 

* installing *source* package ‘ACME’ ...
** using staged installation
** libs
clang -mmacosx-version-min=10.13 -I"/Library/Frameworks/R.framework/Resources/include" -DNDEBUG   -I/usr/local/include   -fPIC  -Wall -g -O2  -c windowChisq.c -o windowChisq.o
windowChisq.c:57:71: warning: & has lower precedence than >; > will be evaluated first [-Wparentheses]
    while((xlocations[i]-xlocations[firstprobe-1] < (halfWindowSize)) &
                                                                      ^
windowChisq.c:57:71: note: place parentheses around the '>' expression to silence this warning
    while((xlocations[i]-xlocations[firstprobe-1] < (halfWindowSize)) &
                                                                      ^
windowChisq.c:57:71: note: place parentheses around the & expression to evaluate it first
    while((xlocations[i]-xlocations[firstprobe-1] < (halfWindowSize)) &
                                                                      ^
          (
windowChisq.c:62:70: warning: & has lower precedence than <; < will be evaluated first [-Wparentheses]
    while((xlocations[lastprobe+1]-xlocations[i] < (halfWindowSize)) &
                                                                     ^
windowChisq.c:62:70: note: place parentheses around the '<' expression to silence this warning
    while((xlocations[lastprobe+1]-xlocations[i] < (halfWindowSize)) &
                                                                     ^
windowChisq.c:62:70: note: place parentheses around the & expression to evaluate it first
    while((xlocations[lastprobe+1]-xlocations[i] < (halfWindowSize)) &
                                                                     ^
          (
windowChisq.c:21:11: warning: unused variable 'xa' [-Wunused-variable]
  double *xa,*xlocations,*xchivals;
          ^
windowChisq.c:86:20: warning: incompatible function pointer types initializing 'DL_FUNC' (aka 'void *(*)()') with an expression of type 'SEXP (*)(SEXP, SEXP, SEXP, SEXP, SEXP)' (aka 'struct SEXPREC *(*)(struct SEXPREC *, struct SEXPREC *, struct SEXPREC *, struct SEXPREC *, struct SEXPREC *)') [-Wincompatible-function-pointer-types]
    {"windowChisq",&windowChisq,5},
                   ^~~~~~~~~~~~
4 warnings generated.
clang -mmacosx-version-min=10.13 -dynamiclib -Wl,-headerpad_max_install_names -undefined dynamic_lookup -single_module -multiply_defined suppress -L/Library/Frameworks/R.framework/Resources/lib -L/usr/local/lib -o ACME.so windowChisq.o -F/Library/Frameworks/R.framework/.. -framework R -Wl,-framework -Wl,CoreFoundation
installing to /Users/biocbuild/bbs-3.14-bioc/meat/ACME.buildbin-libdir/00LOCK-ACME/00new/ACME/libs
** R
** data
** inst
** byte-compile and prepare package for lazy loading
** help
*** installing help indices
** building package indices
** installing vignettes
** testing if installed package can be loaded from temporary location
** checking absolute paths in shared objects and dynamic libraries
** testing if installed package can be loaded from final location
** testing if installed package keeps a record of temporary installation path
* DONE (ACME)


>>>>>>> 
>>>>>>> FIXING LINKS FOR ACME.buildbin-libdir/ACME/libs/ACME.so
>>>>>>> 

install_name_tool -change "/usr/local/lib/libgcc_s.1.dylib" "/Library/Frameworks/R.framework/Versions/4.1/Resources/lib/libgcc_s.1.dylib" "ACME.buildbin-libdir/ACME/libs/ACME.so"
install_name_tool -change "/usr/local/lib/libgfortran.5.dylib" "/Library/Frameworks/R.framework/Versions/4.1/Resources/lib/libgfortran.5.dylib" "ACME.buildbin-libdir/ACME/libs/ACME.so"
install_name_tool -change "/usr/local/lib/libquadmath.0.dylib" "/Library/Frameworks/R.framework/Versions/4.1/Resources/lib/libquadmath.0.dylib" "ACME.buildbin-libdir/ACME/libs/ACME.so"