Back to Multiple platform build/check report for BioC 3.14
[A]BCDEFGHIJKLMNOPQRSTUVWXYZ

This page was generated on 2022-01-17 13:05:51 -0500 (Mon, 17 Jan 2022).

HostnameOSArch (*)R versionInstalled pkgs
nebbiolo2Linux (Ubuntu 20.04.4 LTS)x86_644.1.2 (2021-11-01) -- "Bird Hippie" 4328
tokay2Windows Server 2012 R2 Standardx644.1.2 (2021-11-01) -- "Bird Hippie" 4077
machv2macOS 10.14.6 Mojavex86_644.1.2 (2021-11-01) -- "Bird Hippie" 4138
Click on any hostname to see more info about the system (e.g. compilers)      (*) as reported by 'uname -p', except on Windows and Mac OS X

BUILD BIN results for ACE on tokay2


To the developers/maintainers of the ACE package:
- Please allow up to 24 hours (and sometimes 48 hours) for your latest push to git@git.bioconductor.org:packages/ACE.git to
reflect on this report. See How and When does the builder pull? When will my changes propagate? here for more information.
- Make sure to use the following settings in order to reproduce any error or warning you see on this page.

raw results

Package 12/2083HostnameOS / ArchINSTALLBUILDCHECKBUILD BIN
ACE 1.12.0  (landing page)
Jos B Poell
Snapshot Date: 2022-01-16 01:55:05 -0500 (Sun, 16 Jan 2022)
git_url: https://git.bioconductor.org/packages/ACE
git_branch: RELEASE_3_14
git_last_commit: 543b422
git_last_commit_date: 2021-10-26 12:45:46 -0500 (Tue, 26 Oct 2021)
nebbiolo2Linux (Ubuntu 20.04.4 LTS) / x86_64  OK    OK    OK  UNNEEDED, same version is already published
tokay2Windows Server 2012 R2 Standard / x64  OK    OK    OK    OK  UNNEEDED, same version is already published
machv2macOS 10.14.6 Mojave / x86_64  OK    OK    OK    OK  UNNEEDED, same version is already published

Summary

Package: ACE
Version: 1.12.0
Command: rm -rf ACE.buildbin-libdir && mkdir ACE.buildbin-libdir && C:\Users\biocbuild\bbs-3.14-bioc\R\bin\R.exe CMD INSTALL --merge-multiarch --build --library=ACE.buildbin-libdir ACE_1.12.0.tar.gz
StartedAt: 2022-01-17 06:24:31 -0500 (Mon, 17 Jan 2022)
EndedAt: 2022-01-17 06:25:17 -0500 (Mon, 17 Jan 2022)
EllapsedTime: 45.9 seconds
RetCode: 0
Status:   OK  
PackageFile: ACE_1.12.0.zip
PackageFileSize: 1020 KiB

Command output

##############################################################################
##############################################################################
###
### Running command:
###
###   rm -rf ACE.buildbin-libdir && mkdir ACE.buildbin-libdir && C:\Users\biocbuild\bbs-3.14-bioc\R\bin\R.exe CMD INSTALL --merge-multiarch --build --library=ACE.buildbin-libdir ACE_1.12.0.tar.gz
###
##############################################################################
##############################################################################



install for i386

* installing *source* package 'ACE' ...
** using staged installation
** R
** data
*** moving datasets to lazyload DB
** inst
** byte-compile and prepare package for lazy loading
** help
*** installing help indices
  converting help for package 'ACE'
    finding HTML links ... done
    ACE-package                             html  
    ACEcall                                 html  
    analyzegenomiclocations                 html  
    compresstemplate                        html  
    copyNumbersSegmented                    html  
    correlationmatrix                       html  
    forcesegmentsontemplate                 html  
    getadjustedsegments                     html  
    linkvariants                            html  
    loopsquaremodel                         html  
    objectsampletotemplate                  html  
    postanalysisloop                        html  
    runACE                                  html  
    segmentstotemplate                      html  
    singlemodel                             html  
    singleplot                              html  
    squaremodel                             html  
    squaremodelsummary                      html  
    templatefromequalsegments               html  
    twosamplecompare                        html  
** building package indices
** installing vignettes
** testing if installed package can be loaded from temporary location
** testing if installed package can be loaded from final location
** testing if installed package keeps a record of temporary installation path

install for x64

* installing *source* package 'ACE' ...
** testing if installed package can be loaded
* MD5 sums
packaged installation of 'ACE' as ACE_1.12.0.zip
* DONE (ACE)