Back to Multiple platform build/check report for BioC 3.14
[A]BCDEFGHIJKLMNOPQRSTUVWXYZ

This page was generated on 2021-10-18 12:03:57 -0400 (Mon, 18 Oct 2021).

CHECK results for ACE on riesling1

To the developers/maintainers of the ACE package:
- Please allow up to 24 hours (and sometimes 48 hours) for your latest push to git@git.bioconductor.org:packages/ACE.git to
reflect on this report. See How and When does the builder pull? When will my changes propagate? here for more information.
- Make sure to use the following settings in order to reproduce any error or warning you see on this page.

raw results

Package 12/2060HostnameOS / ArchINSTALLBUILDCHECKBUILD BIN
ACE 1.11.0  (landing page)
Jos B Poell
Snapshot Date: 2021-10-17 14:50:03 -0400 (Sun, 17 Oct 2021)
git_url: https://git.bioconductor.org/packages/ACE
git_branch: master
git_last_commit: 59fed3f
git_last_commit_date: 2021-05-19 12:36:49 -0400 (Wed, 19 May 2021)
nebbiolo2Linux (Ubuntu 20.04.2 LTS) / x86_64  OK    OK    OK  UNNEEDED, same version is already published
riesling1Windows Server 2019 Standard / x64  OK    OK    OK    OK  UNNEEDED, same version is already published
merida1macOS 10.14.6 Mojave / x86_64  OK    OK    OK    OK  UNNEEDED, same version is already published

Summary

Package: ACE
Version: 1.11.0
Command: D:\biocbuild\bbs-3.14-bioc\R\bin\R.exe CMD check --force-multiarch --install=check:ACE.install-out.txt --library=D:\biocbuild\bbs-3.14-bioc\R\library --no-vignettes --timings ACE_1.11.0.tar.gz
StartedAt: 2021-10-17 23:48:04 -0400 (Sun, 17 Oct 2021)
EndedAt: 2021-10-17 23:52:12 -0400 (Sun, 17 Oct 2021)
EllapsedTime: 248.6 seconds
RetCode: 0
Status:   OK  
CheckDir: ACE.Rcheck
Warnings: 0

Command output

##############################################################################
##############################################################################
###
### Running command:
###
###   D:\biocbuild\bbs-3.14-bioc\R\bin\R.exe CMD check --force-multiarch --install=check:ACE.install-out.txt --library=D:\biocbuild\bbs-3.14-bioc\R\library --no-vignettes --timings ACE_1.11.0.tar.gz
###
##############################################################################
##############################################################################


* using log directory 'D:/biocbuild/bbs-3.14-bioc/meat/ACE.Rcheck'
* using R version 4.1.1 (2021-08-10)
* using platform: x86_64-w64-mingw32 (64-bit)
* using session charset: ISO8859-1
* using option '--no-vignettes'
* checking for file 'ACE/DESCRIPTION' ... OK
* this is package 'ACE' version '1.11.0'
* package encoding: UTF-8
* checking package namespace information ... OK
* checking package dependencies ... OK
* checking if this is a source package ... OK
* checking if there is a namespace ... OK
* checking for hidden files and directories ... OK
* checking for portable file names ... OK
* checking whether package 'ACE' can be installed ... OK
* checking installed package size ... OK
* checking package directory ... OK
* checking 'build' directory ... OK
* checking DESCRIPTION meta-information ... OK
* checking top-level files ... OK
* checking for left-over files ... OK
* checking index information ... OK
* checking package subdirectories ... OK
* checking R files for non-ASCII characters ... OK
* checking R files for syntax errors ... OK
* loading checks for arch 'i386'
** checking whether the package can be loaded ... OK
** checking whether the package can be loaded with stated dependencies ... OK
** checking whether the package can be unloaded cleanly ... OK
** checking whether the namespace can be loaded with stated dependencies ... OK
** checking whether the namespace can be unloaded cleanly ... OK
* loading checks for arch 'x64'
** checking whether the package can be loaded ... OK
** checking whether the package can be loaded with stated dependencies ... OK
** checking whether the package can be unloaded cleanly ... OK
** checking whether the namespace can be loaded with stated dependencies ... OK
** checking whether the namespace can be unloaded cleanly ... OK
* checking dependencies in R code ... NOTE
Unexported object imported by a ':::' call: 'QDNAseq:::sdDiffTrim'
  See the note in ?`:::` about the use of this operator.
* checking S3 generic/method consistency ... OK
* checking replacement functions ... OK
* checking foreign function calls ... OK
* checking R code for possible problems ... NOTE
squaremodel: no visible binding for global variable 'cellularity'
Undefined global functions or variables:
  cellularity
* checking Rd files ... OK
* checking Rd metadata ... OK
* checking Rd cross-references ... OK
* checking for missing documentation entries ... OK
* checking for code/documentation mismatches ... OK
* checking Rd \usage sections ... OK
* checking Rd contents ... OK
* checking for unstated dependencies in examples ... OK
* checking contents of 'data' directory ... OK
* checking data for non-ASCII characters ... OK
* checking LazyData ... OK
* checking data for ASCII and uncompressed saves ... OK
* checking files in 'vignettes' ... OK
* checking examples ...
** running examples for arch 'i386' ... OK
** running examples for arch 'x64' ... OK
Examples with CPU (user + system) or elapsed time > 5s
                   user system elapsed
squaremodelsummary 5.17   0.03    5.21
* checking for unstated dependencies in vignettes ... OK
* checking package vignettes in 'inst/doc' ... OK
* checking running R code from vignettes ... SKIPPED
* checking re-building of vignette outputs ... SKIPPED
* checking PDF version of manual ... OK
* DONE

Status: 2 NOTEs
See
  'D:/biocbuild/bbs-3.14-bioc/meat/ACE.Rcheck/00check.log'
for details.



Installation output

ACE.Rcheck/00install.out

##############################################################################
##############################################################################
###
### Running command:
###
###   C:\cygwin\bin\curl.exe -O http://155.52.207.166/BBS/3.14/bioc/src/contrib/ACE_1.11.0.tar.gz && rm -rf ACE.buildbin-libdir && mkdir ACE.buildbin-libdir && D:\biocbuild\bbs-3.14-bioc\R\bin\R.exe CMD INSTALL --merge-multiarch --build --library=ACE.buildbin-libdir ACE_1.11.0.tar.gz && D:\biocbuild\bbs-3.14-bioc\R\bin\R.exe CMD INSTALL ACE_1.11.0.zip && rm ACE_1.11.0.tar.gz ACE_1.11.0.zip
###
##############################################################################
##############################################################################


  % Total    % Received % Xferd  Average Speed   Time    Time     Time  Current
                                 Dload  Upload   Total   Spent    Left  Speed

  0     0    0     0    0     0      0      0 --:--:-- --:--:-- --:--:--     0
100  168k  100  168k    0     0   856k      0 --:--:-- --:--:-- --:--:--  860k

install for i386

* installing *source* package 'ACE' ...
** using staged installation
** R
** data
*** moving datasets to lazyload DB
** inst
** byte-compile and prepare package for lazy loading
** help
*** installing help indices
  converting help for package 'ACE'
    finding HTML links ... done
    ACE-package                             html  
    ACEcall                                 html  
    analyzegenomiclocations                 html  
    compresstemplate                        html  
    copyNumbersSegmented                    html  
    correlationmatrix                       html  
    forcesegmentsontemplate                 html  
    getadjustedsegments                     html  
    linkvariants                            html  
    loopsquaremodel                         html  
    objectsampletotemplate                  html  
    postanalysisloop                        html  
    runACE                                  html  
    segmentstotemplate                      html  
    singlemodel                             html  
    singleplot                              html  
    squaremodel                             html  
    squaremodelsummary                      html  
    templatefromequalsegments               html  
    twosamplecompare                        html  
** building package indices
** installing vignettes
** testing if installed package can be loaded from temporary location
** testing if installed package can be loaded from final location
** testing if installed package keeps a record of temporary installation path

install for x64

* installing *source* package 'ACE' ...
** testing if installed package can be loaded
* MD5 sums
packaged installation of 'ACE' as ACE_1.11.0.zip
* DONE (ACE)
* installing to library 'D:/biocbuild/bbs-3.14-bioc/R/library'
package 'ACE' successfully unpacked and MD5 sums checked

Tests output


Example timings

ACE.Rcheck/examples_i386/ACE-Ex.timings

nameusersystemelapsed
ACEcall0.970.121.09
analyzegenomiclocations0.020.000.01
compresstemplate0.030.000.03
copyNumbersSegmented0.720.000.72
correlationmatrix0.070.000.08
forcesegmentsontemplate0.270.000.27
getadjustedsegments0.130.000.12
linkvariants0.020.000.01
loopsquaremodel2.290.022.31
objectsampletotemplate000
postanalysisloop000
runACE000
singlemodel0.470.000.47
singleplot0.850.000.84
squaremodel4.810.004.82
squaremodelsummary4.500.014.51
templatefromequalsegments0.010.000.02
twosamplecompare2.960.022.97

ACE.Rcheck/examples_x64/ACE-Ex.timings

nameusersystemelapsed
ACEcall1.250.261.52
analyzegenomiclocations0.020.000.01
compresstemplate0.050.000.05
copyNumbersSegmented0.700.030.73
correlationmatrix0.100.000.09
forcesegmentsontemplate0.280.000.29
getadjustedsegments0.140.000.14
linkvariants0.010.000.01
loopsquaremodel2.710.062.77
objectsampletotemplate0.000.020.01
postanalysisloop000
runACE000
singlemodel0.680.020.71
singleplot1.300.011.31
squaremodel4.830.004.83
squaremodelsummary5.170.035.21
templatefromequalsegments0.030.000.03
twosamplecompare3.730.003.73