Back to Multiple platform build/check report for BioC 3.14
[A]BCDEFGHIJKLMNOPQRSTUVWXYZ

This page was generated on 2021-10-26 14:06:50 -0400 (Tue, 26 Oct 2021).

BUILD BIN results for ACE on riesling1

To the developers/maintainers of the ACE package:
- Please allow up to 24 hours (and sometimes 48 hours) for your latest push to git@git.bioconductor.org:packages/ACE.git to
reflect on this report. See How and When does the builder pull? When will my changes propagate? here for more information.
- Make sure to use the following settings in order to reproduce any error or warning you see on this page.

raw results

Package 12/2083HostnameOS / ArchINSTALLBUILDCHECKBUILD BIN
ACE 1.11.0  (landing page)
Jos B Poell
Snapshot Date: 2021-10-25 14:50:11 -0400 (Mon, 25 Oct 2021)
git_url: https://git.bioconductor.org/packages/ACE
git_branch: master
git_last_commit: 59fed3f
git_last_commit_date: 2021-05-19 12:36:49 -0400 (Wed, 19 May 2021)
nebbiolo2Linux (Ubuntu 20.04.2 LTS) / x86_64  OK    OK    OK  UNNEEDED, same version is already published
riesling1Windows Server 2019 Standard / x64  OK    OK    OK    OK  UNNEEDED, same version is already published
merida1macOS 10.14.6 Mojave / x86_64  OK    OK    OK    OK  UNNEEDED, same version is already published
machv2macOS 10.14.6 Mojave / x86_64  OK    OK    OK    OK  

Summary

Package: ACE
Version: 1.11.0
Command: rm -rf ACE.buildbin-libdir && mkdir ACE.buildbin-libdir && D:\biocbuild\bbs-3.14-bioc\R\bin\R.exe CMD INSTALL --merge-multiarch --build --library=ACE.buildbin-libdir ACE_1.11.0.tar.gz
StartedAt: 2021-10-26 05:04:33 -0400 (Tue, 26 Oct 2021)
EndedAt: 2021-10-26 05:05:03 -0400 (Tue, 26 Oct 2021)
EllapsedTime: 30.5 seconds
RetCode: 0
Status:   OK  
PackageFile: ACE_1.11.0.zip
PackageFileSize: 1.023 MiB

Command output

##############################################################################
##############################################################################
###
### Running command:
###
###   rm -rf ACE.buildbin-libdir && mkdir ACE.buildbin-libdir && D:\biocbuild\bbs-3.14-bioc\R\bin\R.exe CMD INSTALL --merge-multiarch --build --library=ACE.buildbin-libdir ACE_1.11.0.tar.gz
###
##############################################################################
##############################################################################



install for i386

* installing *source* package 'ACE' ...
** using staged installation
** R
** data
*** moving datasets to lazyload DB
** inst
** byte-compile and prepare package for lazy loading
** help
*** installing help indices
  converting help for package 'ACE'
    finding HTML links ... done
    ACE-package                             html  
    ACEcall                                 html  
    analyzegenomiclocations                 html  
    compresstemplate                        html  
    copyNumbersSegmented                    html  
    correlationmatrix                       html  
    forcesegmentsontemplate                 html  
    getadjustedsegments                     html  
    linkvariants                            html  
    loopsquaremodel                         html  
    objectsampletotemplate                  html  
    postanalysisloop                        html  
    runACE                                  html  
    segmentstotemplate                      html  
    singlemodel                             html  
    singleplot                              html  
    squaremodel                             html  
    squaremodelsummary                      html  
    templatefromequalsegments               html  
    twosamplecompare                        html  
** building package indices
** installing vignettes
** testing if installed package can be loaded from temporary location
** testing if installed package can be loaded from final location
** testing if installed package keeps a record of temporary installation path

install for x64

* installing *source* package 'ACE' ...
** testing if installed package can be loaded
* MD5 sums
packaged installation of 'ACE' as ACE_1.11.0.zip
* DONE (ACE)