Back to Multiple platform build/check report for BioC 3.14
[A]BCDEFGHIJKLMNOPQRSTUVWXYZ

This page was generated on 2021-10-25 14:06:03 -0400 (Mon, 25 Oct 2021).

BUILD BIN results for ABarray on riesling1

To the developers/maintainers of the ABarray package:
- Please allow up to 24 hours (and sometimes 48 hours) for your latest push to git@git.bioconductor.org:packages/ABarray.git to
reflect on this report. See How and When does the builder pull? When will my changes propagate? here for more information.
- Make sure to use the following settings in order to reproduce any error or warning you see on this page.

raw results

Package 8/2083HostnameOS / ArchINSTALLBUILDCHECKBUILD BIN
ABarray 1.61.0  (landing page)
Yongming Andrew Sun
Snapshot Date: 2021-10-24 14:50:04 -0400 (Sun, 24 Oct 2021)
git_url: https://git.bioconductor.org/packages/ABarray
git_branch: master
git_last_commit: c2c0669
git_last_commit_date: 2021-05-19 11:37:42 -0400 (Wed, 19 May 2021)
nebbiolo2Linux (Ubuntu 20.04.2 LTS) / x86_64  OK    OK    OK  UNNEEDED, same version is already published
riesling1Windows Server 2019 Standard / x64  OK    OK    OK    OK  UNNEEDED, same version is already published
merida1macOS 10.14.6 Mojave / x86_64  OK    OK    OK    OK  UNNEEDED, same version is already published
machv2macOS 10.14.6 Mojave / x86_64  OK    OK    OK    OK  

Summary

Package: ABarray
Version: 1.61.0
Command: rm -rf ABarray.buildbin-libdir && mkdir ABarray.buildbin-libdir && D:\biocbuild\bbs-3.14-bioc\R\bin\R.exe CMD INSTALL --merge-multiarch --build --library=ABarray.buildbin-libdir ABarray_1.61.0.tar.gz
StartedAt: 2021-10-25 04:22:20 -0400 (Mon, 25 Oct 2021)
EndedAt: 2021-10-25 04:25:39 -0400 (Mon, 25 Oct 2021)
EllapsedTime: 199.6 seconds
RetCode: 0
Status:   OK  
PackageFile: ABarray_1.61.0.zip
PackageFileSize: 632.9 KiB

Command output

##############################################################################
##############################################################################
###
### Running command:
###
###   rm -rf ABarray.buildbin-libdir && mkdir ABarray.buildbin-libdir && D:\biocbuild\bbs-3.14-bioc\R\bin\R.exe CMD INSTALL --merge-multiarch --build --library=ABarray.buildbin-libdir ABarray_1.61.0.tar.gz
###
##############################################################################
##############################################################################



install for i386

* installing *source* package 'ABarray' ...
** using staged installation
** R
** inst
** byte-compile and prepare package for lazy loading
** help
*** installing help indices
  converting help for package 'ABarray'
    finding HTML links ... done
    ABarray                                 html  
    ABarrayGUI                              html  
    calcsn                                  html  
    concord                                 html  
    cvv                                     html  
    cvvPlot                                 html  
    doANOVA                                 html  
    doLPE                                   html  
    doPlotEset                              html  
    doPlotFCT                               html  
    doVennDiagram                           html  
    drawVennDiagram                         html  
    getMemberEset                           html  
    getPantherMap                           html  
    hclusterPlot                            html  
    icpPlot                                 html  
    imputeFlag                              html  
    lpe.fdr.BH                              html  
    mamaplot                                html  
    matrixPlot                              html  
    mvaPair2                                html  
    panel.cor                               html  
    panel.scatter                           html  
    qnNormalize                             html  
    rgcolorsfunc                            html  
    savejpg                                 html  
    scaleColorBar                           html  
    snSummary                               html  
** building package indices
** installing vignettes
** testing if installed package can be loaded from temporary location
** testing if installed package can be loaded from final location
** testing if installed package keeps a record of temporary installation path

install for x64

* installing *source* package 'ABarray' ...
** testing if installed package can be loaded
* MD5 sums
packaged installation of 'ABarray' as ABarray_1.61.0.zip
* DONE (ABarray)