Back to Multiple platform build/check report for BioC 3.14
[A]BCDEFGHIJKLMNOPQRSTUVWXYZ

This page was generated on 2021-10-18 12:04:25 -0400 (Mon, 18 Oct 2021).

CHECK results for ABarray on merida1

To the developers/maintainers of the ABarray package:
- Please allow up to 24 hours (and sometimes 48 hours) for your latest push to git@git.bioconductor.org:packages/ABarray.git to
reflect on this report. See How and When does the builder pull? When will my changes propagate? here for more information.
- Make sure to use the following settings in order to reproduce any error or warning you see on this page.

raw results

Package 8/2060HostnameOS / ArchINSTALLBUILDCHECKBUILD BIN
ABarray 1.61.0  (landing page)
Yongming Andrew Sun
Snapshot Date: 2021-10-17 14:50:03 -0400 (Sun, 17 Oct 2021)
git_url: https://git.bioconductor.org/packages/ABarray
git_branch: master
git_last_commit: c2c0669
git_last_commit_date: 2021-05-19 11:37:42 -0400 (Wed, 19 May 2021)
nebbiolo2Linux (Ubuntu 20.04.2 LTS) / x86_64  OK    OK    OK  UNNEEDED, same version is already published
riesling1Windows Server 2019 Standard / x64  OK    OK    OK    OK  UNNEEDED, same version is already published
merida1macOS 10.14.6 Mojave / x86_64  OK    OK    OK    OK  UNNEEDED, same version is already published

Summary

Package: ABarray
Version: 1.61.0
Command: /Library/Frameworks/R.framework/Resources/bin/R CMD check --install=check:ABarray.install-out.txt --library=/Library/Frameworks/R.framework/Resources/library --no-vignettes --timings ABarray_1.61.0.tar.gz
StartedAt: 2021-10-18 00:38:08 -0400 (Mon, 18 Oct 2021)
EndedAt: 2021-10-18 00:39:50 -0400 (Mon, 18 Oct 2021)
EllapsedTime: 101.4 seconds
RetCode: 0
Status:   OK  
CheckDir: ABarray.Rcheck
Warnings: 0

Command output

##############################################################################
##############################################################################
###
### Running command:
###
###   /Library/Frameworks/R.framework/Resources/bin/R CMD check --install=check:ABarray.install-out.txt --library=/Library/Frameworks/R.framework/Resources/library --no-vignettes --timings ABarray_1.61.0.tar.gz
###
##############################################################################
##############################################################################


* using log directory ‘/Users/biocbuild/bbs-3.14-bioc/meat/ABarray.Rcheck’
* using R version 4.1.1 Patched (2021-08-22 r80813)
* using platform: x86_64-apple-darwin17.0 (64-bit)
* using session charset: UTF-8
* using option ‘--no-vignettes’
* checking for file ‘ABarray/DESCRIPTION’ ... OK
* this is package ‘ABarray’ version ‘1.61.0’
* checking package namespace information ... OK
* checking package dependencies ... OK
* checking if this is a source package ... OK
* checking if there is a namespace ... OK
* checking for hidden files and directories ... OK
* checking for portable file names ... OK
* checking for sufficient/correct file permissions ... OK
* checking whether package ‘ABarray’ can be installed ... OK
* checking installed package size ... OK
* checking package directory ... OK
* checking ‘build’ directory ... OK
* checking DESCRIPTION meta-information ... NOTE
Malformed Title field: should not end in a period.
* checking top-level files ... OK
* checking for left-over files ... OK
* checking index information ... OK
* checking package subdirectories ... OK
* checking R files for non-ASCII characters ... OK
* checking R files for syntax errors ... OK
* checking whether the package can be loaded ... OK
* checking whether the package can be loaded with stated dependencies ... OK
* checking whether the package can be unloaded cleanly ... OK
* checking whether the namespace can be loaded with stated dependencies ... OK
* checking whether the namespace can be unloaded cleanly ... OK
* checking dependencies in R code ... OK
* checking S3 generic/method consistency ... OK
* checking replacement functions ... OK
* checking foreign function calls ... OK
* checking R code for possible problems ... NOTE
ABarray: warning in read.table(dataFile, header = TRUE, sep = sep, nrow
  = 5000, colClasses = colRead): partial argument match of 'nrow' to
  'nrows'
ABarray: warning in read.table(dataFile, header = TRUE, sep = sep, nrow
  = 36000, colClasses = colRead, as.is = TRUE, check.names = FALSE,
  comment.char = "", na.string = c("NA", "MultipleValues", "Multiple
  Values")): partial argument match of 'na.string' to 'na.strings'
ABarray: warning in read.table(dataFile, header = TRUE, sep = sep, nrow
  = 36000, colClasses = colRead, as.is = TRUE, check.names = FALSE,
  comment.char = "", na.string = c("NA", "MultipleValues", "Multiple
  Values")): partial argument match of 'nrow' to 'nrows'
ABarray: warning in read.table(dataFile, header = TRUE, sep = sep, nrow
  = 36000, colClasses = colRead, check.names = FALSE, comment.char =
  "", na.string = c("NA", "MultipleValues", "Multiple Values")):
  partial argument match of 'na.string' to 'na.strings'
ABarray: warning in read.table(dataFile, header = TRUE, sep = sep, nrow
  = 36000, colClasses = colRead, check.names = FALSE, comment.char =
  "", na.string = c("NA", "MultipleValues", "Multiple Values")):
  partial argument match of 'nrow' to 'nrows'
ABarray: warning in dir.create(dataDir, showWarning = FALSE): partial
  argument match of 'showWarning' to 'showWarnings'
ABarray: warning in dir.create(pdfDir, showWarning = FALSE): partial
  argument match of 'showWarning' to 'showWarnings'
ABarray: warning in dir.create(jpgDir, showWarning = FALSE): partial
  argument match of 'showWarning' to 'showWarnings'
doLPE: warning in dir.create(dataDir, showWarning = FALSE): partial
  argument match of 'showWarning' to 'showWarnings'
doPlotEset: warning in dir.create(dataDir, showWarning = FALSE):
  partial argument match of 'showWarning' to 'showWarnings'
doPlotEset: warning in dir.create(pdfDir, showWarning = FALSE): partial
  argument match of 'showWarning' to 'showWarnings'
doPlotEset: warning in dir.create(jpgDir, showWarning = FALSE): partial
  argument match of 'showWarning' to 'showWarnings'
doPlotFCT: warning in dir.create(dataDir, showWarning = FALSE): partial
  argument match of 'showWarning' to 'showWarnings'
doPlotFCT: warning in dir.create(pdfDir, showWarning = FALSE): partial
  argument match of 'showWarning' to 'showWarnings'
doPlotFCT: warning in dir.create(jpgDir, showWarning = FALSE): partial
  argument match of 'showWarning' to 'showWarnings'
icpPlot: warning in jpeg(file = paste(jpgDir, fname, "_Heatmap.jpg",
  sep = ""), width = fWidth, height = fHeight): partial argument match
  of 'file' to 'filename'
ABarray: no visible binding for global variable ‘colSn’
ABarrayGUI : getImputeFunc: no visible binding for global variable
  ‘knnRbtn’
doLPE: no visible global function definition for ‘baseOlig.error’
doLPE: no visible global function definition for ‘lpe’
doVennDiagram: no visible global function definition for ‘vennCounts’
drawVennDiagram: no visible global function definition for ‘vennCounts’
getPantherMap: no visible binding for global variable ‘panther’
Undefined global functions or variables:
  baseOlig.error colSn knnRbtn lpe panther vennCounts
* checking Rd files ... NOTE
prepare_Rd: ABarrayGUI.Rd:12-13: Dropping empty section \arguments
prepare_Rd: calcsn.Rd:26-28: Dropping empty section \examples
prepare_Rd: cvv.Rd:22-24: Dropping empty section \examples
prepare_Rd: cvvPlot.Rd:24-26: Dropping empty section \examples
prepare_Rd: doVennDiagram.Rd:33-36: Dropping empty section \examples
prepare_Rd: getMemberEset.Rd:23-25: Dropping empty section \examples
prepare_Rd: getPantherMap.Rd:24-26: Dropping empty section \examples
prepare_Rd: hclusterPlot.Rd:27-29: Dropping empty section \examples
prepare_Rd: matrixPlot.Rd:32-34: Dropping empty section \examples
prepare_Rd: qnNormalize.Rd:52-54: Dropping empty section \examples
prepare_Rd: savejpg.Rd:26-28: Dropping empty section \examples
prepare_Rd: snSummary.Rd:22-25: Dropping empty section \examples
* checking Rd metadata ... OK
* checking Rd cross-references ... OK
* checking for missing documentation entries ... OK
* checking for code/documentation mismatches ... OK
* checking Rd \usage sections ... OK
* checking Rd contents ... OK
* checking for unstated dependencies in examples ... OK
* checking sizes of PDF files under ‘inst/doc’ ... OK
* checking files in ‘vignettes’ ... NOTE
The following directory looks like a leftover from 'knitr':
  ‘figure’
Please remove from your package.
* checking examples ... OK
* checking for unstated dependencies in vignettes ... OK
* checking package vignettes in ‘inst/doc’ ... OK
* checking running R code from vignettes ... SKIPPED
* checking re-building of vignette outputs ... SKIPPED
* checking PDF version of manual ... OK
* DONE

Status: 4 NOTEs
See
  ‘/Users/biocbuild/bbs-3.14-bioc/meat/ABarray.Rcheck/00check.log’
for details.



Installation output

ABarray.Rcheck/00install.out

##############################################################################
##############################################################################
###
### Running command:
###
###   /Library/Frameworks/R.framework/Resources/bin/R CMD INSTALL ABarray
###
##############################################################################
##############################################################################


* installing to library ‘/Library/Frameworks/R.framework/Versions/4.1/Resources/library’
* installing *source* package ‘ABarray’ ...
** using staged installation
** R
** byte-compile and prepare package for lazy loading
** help
*** installing help indices
** building package indices
** installing vignettes
** testing if installed package can be loaded from temporary location
** testing if installed package can be loaded from final location
** testing if installed package keeps a record of temporary installation path
* DONE (ABarray)

Tests output


Example timings

ABarray.Rcheck/ABarray-Ex.timings

nameusersystemelapsed
ABarray000
ABarrayGUI000
concord000
doANOVA000
doLPE000
doPlotEset000
doPlotFCT000
drawVennDiagram000
icpPlot000
imputeFlag0.0000.0010.000
lpe.fdr.BH000
mamaplot000
mvaPair2000
panel.cor0.0000.0000.001
panel.scatter000
rgcolorsfunc0.0020.0000.002
scaleColorBar000