Back to Multiple platform build/check report for BioC 3.14
[A]BCDEFGHIJKLMNOPQRSTUVWXYZ

This page was generated on 2021-10-18 12:03:57 -0400 (Mon, 18 Oct 2021).

CHECK results for ABSSeq on riesling1

To the developers/maintainers of the ABSSeq package:
- Please allow up to 24 hours (and sometimes 48 hours) for your latest push to git@git.bioconductor.org:packages/ABSSeq.git to
reflect on this report. See How and When does the builder pull? When will my changes propagate? here for more information.
- Make sure to use the following settings in order to reproduce any error or warning you see on this page.

raw results

Package 10/2060HostnameOS / ArchINSTALLBUILDCHECKBUILD BIN
ABSSeq 1.47.0  (landing page)
Wentao Yang
Snapshot Date: 2021-10-17 14:50:03 -0400 (Sun, 17 Oct 2021)
git_url: https://git.bioconductor.org/packages/ABSSeq
git_branch: master
git_last_commit: 0ecc079
git_last_commit_date: 2021-05-19 12:04:01 -0400 (Wed, 19 May 2021)
nebbiolo2Linux (Ubuntu 20.04.2 LTS) / x86_64  OK    OK    OK  UNNEEDED, same version is already published
riesling1Windows Server 2019 Standard / x64  OK    OK    OK    OK  UNNEEDED, same version is already published
merida1macOS 10.14.6 Mojave / x86_64  OK    OK    OK    OK  UNNEEDED, same version is already published

Summary

Package: ABSSeq
Version: 1.47.0
Command: D:\biocbuild\bbs-3.14-bioc\R\bin\R.exe CMD check --force-multiarch --install=check:ABSSeq.install-out.txt --library=D:\biocbuild\bbs-3.14-bioc\R\library --no-vignettes --timings ABSSeq_1.47.0.tar.gz
StartedAt: 2021-10-17 23:48:04 -0400 (Sun, 17 Oct 2021)
EndedAt: 2021-10-17 23:51:59 -0400 (Sun, 17 Oct 2021)
EllapsedTime: 235.5 seconds
RetCode: 0
Status:   OK  
CheckDir: ABSSeq.Rcheck
Warnings: 0

Command output

##############################################################################
##############################################################################
###
### Running command:
###
###   D:\biocbuild\bbs-3.14-bioc\R\bin\R.exe CMD check --force-multiarch --install=check:ABSSeq.install-out.txt --library=D:\biocbuild\bbs-3.14-bioc\R\library --no-vignettes --timings ABSSeq_1.47.0.tar.gz
###
##############################################################################
##############################################################################


* using log directory 'D:/biocbuild/bbs-3.14-bioc/meat/ABSSeq.Rcheck'
* using R version 4.1.1 (2021-08-10)
* using platform: x86_64-w64-mingw32 (64-bit)
* using session charset: ISO8859-1
* using option '--no-vignettes'
* checking for file 'ABSSeq/DESCRIPTION' ... OK
* checking extension type ... Package
* this is package 'ABSSeq' version '1.47.0'
* checking package namespace information ... OK
* checking package dependencies ... OK
* checking if this is a source package ... OK
* checking if there is a namespace ... OK
* checking for hidden files and directories ... OK
* checking for portable file names ... OK
* checking whether package 'ABSSeq' can be installed ... OK
* checking installed package size ... OK
* checking package directory ... OK
* checking 'build' directory ... OK
* checking DESCRIPTION meta-information ... OK
* checking top-level files ... OK
* checking for left-over files ... OK
* checking index information ... OK
* checking package subdirectories ... OK
* checking R files for non-ASCII characters ... OK
* checking R files for syntax errors ... OK
* loading checks for arch 'i386'
** checking whether the package can be loaded ... OK
** checking whether the package can be loaded with stated dependencies ... OK
** checking whether the package can be unloaded cleanly ... OK
** checking whether the namespace can be loaded with stated dependencies ... OK
** checking whether the namespace can be unloaded cleanly ... OK
* loading checks for arch 'x64'
** checking whether the package can be loaded ... OK
** checking whether the package can be loaded with stated dependencies ... OK
** checking whether the package can be unloaded cleanly ... OK
** checking whether the namespace can be loaded with stated dependencies ... OK
** checking whether the namespace can be unloaded cleanly ... OK
* checking dependencies in R code ... NOTE
'library' or 'require' call to 'edgeR' in package code.
  Please use :: or requireNamespace() instead.
  See section 'Suggested packages' in the 'Writing R Extensions' manual.
Package in Depends field not imported from: 'methods'
  These packages need to be imported from (in the NAMESPACE file)
  for when this namespace is loaded but not attached.
* checking S3 generic/method consistency ... OK
* checking replacement functions ... OK
* checking foreign function calls ... OK
* checking R code for possible problems ... NOTE
ABSDataSet: no visible global function definition for 'new'
ABSSeqlm: no visible global function definition for 'pnorm'
ABSSeqlm: no visible global function definition for 'p.adjust'
ReplaceOutliersByMAD: no visible global function definition for 'is'
ReplaceOutliersByMAD: no visible global function definition for
  'model.matrix'
ReplaceOutliersByMAD: no visible global function definition for
  'predict'
aFoldcomplexDesign: no visible binding for global variable 'sd'
aFoldcomplexDesign: no visible binding for global variable 'var'
aFoldcomplexDesign: no visible global function definition for 'sd'
callDEs: no visible global function definition for 'is'
callDEs: no visible binding for global variable 'p.adjust.methods'
callDEs: no visible global function definition for 'pnorm'
callDEs: no visible global function definition for 'pnbinom'
callDEs: no visible global function definition for 'p.adjust'
callParameter: no visible global function definition for 'is'
callParameter: no visible binding for global variable 'var'
callParameter: no visible global function definition for 'quantile'
callParameter: no visible global function definition for 'predict'
callParameter: no visible global function definition for 'model.matrix'
callParameterwithoutReplicates: no visible global function definition
  for 'is'
callParameterwithoutReplicates: no visible binding for global variable
  'sd'
callParameterwithoutReplicates: no visible global function definition
  for 'predict'
callParameterwithoutReplicates: no visible binding for global variable
  'var'
callParameterwithoutReplicates: no visible global function definition
  for 'quantile'
callParameterwithoutReplicates: no visible global function definition
  for 'model.matrix'
callPergroup: no visible binding for global variable 'var'
estimateSizeFactorsForMatrix: no visible binding for global variable
  'median'
genAFold: no visible binding for global variable 'var'
genAFold: no visible binding for global variable 'sd'
genAFold: no visible global function definition for 'sd'
normalFactors: no visible global function definition for 'is'
normalFactors: no visible global function definition for 'validObject'
normalFactors : rowQuar: no visible global function definition for
  'quantile'
normalFactors: no visible global function definition for
  'calcNormFactors'
plotDifftoBase: no visible global function definition for 'is'
preAFold: no visible global function definition for 'quantile'
preAFold: no visible global function definition for 'var'
preAFold: no visible global function definition for 'predict'
preAFoldComplex: no visible global function definition for 'quantile'
preAFoldComplex: no visible global function definition for 'var'
preAFoldComplex: no visible global function definition for 'predict'
qtotalNormalized : rowQuar: no visible global function definition for
  'quantile'
qtotalNormalized : rowQuar: no visible global function definition for
  'sd'
qtotalNormalized : rowQuar: no visible global function definition for
  'median'
qtotalNormalized : rowQuar : <anonymous>: no visible global function
  definition for 'median'
replaceByrow: no visible global function definition for 'median'
replaceByrow: no visible global function definition for 'mad'
LevelstoNormFC<-,ABSDataSet-numeric: no visible global function
  definition for 'validObject'
[[<-,SumInfo-character-missing: no visible global function definition
  for 'as'
counts<-,ABSDataSet-matrix: no visible global function definition for
  'validObject'
excounts<-,ABSDataSet-matrix: no visible global function definition for
  'validObject'
groups<-,ABSDataSet-factor: no visible global function definition for
  'validObject'
maxRates<-,ABSDataSet-numeric: no visible global function definition
  for 'validObject'
minRates<-,ABSDataSet-numeric: no visible global function definition
  for 'validObject'
minimalDispersion<-,ABSDataSet-numeric: no visible global function
  definition for 'validObject'
normMethod<-,ABSDataSet-character: no visible global function
  definition for 'validObject'
paired<-,ABSDataSet-logical: no visible global function definition for
  'validObject'
sFactors<-,ABSDataSet-numeric: no visible global function definition
  for 'validObject'
Undefined global functions or variables:
  as calcNormFactors is mad median model.matrix new p.adjust
  p.adjust.methods pnbinom pnorm predict quantile sd validObject var
Consider adding
  importFrom("methods", "as", "is", "new", "validObject")
  importFrom("stats", "mad", "median", "model.matrix", "p.adjust",
             "p.adjust.methods", "pnbinom", "pnorm", "predict",
             "quantile", "sd", "var")
to your NAMESPACE file (and ensure that your DESCRIPTION Imports field
contains 'methods').
* checking Rd files ... OK
* checking Rd metadata ... OK
* checking Rd cross-references ... OK
* checking for missing documentation entries ... OK
* checking for code/documentation mismatches ... OK
* checking Rd \usage sections ... OK
* checking Rd contents ... OK
* checking for unstated dependencies in examples ... OK
* checking contents of 'data' directory ... OK
* checking data for non-ASCII characters ... OK
* checking data for ASCII and uncompressed saves ... OK
* checking files in 'vignettes' ... OK
* checking examples ...
** running examples for arch 'i386' ... OK
Examples with CPU (user + system) or elapsed time > 5s
                     user system elapsed
ABSSeq               9.33   0.03    9.36
callDEs              9.26   0.05    9.31
results              8.81   0.00    8.81
plotDifftoBase       8.25   0.04    8.28
callParameter        7.81   0.00    7.81
ReplaceOutliersByMAD 6.37   0.00    6.38
ABSSeqlm             6.13   0.00    6.13
excounts             6.00   0.02    6.02
** running examples for arch 'x64' ... OK
Examples with CPU (user + system) or elapsed time > 5s
                     user system elapsed
plotDifftoBase       7.65   0.00    7.66
callParameter        7.51   0.02    7.53
results              7.45   0.01    7.47
callDEs              6.53   0.00    6.53
ABSSeq               6.33   0.03    6.36
excounts             6.05   0.01    6.06
ReplaceOutliersByMAD 5.15   0.00    5.15
* checking for unstated dependencies in vignettes ... OK
* checking package vignettes in 'inst/doc' ... OK
* checking running R code from vignettes ... SKIPPED
* checking re-building of vignette outputs ... SKIPPED
* checking PDF version of manual ... OK
* DONE

Status: 2 NOTEs
See
  'D:/biocbuild/bbs-3.14-bioc/meat/ABSSeq.Rcheck/00check.log'
for details.



Installation output

ABSSeq.Rcheck/00install.out

##############################################################################
##############################################################################
###
### Running command:
###
###   C:\cygwin\bin\curl.exe -O http://155.52.207.166/BBS/3.14/bioc/src/contrib/ABSSeq_1.47.0.tar.gz && rm -rf ABSSeq.buildbin-libdir && mkdir ABSSeq.buildbin-libdir && D:\biocbuild\bbs-3.14-bioc\R\bin\R.exe CMD INSTALL --merge-multiarch --build --library=ABSSeq.buildbin-libdir ABSSeq_1.47.0.tar.gz && D:\biocbuild\bbs-3.14-bioc\R\bin\R.exe CMD INSTALL ABSSeq_1.47.0.zip && rm ABSSeq_1.47.0.tar.gz ABSSeq_1.47.0.zip
###
##############################################################################
##############################################################################


  % Total    % Received % Xferd  Average Speed   Time    Time     Time  Current
                                 Dload  Upload   Total   Spent    Left  Speed

  0     0    0     0    0     0      0      0 --:--:-- --:--:-- --:--:--     0
100  225k  100  225k    0     0   995k      0 --:--:-- --:--:-- --:--:--  995k

install for i386

* installing *source* package 'ABSSeq' ...
** using staged installation
** R
** data
** inst
** byte-compile and prepare package for lazy loading
** help
*** installing help indices
  converting help for package 'ABSSeq'
    finding HTML links ... done
    ABSDataSet                              html  
    ABSSeq                                  html  
    ABSSeqlm                                html  
    LevelstoNormFC                          html  
    ReplaceOutliersByMAD                    html  
    aFoldcomplexDesign                      html  
    callDEs                                 html  
    callParameter                           html  
    callParameterwithoutReplicates          html  
    counts                                  html  
    estimateSizeFactorsForMatrix            html  
    excounts                                html  
    genAFold                                html  
    groups                                  html  
    maxRates                                html  
    minRates                                html  
    minimalDispersion                       html  
    normMethod                              html  
    normalFactors                           html  
    paired                                  html  
    plotDifftoBase                          html  
    qtotalNormalized                        html  
    results                                 html  
    sFactors                                html  
    simuN5                                  html  
** building package indices
** installing vignettes
** testing if installed package can be loaded from temporary location
** testing if installed package can be loaded from final location
** testing if installed package keeps a record of temporary installation path

install for x64

* installing *source* package 'ABSSeq' ...
** testing if installed package can be loaded
* MD5 sums
packaged installation of 'ABSSeq' as ABSSeq_1.47.0.zip
* DONE (ABSSeq)
* installing to library 'D:/biocbuild/bbs-3.14-bioc/R/library'
package 'ABSSeq' successfully unpacked and MD5 sums checked

Tests output


Example timings

ABSSeq.Rcheck/examples_i386/ABSSeq-Ex.timings

nameusersystemelapsed
ABSDataSet0.080.000.08
ABSSeq9.330.039.36
ABSSeqlm6.130.006.13
LevelstoNormFC0.030.000.03
ReplaceOutliersByMAD6.370.006.38
aFoldcomplexDesign3.320.003.31
callDEs9.260.059.31
callParameter7.810.007.81
callParameterwithoutReplicates1.070.021.08
counts0.030.010.05
estimateSizeFactorsForMatrix0.040.000.04
excounts6.000.026.02
genAFold3.190.003.19
groups0.050.000.04
maxRates0.010.010.04
minRates0.040.000.03
minimalDispersion0.040.020.06
normMethod0.050.000.05
normalFactors2.470.012.48
paired0.030.000.03
plotDifftoBase8.250.048.28
qtotalNormalized2.810.012.83
results8.810.008.81
sFactors2.540.002.54
simuN50.030.000.03

ABSSeq.Rcheck/examples_x64/ABSSeq-Ex.timings

nameusersystemelapsed
ABSDataSet0.060.000.06
ABSSeq6.330.036.36
ABSSeqlm4.500.034.53
LevelstoNormFC0.020.020.04
ReplaceOutliersByMAD5.150.005.15
aFoldcomplexDesign2.600.012.61
callDEs6.530.006.53
callParameter7.510.027.53
callParameterwithoutReplicates1.160.001.16
counts0.030.000.03
estimateSizeFactorsForMatrix0.030.020.05
excounts6.050.016.06
genAFold2.940.032.97
groups0.030.000.03
maxRates0.030.000.03
minRates0.010.020.03
minimalDispersion0.040.000.03
normMethod0.040.000.05
normalFactors2.170.002.17
paired0.040.000.03
plotDifftoBase7.650.007.66
qtotalNormalized2.30.02.3
results7.450.017.47
sFactors2.470.002.46
simuN50.020.020.04