Back to Multiple platform build/check report for BioC 3.14
[A]BCDEFGHIJKLMNOPQRSTUVWXYZ

This page was generated on 2021-10-25 14:06:03 -0400 (Mon, 25 Oct 2021).

BUILD BIN results for ABSSeq on riesling1

To the developers/maintainers of the ABSSeq package:
- Please allow up to 24 hours (and sometimes 48 hours) for your latest push to git@git.bioconductor.org:packages/ABSSeq.git to
reflect on this report. See How and When does the builder pull? When will my changes propagate? here for more information.
- Make sure to use the following settings in order to reproduce any error or warning you see on this page.

raw results

Package 10/2083HostnameOS / ArchINSTALLBUILDCHECKBUILD BIN
ABSSeq 1.47.0  (landing page)
Wentao Yang
Snapshot Date: 2021-10-24 14:50:04 -0400 (Sun, 24 Oct 2021)
git_url: https://git.bioconductor.org/packages/ABSSeq
git_branch: master
git_last_commit: 0ecc079
git_last_commit_date: 2021-05-19 12:04:01 -0400 (Wed, 19 May 2021)
nebbiolo2Linux (Ubuntu 20.04.2 LTS) / x86_64  OK    OK    OK  UNNEEDED, same version is already published
riesling1Windows Server 2019 Standard / x64  OK    OK    OK    OK  UNNEEDED, same version is already published
merida1macOS 10.14.6 Mojave / x86_64  OK    OK    OK    OK  UNNEEDED, same version is already published
machv2macOS 10.14.6 Mojave / x86_64  OK    OK    OK    OK  

Summary

Package: ABSSeq
Version: 1.47.0
Command: rm -rf ABSSeq.buildbin-libdir && mkdir ABSSeq.buildbin-libdir && D:\biocbuild\bbs-3.14-bioc\R\bin\R.exe CMD INSTALL --merge-multiarch --build --library=ABSSeq.buildbin-libdir ABSSeq_1.47.0.tar.gz
StartedAt: 2021-10-25 04:22:20 -0400 (Mon, 25 Oct 2021)
EndedAt: 2021-10-25 04:25:52 -0400 (Mon, 25 Oct 2021)
EllapsedTime: 212.5 seconds
RetCode: 0
Status:   OK  
PackageFile: ABSSeq_1.47.0.zip
PackageFileSize: 1.296 MiB

Command output

##############################################################################
##############################################################################
###
### Running command:
###
###   rm -rf ABSSeq.buildbin-libdir && mkdir ABSSeq.buildbin-libdir && D:\biocbuild\bbs-3.14-bioc\R\bin\R.exe CMD INSTALL --merge-multiarch --build --library=ABSSeq.buildbin-libdir ABSSeq_1.47.0.tar.gz
###
##############################################################################
##############################################################################



install for i386

* installing *source* package 'ABSSeq' ...
** using staged installation
** R
** data
** inst
** byte-compile and prepare package for lazy loading
** help
*** installing help indices
  converting help for package 'ABSSeq'
    finding HTML links ... done
    ABSDataSet                              html  
    ABSSeq                                  html  
    ABSSeqlm                                html  
    LevelstoNormFC                          html  
    ReplaceOutliersByMAD                    html  
    aFoldcomplexDesign                      html  
    callDEs                                 html  
    callParameter                           html  
    callParameterwithoutReplicates          html  
    counts                                  html  
    estimateSizeFactorsForMatrix            html  
    excounts                                html  
    genAFold                                html  
    groups                                  html  
    maxRates                                html  
    minRates                                html  
    minimalDispersion                       html  
    normMethod                              html  
    normalFactors                           html  
    paired                                  html  
    plotDifftoBase                          html  
    qtotalNormalized                        html  
    results                                 html  
    sFactors                                html  
    simuN5                                  html  
** building package indices
** installing vignettes
** testing if installed package can be loaded from temporary location
** testing if installed package can be loaded from final location
** testing if installed package keeps a record of temporary installation path

install for x64

* installing *source* package 'ABSSeq' ...
** testing if installed package can be loaded
* MD5 sums
packaged installation of 'ABSSeq' as ABSSeq_1.47.0.zip
* DONE (ABSSeq)