Back to Multiple platform build/check report for BioC 3.14
[A]BCDEFGHIJKLMNOPQRSTUVWXYZ

This page was generated on 2021-12-06 13:05:48 -0500 (Mon, 06 Dec 2021).

CHECK results for ABSSeq on machv2

To the developers/maintainers of the ABSSeq package:
- Please allow up to 24 hours (and sometimes 48 hours) for your latest push to git@git.bioconductor.org:packages/ABSSeq.git to
reflect on this report. See How and When does the builder pull? When will my changes propagate? here for more information.
- Make sure to use the following settings in order to reproduce any error or warning you see on this page.

raw results

Package 10/2083HostnameOS / ArchINSTALLBUILDCHECKBUILD BIN
ABSSeq 1.48.0  (landing page)
Wentao Yang
Snapshot Date: 2021-12-05 01:55:05 -0500 (Sun, 05 Dec 2021)
git_url: https://git.bioconductor.org/packages/ABSSeq
git_branch: RELEASE_3_14
git_last_commit: b237c96
git_last_commit_date: 2021-10-26 12:12:45 -0500 (Tue, 26 Oct 2021)
nebbiolo2Linux (Ubuntu 20.04.3 LTS) / x86_64  OK    OK    OK  UNNEEDED, same version is already published
tokay2Windows Server 2012 R2 Standard / x64  OK    OK    OK    OK  UNNEEDED, same version is already published
machv2macOS 10.14.6 Mojave / x86_64  OK    OK    OK    OK  UNNEEDED, same version is already published

Summary

Package: ABSSeq
Version: 1.48.0
Command: /Library/Frameworks/R.framework/Resources/bin/R CMD check --install=check:ABSSeq.install-out.txt --library=/Library/Frameworks/R.framework/Resources/library --no-vignettes --timings ABSSeq_1.48.0.tar.gz
StartedAt: 2021-12-05 11:35:15 -0500 (Sun, 05 Dec 2021)
EndedAt: 2021-12-05 11:38:26 -0500 (Sun, 05 Dec 2021)
EllapsedTime: 191.1 seconds
RetCode: 0
Status:   OK  
CheckDir: ABSSeq.Rcheck
Warnings: 0

Command output

##############################################################################
##############################################################################
###
### Running command:
###
###   /Library/Frameworks/R.framework/Resources/bin/R CMD check --install=check:ABSSeq.install-out.txt --library=/Library/Frameworks/R.framework/Resources/library --no-vignettes --timings ABSSeq_1.48.0.tar.gz
###
##############################################################################
##############################################################################


* using log directory ‘/Users/biocbuild/bbs-3.14-bioc/meat/ABSSeq.Rcheck’
* using R version 4.1.2 (2021-11-01)
* using platform: x86_64-apple-darwin17.0 (64-bit)
* using session charset: UTF-8
* using option ‘--no-vignettes’
* checking for file ‘ABSSeq/DESCRIPTION’ ... OK
* checking extension type ... Package
* this is package ‘ABSSeq’ version ‘1.48.0’
* checking package namespace information ... OK
* checking package dependencies ... OK
* checking if this is a source package ... OK
* checking if there is a namespace ... OK
* checking for hidden files and directories ... OK
* checking for portable file names ... OK
* checking for sufficient/correct file permissions ... OK
* checking whether package ‘ABSSeq’ can be installed ... OK
* checking installed package size ... OK
* checking package directory ... OK
* checking ‘build’ directory ... OK
* checking DESCRIPTION meta-information ... OK
* checking top-level files ... OK
* checking for left-over files ... OK
* checking index information ... OK
* checking package subdirectories ... OK
* checking R files for non-ASCII characters ... OK
* checking R files for syntax errors ... OK
* checking whether the package can be loaded ... OK
* checking whether the package can be loaded with stated dependencies ... OK
* checking whether the package can be unloaded cleanly ... OK
* checking whether the namespace can be loaded with stated dependencies ... OK
* checking whether the namespace can be unloaded cleanly ... OK
* checking dependencies in R code ... NOTE
'library' or 'require' call to ‘edgeR’ in package code.
  Please use :: or requireNamespace() instead.
  See section 'Suggested packages' in the 'Writing R Extensions' manual.
Package in Depends field not imported from: ‘methods’
  These packages need to be imported from (in the NAMESPACE file)
  for when this namespace is loaded but not attached.
* checking S3 generic/method consistency ... OK
* checking replacement functions ... OK
* checking foreign function calls ... OK
* checking R code for possible problems ... NOTE
ABSDataSet: no visible global function definition for ‘new’
ABSSeqlm: no visible global function definition for ‘pnorm’
ABSSeqlm: no visible global function definition for ‘p.adjust’
ReplaceOutliersByMAD: no visible global function definition for ‘is’
ReplaceOutliersByMAD: no visible global function definition for
  ‘model.matrix’
ReplaceOutliersByMAD: no visible global function definition for
  ‘predict’
aFoldcomplexDesign: no visible binding for global variable ‘sd’
aFoldcomplexDesign: no visible binding for global variable ‘var’
aFoldcomplexDesign: no visible global function definition for ‘sd’
callDEs: no visible global function definition for ‘is’
callDEs: no visible binding for global variable ‘p.adjust.methods’
callDEs: no visible global function definition for ‘pnorm’
callDEs: no visible global function definition for ‘pnbinom’
callDEs: no visible global function definition for ‘p.adjust’
callParameter: no visible global function definition for ‘is’
callParameter: no visible binding for global variable ‘var’
callParameter: no visible global function definition for ‘quantile’
callParameter: no visible global function definition for ‘predict’
callParameter: no visible global function definition for ‘model.matrix’
callParameterwithoutReplicates: no visible global function definition
  for ‘is’
callParameterwithoutReplicates: no visible binding for global variable
  ‘sd’
callParameterwithoutReplicates: no visible global function definition
  for ‘predict’
callParameterwithoutReplicates: no visible binding for global variable
  ‘var’
callParameterwithoutReplicates: no visible global function definition
  for ‘quantile’
callParameterwithoutReplicates: no visible global function definition
  for ‘model.matrix’
callPergroup: no visible binding for global variable ‘var’
estimateSizeFactorsForMatrix: no visible binding for global variable
  ‘median’
genAFold: no visible binding for global variable ‘var’
genAFold: no visible binding for global variable ‘sd’
genAFold: no visible global function definition for ‘sd’
normalFactors: no visible global function definition for ‘is’
normalFactors: no visible global function definition for ‘validObject’
normalFactors : rowQuar: no visible global function definition for
  ‘quantile’
normalFactors: no visible global function definition for
  ‘calcNormFactors’
plotDifftoBase: no visible global function definition for ‘is’
preAFold: no visible global function definition for ‘quantile’
preAFold: no visible global function definition for ‘var’
preAFold: no visible global function definition for ‘predict’
preAFoldComplex: no visible global function definition for ‘quantile’
preAFoldComplex: no visible global function definition for ‘var’
preAFoldComplex: no visible global function definition for ‘predict’
qtotalNormalized : rowQuar: no visible global function definition for
  ‘quantile’
qtotalNormalized : rowQuar: no visible global function definition for
  ‘sd’
qtotalNormalized : rowQuar: no visible global function definition for
  ‘median’
qtotalNormalized : rowQuar : <anonymous>: no visible global function
  definition for ‘median’
replaceByrow: no visible global function definition for ‘median’
replaceByrow: no visible global function definition for ‘mad’
LevelstoNormFC<-,ABSDataSet-numeric: no visible global function
  definition for ‘validObject’
[[<-,SumInfo-character-missing: no visible global function definition
  for ‘as’
counts<-,ABSDataSet-matrix: no visible global function definition for
  ‘validObject’
excounts<-,ABSDataSet-matrix: no visible global function definition for
  ‘validObject’
groups<-,ABSDataSet-factor: no visible global function definition for
  ‘validObject’
maxRates<-,ABSDataSet-numeric: no visible global function definition
  for ‘validObject’
minRates<-,ABSDataSet-numeric: no visible global function definition
  for ‘validObject’
minimalDispersion<-,ABSDataSet-numeric: no visible global function
  definition for ‘validObject’
normMethod<-,ABSDataSet-character: no visible global function
  definition for ‘validObject’
paired<-,ABSDataSet-logical: no visible global function definition for
  ‘validObject’
sFactors<-,ABSDataSet-numeric: no visible global function definition
  for ‘validObject’
Undefined global functions or variables:
  as calcNormFactors is mad median model.matrix new p.adjust
  p.adjust.methods pnbinom pnorm predict quantile sd validObject var
Consider adding
  importFrom("methods", "as", "is", "new", "validObject")
  importFrom("stats", "mad", "median", "model.matrix", "p.adjust",
             "p.adjust.methods", "pnbinom", "pnorm", "predict",
             "quantile", "sd", "var")
to your NAMESPACE file (and ensure that your DESCRIPTION Imports field
contains 'methods').
* checking Rd files ... OK
* checking Rd metadata ... OK
* checking Rd cross-references ... OK
* checking for missing documentation entries ... OK
* checking for code/documentation mismatches ... OK
* checking Rd \usage sections ... OK
* checking Rd contents ... OK
* checking for unstated dependencies in examples ... OK
* checking contents of ‘data’ directory ... OK
* checking data for non-ASCII characters ... OK
* checking data for ASCII and uncompressed saves ... OK
* checking sizes of PDF files under ‘inst/doc’ ... OK
* checking files in ‘vignettes’ ... OK
* checking examples ... OK
Examples with CPU (user + system) or elapsed time > 5s
                       user system elapsed
ABSSeq               14.431  1.192  15.639
callDEs              14.642  0.886  15.547
plotDifftoBase       14.574  0.760  15.345
results              14.348  0.831  15.191
callParameter        14.437  0.726  15.187
excounts             11.092  0.718  11.867
ReplaceOutliersByMAD 10.420  0.750  11.176
ABSSeqlm              8.561  0.884   9.456
genAFold              5.882  0.465   6.403
aFoldcomplexDesign    5.596  0.438   6.041
* checking for unstated dependencies in vignettes ... OK
* checking package vignettes in ‘inst/doc’ ... OK
* checking running R code from vignettes ... SKIPPED
* checking re-building of vignette outputs ... SKIPPED
* checking PDF version of manual ... OK
* DONE

Status: 2 NOTEs
See
  ‘/Users/biocbuild/bbs-3.14-bioc/meat/ABSSeq.Rcheck/00check.log’
for details.



Installation output

ABSSeq.Rcheck/00install.out

##############################################################################
##############################################################################
###
### Running command:
###
###   /Library/Frameworks/R.framework/Resources/bin/R CMD INSTALL ABSSeq
###
##############################################################################
##############################################################################


* installing to library ‘/Library/Frameworks/R.framework/Versions/4.1/Resources/library’
* installing *source* package ‘ABSSeq’ ...
** using staged installation
** R
** data
** inst
** byte-compile and prepare package for lazy loading
** help
*** installing help indices
** building package indices
** installing vignettes
** testing if installed package can be loaded from temporary location
** testing if installed package can be loaded from final location
** testing if installed package keeps a record of temporary installation path
* DONE (ABSSeq)

Tests output


Example timings

ABSSeq.Rcheck/ABSSeq-Ex.timings

nameusersystemelapsed
ABSDataSet0.0750.0010.076
ABSSeq14.431 1.19215.639
ABSSeqlm8.5610.8849.456
LevelstoNormFC0.0530.0030.056
ReplaceOutliersByMAD10.420 0.75011.176
aFoldcomplexDesign5.5960.4386.041
callDEs14.642 0.88615.547
callParameter14.437 0.72615.187
callParameterwithoutReplicates2.1280.0692.199
counts0.0340.0020.036
estimateSizeFactorsForMatrix0.0450.0020.046
excounts11.092 0.71811.867
genAFold5.8820.4656.403
groups0.0440.0020.045
maxRates0.0460.0020.048
minRates0.0430.0020.045
minimalDispersion0.0490.0010.052
normMethod0.0370.0010.039
normalFactors3.0220.3543.379
paired0.0450.0020.047
plotDifftoBase14.574 0.76015.345
qtotalNormalized3.2320.5193.753
results14.348 0.83115.191
sFactors3.1130.2753.392
simuN50.0350.0020.037