Back to Build/check report for BioC 3.13 experimental data
ABCDEFGHIJKLMNOPQRSTUVWX[Y]Z

This page was generated on 2021-06-19 15:59:20 -0400 (Sat, 19 Jun 2021).

All results for package yeastExpData

To the developers/maintainers of the yeastExpData package:
Make sure to use the following settings in order to reproduce any error or warning you see on this page.

raw results

Package 401/406HostnameOS / ArchINSTALLBUILDCHECK
yeastExpData 0.38.0  (landing page)
R. Gentleman
Snapshot Date: 2021-06-19 09:30:06 -0400 (Sat, 19 Jun 2021)
URL: https://git.bioconductor.org/packages/yeastExpData
Branch: RELEASE_3_13
Last Commit: 4f4384f
Last Changed Date: 2021-05-19 11:26:03 -0400 (Wed, 19 May 2021)
malbec2Linux (Ubuntu 20.04.2 LTS) / x86_64  OK    OK    WARNINGS  UNNEEDED, same version is already published