Back to Build/check report for BioC 3.13 experimental data
ABCDEFGHIJKLMNOPQRS[T]UVWXYZ

This page was generated on 2021-07-31 16:01:43 -0400 (Sat, 31 Jul 2021).

All results for package TENxBrainData

To the developers/maintainers of the TENxBrainData package:
Make sure to use the following settings in order to reproduce any error or warning you see on this page.

raw results

Package 381/406HostnameOS / ArchINSTALLBUILDCHECK
TENxBrainData 1.12.0  (landing page)
Bioconductor Package Maintainer
Snapshot Date: 2021-07-31 09:30:04 -0400 (Sat, 31 Jul 2021)
URL: https://git.bioconductor.org/packages/TENxBrainData
Branch: RELEASE_3_13
Last Commit: ed94852
Last Changed Date: 2021-05-19 12:03:42 -0400 (Wed, 19 May 2021)
malbec2Linux (Ubuntu 20.04.2 LTS) / x86_64  OK    OK    OK  UNNEEDED, same version is already published